BEGIN:VCALENDAR
VERSION:2.0
PRODID:-//Princeville Center - ECPv6.15.20//NONSGML v1.0//EN
CALSCALE:GREGORIAN
METHOD:PUBLISH
X-ORIGINAL-URL:https://www.princevillecenter.com
X-WR-CALDESC:Events for Princeville Center
REFRESH-INTERVAL;VALUE=DURATION:PT1H
X-Robots-Tag:noindex
X-PUBLISHED-TTL:PT1H
BEGIN:VTIMEZONE
TZID:Pacific/Honolulu
BEGIN:STANDARD
TZOFFSETFROM:-1000
TZOFFSETTO:-1000
TZNAME:HST
DTSTART:20250101T000000
END:STANDARD
END:VTIMEZONE
BEGIN:VEVENT
DTSTART;TZID=Pacific/Honolulu:20260213T110000
DTEND;TZID=Pacific/Honolulu:20260213T123000
DTSTAMP:20260424T032105
CREATED:20260123T235745Z
LAST-MODIFIED:20260127T194743Z
UID:10000646-1770980400-1770985800@www.princevillecenter.com
SUMMARY:Lunar New Year Celebration 2026
DESCRIPTION:Lunar New Year Celebration \nFriday\, February 13th | 11:00 AM | Princeville Center\nKung Hei Fat Choy! \nFeeding the Lion \n2026 marks the Year of the Horse! Join us at Princeville Center with Saam Fu Chinese Cultural Arts to ring in the new lunar year. It’s a one-of-a-kind event that’s sure to bring a smile to your face! \nExperience the Chinese Lion Dance as they parade around the Center starting at the Food Court. Feed the Lion donations for good fortune. Lion dancing is one of the great traditions that people love during Chinese New Year. We are honored to host this culture & art as Hawaii celebrates. We hope to see you out there! \nThis energetic cultural event will delight children and adults alike as the Lion roams the Center. This event is the perfect way to immerse yourself in Chinese culture and start off the new year with good luck and purpose. 2026 is the Year of the Fire Horse\, the seventh animal on the 12-year cycle. This animal is meant to symbolizes change\, energy\, movement\, and passion. \nSaam Fu wishes you good luck\, health and prosperity for the coming year. \nMark your calendar and bring your family and friends! See you there! \nSaam Fu Chinese Cultural Arts \nChinese New Year Lion interacts with kids. \nLions parade for good fortune.
URL:https://www.princevillecenter.com/event/chinese-new-year-celebration-2026/
LOCATION:Princeville Shopping Center
CATEGORIES:Princeville Shopping Center
ATTACH;FMTTYPE=image/jpeg:https://www.princevillecenter.com/wp-content/uploads/2025/01/CNY_CulturalPlaza_02_01_2014_Opening-27.jpg
END:VEVENT
END:VCALENDAR