BEGIN:VCALENDAR
VERSION:2.0
PRODID:-//Princeville Center - ECPv6.15.20//NONSGML v1.0//EN
CALSCALE:GREGORIAN
METHOD:PUBLISH
X-WR-CALNAME:Princeville Center
X-ORIGINAL-URL:https://www.princevillecenter.com
X-WR-CALDESC:Events for Princeville Center
REFRESH-INTERVAL;VALUE=DURATION:PT1H
X-Robots-Tag:noindex
X-PUBLISHED-TTL:PT1H
BEGIN:VTIMEZONE
TZID:Pacific/Honolulu
BEGIN:STANDARD
TZOFFSETFROM:-1000
TZOFFSETTO:-1000
TZNAME:HST
DTSTART:20250101T000000
END:STANDARD
END:VTIMEZONE
BEGIN:VEVENT
DTSTART;TZID=Pacific/Honolulu:20260425T133000
DTEND;TZID=Pacific/Honolulu:20260425T143000
DTSTAMP:20260423T024140
CREATED:20250916T023840Z
LAST-MODIFIED:20250916T024007Z
UID:10000416-1777123800-1777127400@www.princevillecenter.com
SUMMARY:FREE SATURDAY HULA SHOW
DESCRIPTION:Enjoy a cultural experience like no other during our weekly Hula Show. Performers use music\, chanting\, and movement to tell the story of Kaua‘i. Aunty Bev’s Hula Halau takes the stage every Saturday from 1:30 – 2:30pm at the Food Court.
URL:https://www.princevillecenter.com/event/free-saturday-hula-shows-3-3-2/2026-04-25/
LOCATION:Princeville Shopping Center\, Food Court
CATEGORIES:Hula,Princeville Shopping Center
ATTACH;FMTTYPE=image/jpeg:https://www.princevillecenter.com/wp-content/uploads/2022/09/hula-shows-princeville-center.jpg
END:VEVENT
BEGIN:VEVENT
DTSTART;TZID=Pacific/Honolulu:20260502T133000
DTEND;TZID=Pacific/Honolulu:20260502T143000
DTSTAMP:20260423T024140
CREATED:20250916T023840Z
LAST-MODIFIED:20250916T024007Z
UID:10000417-1777728600-1777732200@www.princevillecenter.com
SUMMARY:FREE SATURDAY HULA SHOW
DESCRIPTION:Enjoy a cultural experience like no other during our weekly Hula Show. Performers use music\, chanting\, and movement to tell the story of Kaua‘i. Aunty Bev’s Hula Halau takes the stage every Saturday from 1:30 – 2:30pm at the Food Court.
URL:https://www.princevillecenter.com/event/free-saturday-hula-shows-3-3-2/2026-05-02/
LOCATION:Princeville Shopping Center\, Food Court
CATEGORIES:Hula,Princeville Shopping Center
ATTACH;FMTTYPE=image/jpeg:https://www.princevillecenter.com/wp-content/uploads/2022/09/hula-shows-princeville-center.jpg
END:VEVENT
BEGIN:VEVENT
DTSTART;TZID=Pacific/Honolulu:20260509T133000
DTEND;TZID=Pacific/Honolulu:20260509T143000
DTSTAMP:20260423T024140
CREATED:20250916T023840Z
LAST-MODIFIED:20250916T024007Z
UID:10000418-1778333400-1778337000@www.princevillecenter.com
SUMMARY:FREE SATURDAY HULA SHOW
DESCRIPTION:Enjoy a cultural experience like no other during our weekly Hula Show. Performers use music\, chanting\, and movement to tell the story of Kaua‘i. Aunty Bev’s Hula Halau takes the stage every Saturday from 1:30 – 2:30pm at the Food Court.
URL:https://www.princevillecenter.com/event/free-saturday-hula-shows-3-3-2/2026-05-09/
LOCATION:Princeville Shopping Center\, Food Court
CATEGORIES:Hula,Princeville Shopping Center
ATTACH;FMTTYPE=image/jpeg:https://www.princevillecenter.com/wp-content/uploads/2022/09/hula-shows-princeville-center.jpg
END:VEVENT
BEGIN:VEVENT
DTSTART;TZID=Pacific/Honolulu:20260510T160000
DTEND;TZID=Pacific/Honolulu:20260510T200000
DTSTAMP:20260423T024140
CREATED:20240514T214020Z
LAST-MODIFIED:20240514T214020Z
UID:10000277-1778428800-1778443200@www.princevillecenter.com
SUMMARY:PRINCEVILLE NIGHT MARKET
DESCRIPTION:On the second Sunday of each month\, local vendors gather their unique products and culinary delights for our Night Market. Browse handmade jewelry\, soaps\, candles\, artwork\, home décor\, clothing\, and more. After shopping\, grab a bite to eat – there is cuisine from around the world!
URL:https://www.princevillecenter.com/event/princeville-night-market-3/2026-05-10/
LOCATION:Princeville Shopping Center
CATEGORIES:Market
ATTACH;FMTTYPE=image/jpeg:https://www.princevillecenter.com/wp-content/uploads/2022/09/NightMarket.jpg
END:VEVENT
BEGIN:VEVENT
DTSTART;TZID=Pacific/Honolulu:20260516T133000
DTEND;TZID=Pacific/Honolulu:20260516T143000
DTSTAMP:20260423T024140
CREATED:20250916T023840Z
LAST-MODIFIED:20250916T024007Z
UID:10000419-1778938200-1778941800@www.princevillecenter.com
SUMMARY:FREE SATURDAY HULA SHOW
DESCRIPTION:Enjoy a cultural experience like no other during our weekly Hula Show. Performers use music\, chanting\, and movement to tell the story of Kaua‘i. Aunty Bev’s Hula Halau takes the stage every Saturday from 1:30 – 2:30pm at the Food Court.
URL:https://www.princevillecenter.com/event/free-saturday-hula-shows-3-3-2/2026-05-16/
LOCATION:Princeville Shopping Center\, Food Court
CATEGORIES:Hula,Princeville Shopping Center
ATTACH;FMTTYPE=image/jpeg:https://www.princevillecenter.com/wp-content/uploads/2022/09/hula-shows-princeville-center.jpg
END:VEVENT
BEGIN:VEVENT
DTSTART;TZID=Pacific/Honolulu:20260523T133000
DTEND;TZID=Pacific/Honolulu:20260523T143000
DTSTAMP:20260423T024140
CREATED:20250916T023840Z
LAST-MODIFIED:20250916T024007Z
UID:10000420-1779543000-1779546600@www.princevillecenter.com
SUMMARY:FREE SATURDAY HULA SHOW
DESCRIPTION:Enjoy a cultural experience like no other during our weekly Hula Show. Performers use music\, chanting\, and movement to tell the story of Kaua‘i. Aunty Bev’s Hula Halau takes the stage every Saturday from 1:30 – 2:30pm at the Food Court.
URL:https://www.princevillecenter.com/event/free-saturday-hula-shows-3-3-2/2026-05-23/
LOCATION:Princeville Shopping Center\, Food Court
CATEGORIES:Hula,Princeville Shopping Center
ATTACH;FMTTYPE=image/jpeg:https://www.princevillecenter.com/wp-content/uploads/2022/09/hula-shows-princeville-center.jpg
END:VEVENT
BEGIN:VEVENT
DTSTART;TZID=Pacific/Honolulu:20260530T133000
DTEND;TZID=Pacific/Honolulu:20260530T143000
DTSTAMP:20260423T024140
CREATED:20250916T023840Z
LAST-MODIFIED:20250916T024007Z
UID:10000421-1780147800-1780151400@www.princevillecenter.com
SUMMARY:FREE SATURDAY HULA SHOW
DESCRIPTION:Enjoy a cultural experience like no other during our weekly Hula Show. Performers use music\, chanting\, and movement to tell the story of Kaua‘i. Aunty Bev’s Hula Halau takes the stage every Saturday from 1:30 – 2:30pm at the Food Court.
URL:https://www.princevillecenter.com/event/free-saturday-hula-shows-3-3-2/2026-05-30/
LOCATION:Princeville Shopping Center\, Food Court
CATEGORIES:Hula,Princeville Shopping Center
ATTACH;FMTTYPE=image/jpeg:https://www.princevillecenter.com/wp-content/uploads/2022/09/hula-shows-princeville-center.jpg
END:VEVENT
BEGIN:VEVENT
DTSTART;TZID=Pacific/Honolulu:20260606T133000
DTEND;TZID=Pacific/Honolulu:20260606T143000
DTSTAMP:20260423T024140
CREATED:20250916T023840Z
LAST-MODIFIED:20250916T024007Z
UID:10000422-1780752600-1780756200@www.princevillecenter.com
SUMMARY:FREE SATURDAY HULA SHOW
DESCRIPTION:Enjoy a cultural experience like no other during our weekly Hula Show. Performers use music\, chanting\, and movement to tell the story of Kaua‘i. Aunty Bev’s Hula Halau takes the stage every Saturday from 1:30 – 2:30pm at the Food Court.
URL:https://www.princevillecenter.com/event/free-saturday-hula-shows-3-3-2/2026-06-06/
LOCATION:Princeville Shopping Center\, Food Court
CATEGORIES:Hula,Princeville Shopping Center
ATTACH;FMTTYPE=image/jpeg:https://www.princevillecenter.com/wp-content/uploads/2022/09/hula-shows-princeville-center.jpg
END:VEVENT
BEGIN:VEVENT
DTSTART;TZID=Pacific/Honolulu:20260613T133000
DTEND;TZID=Pacific/Honolulu:20260613T143000
DTSTAMP:20260423T024140
CREATED:20250916T023840Z
LAST-MODIFIED:20250916T024007Z
UID:10000423-1781357400-1781361000@www.princevillecenter.com
SUMMARY:FREE SATURDAY HULA SHOW
DESCRIPTION:Enjoy a cultural experience like no other during our weekly Hula Show. Performers use music\, chanting\, and movement to tell the story of Kaua‘i. Aunty Bev’s Hula Halau takes the stage every Saturday from 1:30 – 2:30pm at the Food Court.
URL:https://www.princevillecenter.com/event/free-saturday-hula-shows-3-3-2/2026-06-13/
LOCATION:Princeville Shopping Center\, Food Court
CATEGORIES:Hula,Princeville Shopping Center
ATTACH;FMTTYPE=image/jpeg:https://www.princevillecenter.com/wp-content/uploads/2022/09/hula-shows-princeville-center.jpg
END:VEVENT
BEGIN:VEVENT
DTSTART;TZID=Pacific/Honolulu:20260614T160000
DTEND;TZID=Pacific/Honolulu:20260614T200000
DTSTAMP:20260423T024140
CREATED:20240514T214020Z
LAST-MODIFIED:20240514T214020Z
UID:10000278-1781452800-1781467200@www.princevillecenter.com
SUMMARY:PRINCEVILLE NIGHT MARKET
DESCRIPTION:On the second Sunday of each month\, local vendors gather their unique products and culinary delights for our Night Market. Browse handmade jewelry\, soaps\, candles\, artwork\, home décor\, clothing\, and more. After shopping\, grab a bite to eat – there is cuisine from around the world!
URL:https://www.princevillecenter.com/event/princeville-night-market-3/2026-06-14/
LOCATION:Princeville Shopping Center
CATEGORIES:Market
ATTACH;FMTTYPE=image/jpeg:https://www.princevillecenter.com/wp-content/uploads/2022/09/NightMarket.jpg
END:VEVENT
BEGIN:VEVENT
DTSTART;TZID=Pacific/Honolulu:20260620T133000
DTEND;TZID=Pacific/Honolulu:20260620T143000
DTSTAMP:20260423T024140
CREATED:20250916T023840Z
LAST-MODIFIED:20250916T024007Z
UID:10000424-1781962200-1781965800@www.princevillecenter.com
SUMMARY:FREE SATURDAY HULA SHOW
DESCRIPTION:Enjoy a cultural experience like no other during our weekly Hula Show. Performers use music\, chanting\, and movement to tell the story of Kaua‘i. Aunty Bev’s Hula Halau takes the stage every Saturday from 1:30 – 2:30pm at the Food Court.
URL:https://www.princevillecenter.com/event/free-saturday-hula-shows-3-3-2/2026-06-20/
LOCATION:Princeville Shopping Center\, Food Court
CATEGORIES:Hula,Princeville Shopping Center
ATTACH;FMTTYPE=image/jpeg:https://www.princevillecenter.com/wp-content/uploads/2022/09/hula-shows-princeville-center.jpg
END:VEVENT
BEGIN:VEVENT
DTSTART;TZID=Pacific/Honolulu:20260627T133000
DTEND;TZID=Pacific/Honolulu:20260627T143000
DTSTAMP:20260423T024140
CREATED:20250916T023840Z
LAST-MODIFIED:20250916T024007Z
UID:10000425-1782567000-1782570600@www.princevillecenter.com
SUMMARY:FREE SATURDAY HULA SHOW
DESCRIPTION:Enjoy a cultural experience like no other during our weekly Hula Show. Performers use music\, chanting\, and movement to tell the story of Kaua‘i. Aunty Bev’s Hula Halau takes the stage every Saturday from 1:30 – 2:30pm at the Food Court.
URL:https://www.princevillecenter.com/event/free-saturday-hula-shows-3-3-2/2026-06-27/
LOCATION:Princeville Shopping Center\, Food Court
CATEGORIES:Hula,Princeville Shopping Center
ATTACH;FMTTYPE=image/jpeg:https://www.princevillecenter.com/wp-content/uploads/2022/09/hula-shows-princeville-center.jpg
END:VEVENT
BEGIN:VEVENT
DTSTART;TZID=Pacific/Honolulu:20260704T133000
DTEND;TZID=Pacific/Honolulu:20260704T143000
DTSTAMP:20260423T024140
CREATED:20250916T023840Z
LAST-MODIFIED:20250916T024007Z
UID:10000426-1783171800-1783175400@www.princevillecenter.com
SUMMARY:FREE SATURDAY HULA SHOW
DESCRIPTION:Enjoy a cultural experience like no other during our weekly Hula Show. Performers use music\, chanting\, and movement to tell the story of Kaua‘i. Aunty Bev’s Hula Halau takes the stage every Saturday from 1:30 – 2:30pm at the Food Court.
URL:https://www.princevillecenter.com/event/free-saturday-hula-shows-3-3-2/2026-07-04/
LOCATION:Princeville Shopping Center\, Food Court
CATEGORIES:Hula,Princeville Shopping Center
ATTACH;FMTTYPE=image/jpeg:https://www.princevillecenter.com/wp-content/uploads/2022/09/hula-shows-princeville-center.jpg
END:VEVENT
BEGIN:VEVENT
DTSTART;TZID=Pacific/Honolulu:20260711T133000
DTEND;TZID=Pacific/Honolulu:20260711T143000
DTSTAMP:20260423T024140
CREATED:20250916T023840Z
LAST-MODIFIED:20250916T024007Z
UID:10000427-1783776600-1783780200@www.princevillecenter.com
SUMMARY:FREE SATURDAY HULA SHOW
DESCRIPTION:Enjoy a cultural experience like no other during our weekly Hula Show. Performers use music\, chanting\, and movement to tell the story of Kaua‘i. Aunty Bev’s Hula Halau takes the stage every Saturday from 1:30 – 2:30pm at the Food Court.
URL:https://www.princevillecenter.com/event/free-saturday-hula-shows-3-3-2/2026-07-11/
LOCATION:Princeville Shopping Center\, Food Court
CATEGORIES:Hula,Princeville Shopping Center
ATTACH;FMTTYPE=image/jpeg:https://www.princevillecenter.com/wp-content/uploads/2022/09/hula-shows-princeville-center.jpg
END:VEVENT
BEGIN:VEVENT
DTSTART;TZID=Pacific/Honolulu:20260712T160000
DTEND;TZID=Pacific/Honolulu:20260712T200000
DTSTAMP:20260423T024140
CREATED:20240514T214020Z
LAST-MODIFIED:20240514T214020Z
UID:10000279-1783872000-1783886400@www.princevillecenter.com
SUMMARY:PRINCEVILLE NIGHT MARKET
DESCRIPTION:On the second Sunday of each month\, local vendors gather their unique products and culinary delights for our Night Market. Browse handmade jewelry\, soaps\, candles\, artwork\, home décor\, clothing\, and more. After shopping\, grab a bite to eat – there is cuisine from around the world!
URL:https://www.princevillecenter.com/event/princeville-night-market-3/2026-07-12/
LOCATION:Princeville Shopping Center
CATEGORIES:Market
ATTACH;FMTTYPE=image/jpeg:https://www.princevillecenter.com/wp-content/uploads/2022/09/NightMarket.jpg
END:VEVENT
BEGIN:VEVENT
DTSTART;TZID=Pacific/Honolulu:20260718T133000
DTEND;TZID=Pacific/Honolulu:20260718T143000
DTSTAMP:20260423T024140
CREATED:20250916T023840Z
LAST-MODIFIED:20250916T024007Z
UID:10000428-1784381400-1784385000@www.princevillecenter.com
SUMMARY:FREE SATURDAY HULA SHOW
DESCRIPTION:Enjoy a cultural experience like no other during our weekly Hula Show. Performers use music\, chanting\, and movement to tell the story of Kaua‘i. Aunty Bev’s Hula Halau takes the stage every Saturday from 1:30 – 2:30pm at the Food Court.
URL:https://www.princevillecenter.com/event/free-saturday-hula-shows-3-3-2/2026-07-18/
LOCATION:Princeville Shopping Center\, Food Court
CATEGORIES:Hula,Princeville Shopping Center
ATTACH;FMTTYPE=image/jpeg:https://www.princevillecenter.com/wp-content/uploads/2022/09/hula-shows-princeville-center.jpg
END:VEVENT
BEGIN:VEVENT
DTSTART;TZID=Pacific/Honolulu:20260725T133000
DTEND;TZID=Pacific/Honolulu:20260725T143000
DTSTAMP:20260423T024140
CREATED:20250916T023840Z
LAST-MODIFIED:20250916T024007Z
UID:10000429-1784986200-1784989800@www.princevillecenter.com
SUMMARY:FREE SATURDAY HULA SHOW
DESCRIPTION:Enjoy a cultural experience like no other during our weekly Hula Show. Performers use music\, chanting\, and movement to tell the story of Kaua‘i. Aunty Bev’s Hula Halau takes the stage every Saturday from 1:30 – 2:30pm at the Food Court.
URL:https://www.princevillecenter.com/event/free-saturday-hula-shows-3-3-2/2026-07-25/
LOCATION:Princeville Shopping Center\, Food Court
CATEGORIES:Hula,Princeville Shopping Center
ATTACH;FMTTYPE=image/jpeg:https://www.princevillecenter.com/wp-content/uploads/2022/09/hula-shows-princeville-center.jpg
END:VEVENT
BEGIN:VEVENT
DTSTART;TZID=Pacific/Honolulu:20260801T133000
DTEND;TZID=Pacific/Honolulu:20260801T143000
DTSTAMP:20260423T024140
CREATED:20250916T023840Z
LAST-MODIFIED:20250916T024007Z
UID:10000430-1785591000-1785594600@www.princevillecenter.com
SUMMARY:FREE SATURDAY HULA SHOW
DESCRIPTION:Enjoy a cultural experience like no other during our weekly Hula Show. Performers use music\, chanting\, and movement to tell the story of Kaua‘i. Aunty Bev’s Hula Halau takes the stage every Saturday from 1:30 – 2:30pm at the Food Court.
URL:https://www.princevillecenter.com/event/free-saturday-hula-shows-3-3-2/2026-08-01/
LOCATION:Princeville Shopping Center\, Food Court
CATEGORIES:Hula,Princeville Shopping Center
ATTACH;FMTTYPE=image/jpeg:https://www.princevillecenter.com/wp-content/uploads/2022/09/hula-shows-princeville-center.jpg
END:VEVENT
BEGIN:VEVENT
DTSTART;TZID=Pacific/Honolulu:20260808T133000
DTEND;TZID=Pacific/Honolulu:20260808T143000
DTSTAMP:20260423T024140
CREATED:20250916T023840Z
LAST-MODIFIED:20250916T024007Z
UID:10000431-1786195800-1786199400@www.princevillecenter.com
SUMMARY:FREE SATURDAY HULA SHOW
DESCRIPTION:Enjoy a cultural experience like no other during our weekly Hula Show. Performers use music\, chanting\, and movement to tell the story of Kaua‘i. Aunty Bev’s Hula Halau takes the stage every Saturday from 1:30 – 2:30pm at the Food Court.
URL:https://www.princevillecenter.com/event/free-saturday-hula-shows-3-3-2/2026-08-08/
LOCATION:Princeville Shopping Center\, Food Court
CATEGORIES:Hula,Princeville Shopping Center
ATTACH;FMTTYPE=image/jpeg:https://www.princevillecenter.com/wp-content/uploads/2022/09/hula-shows-princeville-center.jpg
END:VEVENT
BEGIN:VEVENT
DTSTART;TZID=Pacific/Honolulu:20260809T160000
DTEND;TZID=Pacific/Honolulu:20260809T200000
DTSTAMP:20260423T024140
CREATED:20240514T214020Z
LAST-MODIFIED:20240514T214020Z
UID:10000280-1786291200-1786305600@www.princevillecenter.com
SUMMARY:PRINCEVILLE NIGHT MARKET
DESCRIPTION:On the second Sunday of each month\, local vendors gather their unique products and culinary delights for our Night Market. Browse handmade jewelry\, soaps\, candles\, artwork\, home décor\, clothing\, and more. After shopping\, grab a bite to eat – there is cuisine from around the world!
URL:https://www.princevillecenter.com/event/princeville-night-market-3/2026-08-09/
LOCATION:Princeville Shopping Center
CATEGORIES:Market
ATTACH;FMTTYPE=image/jpeg:https://www.princevillecenter.com/wp-content/uploads/2022/09/NightMarket.jpg
END:VEVENT
BEGIN:VEVENT
DTSTART;TZID=Pacific/Honolulu:20260815T133000
DTEND;TZID=Pacific/Honolulu:20260815T143000
DTSTAMP:20260423T024140
CREATED:20250916T023840Z
LAST-MODIFIED:20250916T024007Z
UID:10000432-1786800600-1786804200@www.princevillecenter.com
SUMMARY:FREE SATURDAY HULA SHOW
DESCRIPTION:Enjoy a cultural experience like no other during our weekly Hula Show. Performers use music\, chanting\, and movement to tell the story of Kaua‘i. Aunty Bev’s Hula Halau takes the stage every Saturday from 1:30 – 2:30pm at the Food Court.
URL:https://www.princevillecenter.com/event/free-saturday-hula-shows-3-3-2/2026-08-15/
LOCATION:Princeville Shopping Center\, Food Court
CATEGORIES:Hula,Princeville Shopping Center
ATTACH;FMTTYPE=image/jpeg:https://www.princevillecenter.com/wp-content/uploads/2022/09/hula-shows-princeville-center.jpg
END:VEVENT
BEGIN:VEVENT
DTSTART;TZID=Pacific/Honolulu:20260822T133000
DTEND;TZID=Pacific/Honolulu:20260822T143000
DTSTAMP:20260423T024140
CREATED:20250916T023840Z
LAST-MODIFIED:20250916T024007Z
UID:10000433-1787405400-1787409000@www.princevillecenter.com
SUMMARY:FREE SATURDAY HULA SHOW
DESCRIPTION:Enjoy a cultural experience like no other during our weekly Hula Show. Performers use music\, chanting\, and movement to tell the story of Kaua‘i. Aunty Bev’s Hula Halau takes the stage every Saturday from 1:30 – 2:30pm at the Food Court.
URL:https://www.princevillecenter.com/event/free-saturday-hula-shows-3-3-2/2026-08-22/
LOCATION:Princeville Shopping Center\, Food Court
CATEGORIES:Hula,Princeville Shopping Center
ATTACH;FMTTYPE=image/jpeg:https://www.princevillecenter.com/wp-content/uploads/2022/09/hula-shows-princeville-center.jpg
END:VEVENT
BEGIN:VEVENT
DTSTART;TZID=Pacific/Honolulu:20260829T133000
DTEND;TZID=Pacific/Honolulu:20260829T143000
DTSTAMP:20260423T024140
CREATED:20250916T023840Z
LAST-MODIFIED:20250916T024007Z
UID:10000434-1788010200-1788013800@www.princevillecenter.com
SUMMARY:FREE SATURDAY HULA SHOW
DESCRIPTION:Enjoy a cultural experience like no other during our weekly Hula Show. Performers use music\, chanting\, and movement to tell the story of Kaua‘i. Aunty Bev’s Hula Halau takes the stage every Saturday from 1:30 – 2:30pm at the Food Court.
URL:https://www.princevillecenter.com/event/free-saturday-hula-shows-3-3-2/2026-08-29/
LOCATION:Princeville Shopping Center\, Food Court
CATEGORIES:Hula,Princeville Shopping Center
ATTACH;FMTTYPE=image/jpeg:https://www.princevillecenter.com/wp-content/uploads/2022/09/hula-shows-princeville-center.jpg
END:VEVENT
BEGIN:VEVENT
DTSTART;TZID=Pacific/Honolulu:20260905T133000
DTEND;TZID=Pacific/Honolulu:20260905T143000
DTSTAMP:20260423T024140
CREATED:20250916T023840Z
LAST-MODIFIED:20250916T024007Z
UID:10000435-1788615000-1788618600@www.princevillecenter.com
SUMMARY:FREE SATURDAY HULA SHOW
DESCRIPTION:Enjoy a cultural experience like no other during our weekly Hula Show. Performers use music\, chanting\, and movement to tell the story of Kaua‘i. Aunty Bev’s Hula Halau takes the stage every Saturday from 1:30 – 2:30pm at the Food Court.
URL:https://www.princevillecenter.com/event/free-saturday-hula-shows-3-3-2/2026-09-05/
LOCATION:Princeville Shopping Center\, Food Court
CATEGORIES:Hula,Princeville Shopping Center
ATTACH;FMTTYPE=image/jpeg:https://www.princevillecenter.com/wp-content/uploads/2022/09/hula-shows-princeville-center.jpg
END:VEVENT
BEGIN:VEVENT
DTSTART;TZID=Pacific/Honolulu:20260912T133000
DTEND;TZID=Pacific/Honolulu:20260912T143000
DTSTAMP:20260423T024140
CREATED:20250916T023840Z
LAST-MODIFIED:20250916T024007Z
UID:10000436-1789219800-1789223400@www.princevillecenter.com
SUMMARY:FREE SATURDAY HULA SHOW
DESCRIPTION:Enjoy a cultural experience like no other during our weekly Hula Show. Performers use music\, chanting\, and movement to tell the story of Kaua‘i. Aunty Bev’s Hula Halau takes the stage every Saturday from 1:30 – 2:30pm at the Food Court.
URL:https://www.princevillecenter.com/event/free-saturday-hula-shows-3-3-2/2026-09-12/
LOCATION:Princeville Shopping Center\, Food Court
CATEGORIES:Hula,Princeville Shopping Center
ATTACH;FMTTYPE=image/jpeg:https://www.princevillecenter.com/wp-content/uploads/2022/09/hula-shows-princeville-center.jpg
END:VEVENT
BEGIN:VEVENT
DTSTART;TZID=Pacific/Honolulu:20260913T160000
DTEND;TZID=Pacific/Honolulu:20260913T200000
DTSTAMP:20260423T024140
CREATED:20240514T214020Z
LAST-MODIFIED:20240514T214020Z
UID:10000281-1789315200-1789329600@www.princevillecenter.com
SUMMARY:PRINCEVILLE NIGHT MARKET
DESCRIPTION:On the second Sunday of each month\, local vendors gather their unique products and culinary delights for our Night Market. Browse handmade jewelry\, soaps\, candles\, artwork\, home décor\, clothing\, and more. After shopping\, grab a bite to eat – there is cuisine from around the world!
URL:https://www.princevillecenter.com/event/princeville-night-market-3/2026-09-13/
LOCATION:Princeville Shopping Center
CATEGORIES:Market
ATTACH;FMTTYPE=image/jpeg:https://www.princevillecenter.com/wp-content/uploads/2022/09/NightMarket.jpg
END:VEVENT
BEGIN:VEVENT
DTSTART;TZID=Pacific/Honolulu:20260919T133000
DTEND;TZID=Pacific/Honolulu:20260919T143000
DTSTAMP:20260423T024140
CREATED:20250916T023840Z
LAST-MODIFIED:20250916T024007Z
UID:10000437-1789824600-1789828200@www.princevillecenter.com
SUMMARY:FREE SATURDAY HULA SHOW
DESCRIPTION:Enjoy a cultural experience like no other during our weekly Hula Show. Performers use music\, chanting\, and movement to tell the story of Kaua‘i. Aunty Bev’s Hula Halau takes the stage every Saturday from 1:30 – 2:30pm at the Food Court.
URL:https://www.princevillecenter.com/event/free-saturday-hula-shows-3-3-2/2026-09-19/
LOCATION:Princeville Shopping Center\, Food Court
CATEGORIES:Hula,Princeville Shopping Center
ATTACH;FMTTYPE=image/jpeg:https://www.princevillecenter.com/wp-content/uploads/2022/09/hula-shows-princeville-center.jpg
END:VEVENT
BEGIN:VEVENT
DTSTART;TZID=Pacific/Honolulu:20260926T133000
DTEND;TZID=Pacific/Honolulu:20260926T143000
DTSTAMP:20260423T024140
CREATED:20250916T023840Z
LAST-MODIFIED:20250916T024007Z
UID:10000438-1790429400-1790433000@www.princevillecenter.com
SUMMARY:FREE SATURDAY HULA SHOW
DESCRIPTION:Enjoy a cultural experience like no other during our weekly Hula Show. Performers use music\, chanting\, and movement to tell the story of Kaua‘i. Aunty Bev’s Hula Halau takes the stage every Saturday from 1:30 – 2:30pm at the Food Court.
URL:https://www.princevillecenter.com/event/free-saturday-hula-shows-3-3-2/2026-09-26/
LOCATION:Princeville Shopping Center\, Food Court
CATEGORIES:Hula,Princeville Shopping Center
ATTACH;FMTTYPE=image/jpeg:https://www.princevillecenter.com/wp-content/uploads/2022/09/hula-shows-princeville-center.jpg
END:VEVENT
BEGIN:VEVENT
DTSTART;TZID=Pacific/Honolulu:20261003T133000
DTEND;TZID=Pacific/Honolulu:20261003T143000
DTSTAMP:20260423T024140
CREATED:20250916T023840Z
LAST-MODIFIED:20250916T024007Z
UID:10000439-1791034200-1791037800@www.princevillecenter.com
SUMMARY:FREE SATURDAY HULA SHOW
DESCRIPTION:Enjoy a cultural experience like no other during our weekly Hula Show. Performers use music\, chanting\, and movement to tell the story of Kaua‘i. Aunty Bev’s Hula Halau takes the stage every Saturday from 1:30 – 2:30pm at the Food Court.
URL:https://www.princevillecenter.com/event/free-saturday-hula-shows-3-3-2/2026-10-03/
LOCATION:Princeville Shopping Center\, Food Court
CATEGORIES:Hula,Princeville Shopping Center
ATTACH;FMTTYPE=image/jpeg:https://www.princevillecenter.com/wp-content/uploads/2022/09/hula-shows-princeville-center.jpg
END:VEVENT
BEGIN:VEVENT
DTSTART;TZID=Pacific/Honolulu:20261010T133000
DTEND;TZID=Pacific/Honolulu:20261010T143000
DTSTAMP:20260423T024140
CREATED:20250916T023840Z
LAST-MODIFIED:20250916T024007Z
UID:10000440-1791639000-1791642600@www.princevillecenter.com
SUMMARY:FREE SATURDAY HULA SHOW
DESCRIPTION:Enjoy a cultural experience like no other during our weekly Hula Show. Performers use music\, chanting\, and movement to tell the story of Kaua‘i. Aunty Bev’s Hula Halau takes the stage every Saturday from 1:30 – 2:30pm at the Food Court.
URL:https://www.princevillecenter.com/event/free-saturday-hula-shows-3-3-2/2026-10-10/
LOCATION:Princeville Shopping Center\, Food Court
CATEGORIES:Hula,Princeville Shopping Center
ATTACH;FMTTYPE=image/jpeg:https://www.princevillecenter.com/wp-content/uploads/2022/09/hula-shows-princeville-center.jpg
END:VEVENT
END:VCALENDAR