BEGIN:VCALENDAR
VERSION:2.0
PRODID:-//Princeville Center - ECPv6.15.20//NONSGML v1.0//EN
CALSCALE:GREGORIAN
METHOD:PUBLISH
X-ORIGINAL-URL:https://www.princevillecenter.com
X-WR-CALDESC:Events for Princeville Center
REFRESH-INTERVAL;VALUE=DURATION:PT1H
X-Robots-Tag:noindex
X-PUBLISHED-TTL:PT1H
BEGIN:VTIMEZONE
TZID:Pacific/Honolulu
BEGIN:STANDARD
TZOFFSETFROM:-1000
TZOFFSETTO:-1000
TZNAME:HST
DTSTART:20270101T000000
END:STANDARD
END:VTIMEZONE
BEGIN:VEVENT
DTSTART;TZID=Pacific/Honolulu:20280603T133000
DTEND;TZID=Pacific/Honolulu:20280603T143000
DTSTAMP:20260425T055216
CREATED:20250916T023840Z
LAST-MODIFIED:20250916T024007Z
UID:10000526-1843651800-1843655400@www.princevillecenter.com
SUMMARY:FREE SATURDAY HULA SHOW
DESCRIPTION:Enjoy a cultural experience like no other during our weekly Hula Show. Performers use music\, chanting\, and movement to tell the story of Kaua‘i. Aunty Bev’s Hula Halau takes the stage every Saturday from 1:30 – 2:30pm at the Food Court.
URL:https://www.princevillecenter.com/event/free-saturday-hula-shows-3-3-2/2028-06-03/
LOCATION:Princeville Shopping Center\, Food Court
CATEGORIES:Hula,Princeville Shopping Center
ATTACH;FMTTYPE=image/jpeg:https://www.princevillecenter.com/wp-content/uploads/2022/09/hula-shows-princeville-center.jpg
END:VEVENT
BEGIN:VEVENT
DTSTART;TZID=Pacific/Honolulu:20280610T133000
DTEND;TZID=Pacific/Honolulu:20280610T143000
DTSTAMP:20260425T055216
CREATED:20250916T023840Z
LAST-MODIFIED:20250916T024007Z
UID:10000527-1844256600-1844260200@www.princevillecenter.com
SUMMARY:FREE SATURDAY HULA SHOW
DESCRIPTION:Enjoy a cultural experience like no other during our weekly Hula Show. Performers use music\, chanting\, and movement to tell the story of Kaua‘i. Aunty Bev’s Hula Halau takes the stage every Saturday from 1:30 – 2:30pm at the Food Court.
URL:https://www.princevillecenter.com/event/free-saturday-hula-shows-3-3-2/2028-06-10/
LOCATION:Princeville Shopping Center\, Food Court
CATEGORIES:Hula,Princeville Shopping Center
ATTACH;FMTTYPE=image/jpeg:https://www.princevillecenter.com/wp-content/uploads/2022/09/hula-shows-princeville-center.jpg
END:VEVENT
BEGIN:VEVENT
DTSTART;TZID=Pacific/Honolulu:20280611T160000
DTEND;TZID=Pacific/Honolulu:20280611T200000
DTSTAMP:20260425T055216
CREATED:20240514T214020Z
LAST-MODIFIED:20240514T214020Z
UID:10000302-1844352000-1844366400@www.princevillecenter.com
SUMMARY:PRINCEVILLE NIGHT MARKET
DESCRIPTION:On the second Sunday of each month\, local vendors gather their unique products and culinary delights for our Night Market. Browse handmade jewelry\, soaps\, candles\, artwork\, home décor\, clothing\, and more. After shopping\, grab a bite to eat – there is cuisine from around the world!
URL:https://www.princevillecenter.com/event/princeville-night-market-3/2028-06-11/
LOCATION:Princeville Shopping Center
CATEGORIES:Market
ATTACH;FMTTYPE=image/jpeg:https://www.princevillecenter.com/wp-content/uploads/2022/09/NightMarket.jpg
END:VEVENT
BEGIN:VEVENT
DTSTART;TZID=Pacific/Honolulu:20280617T133000
DTEND;TZID=Pacific/Honolulu:20280617T143000
DTSTAMP:20260425T055216
CREATED:20250916T023840Z
LAST-MODIFIED:20250916T024007Z
UID:10000528-1844861400-1844865000@www.princevillecenter.com
SUMMARY:FREE SATURDAY HULA SHOW
DESCRIPTION:Enjoy a cultural experience like no other during our weekly Hula Show. Performers use music\, chanting\, and movement to tell the story of Kaua‘i. Aunty Bev’s Hula Halau takes the stage every Saturday from 1:30 – 2:30pm at the Food Court.
URL:https://www.princevillecenter.com/event/free-saturday-hula-shows-3-3-2/2028-06-17/
LOCATION:Princeville Shopping Center\, Food Court
CATEGORIES:Hula,Princeville Shopping Center
ATTACH;FMTTYPE=image/jpeg:https://www.princevillecenter.com/wp-content/uploads/2022/09/hula-shows-princeville-center.jpg
END:VEVENT
BEGIN:VEVENT
DTSTART;TZID=Pacific/Honolulu:20280624T133000
DTEND;TZID=Pacific/Honolulu:20280624T143000
DTSTAMP:20260425T055216
CREATED:20250916T023840Z
LAST-MODIFIED:20250916T024007Z
UID:10000529-1845466200-1845469800@www.princevillecenter.com
SUMMARY:FREE SATURDAY HULA SHOW
DESCRIPTION:Enjoy a cultural experience like no other during our weekly Hula Show. Performers use music\, chanting\, and movement to tell the story of Kaua‘i. Aunty Bev’s Hula Halau takes the stage every Saturday from 1:30 – 2:30pm at the Food Court.
URL:https://www.princevillecenter.com/event/free-saturday-hula-shows-3-3-2/2028-06-24/
LOCATION:Princeville Shopping Center\, Food Court
CATEGORIES:Hula,Princeville Shopping Center
ATTACH;FMTTYPE=image/jpeg:https://www.princevillecenter.com/wp-content/uploads/2022/09/hula-shows-princeville-center.jpg
END:VEVENT
BEGIN:VEVENT
DTSTART;TZID=Pacific/Honolulu:20280701T133000
DTEND;TZID=Pacific/Honolulu:20280701T143000
DTSTAMP:20260425T055216
CREATED:20250916T023840Z
LAST-MODIFIED:20250916T024007Z
UID:10000530-1846071000-1846074600@www.princevillecenter.com
SUMMARY:FREE SATURDAY HULA SHOW
DESCRIPTION:Enjoy a cultural experience like no other during our weekly Hula Show. Performers use music\, chanting\, and movement to tell the story of Kaua‘i. Aunty Bev’s Hula Halau takes the stage every Saturday from 1:30 – 2:30pm at the Food Court.
URL:https://www.princevillecenter.com/event/free-saturday-hula-shows-3-3-2/2028-07-01/
LOCATION:Princeville Shopping Center\, Food Court
CATEGORIES:Hula,Princeville Shopping Center
ATTACH;FMTTYPE=image/jpeg:https://www.princevillecenter.com/wp-content/uploads/2022/09/hula-shows-princeville-center.jpg
END:VEVENT
BEGIN:VEVENT
DTSTART;TZID=Pacific/Honolulu:20280708T133000
DTEND;TZID=Pacific/Honolulu:20280708T143000
DTSTAMP:20260425T055216
CREATED:20250916T023840Z
LAST-MODIFIED:20250916T024007Z
UID:10000531-1846675800-1846679400@www.princevillecenter.com
SUMMARY:FREE SATURDAY HULA SHOW
DESCRIPTION:Enjoy a cultural experience like no other during our weekly Hula Show. Performers use music\, chanting\, and movement to tell the story of Kaua‘i. Aunty Bev’s Hula Halau takes the stage every Saturday from 1:30 – 2:30pm at the Food Court.
URL:https://www.princevillecenter.com/event/free-saturday-hula-shows-3-3-2/2028-07-08/
LOCATION:Princeville Shopping Center\, Food Court
CATEGORIES:Hula,Princeville Shopping Center
ATTACH;FMTTYPE=image/jpeg:https://www.princevillecenter.com/wp-content/uploads/2022/09/hula-shows-princeville-center.jpg
END:VEVENT
BEGIN:VEVENT
DTSTART;TZID=Pacific/Honolulu:20280709T160000
DTEND;TZID=Pacific/Honolulu:20280709T200000
DTSTAMP:20260425T055216
CREATED:20240514T214020Z
LAST-MODIFIED:20240514T214020Z
UID:10000303-1846771200-1846785600@www.princevillecenter.com
SUMMARY:PRINCEVILLE NIGHT MARKET
DESCRIPTION:On the second Sunday of each month\, local vendors gather their unique products and culinary delights for our Night Market. Browse handmade jewelry\, soaps\, candles\, artwork\, home décor\, clothing\, and more. After shopping\, grab a bite to eat – there is cuisine from around the world!
URL:https://www.princevillecenter.com/event/princeville-night-market-3/2028-07-09/
LOCATION:Princeville Shopping Center
CATEGORIES:Market
ATTACH;FMTTYPE=image/jpeg:https://www.princevillecenter.com/wp-content/uploads/2022/09/NightMarket.jpg
END:VEVENT
BEGIN:VEVENT
DTSTART;TZID=Pacific/Honolulu:20280715T133000
DTEND;TZID=Pacific/Honolulu:20280715T143000
DTSTAMP:20260425T055216
CREATED:20250916T023840Z
LAST-MODIFIED:20250916T024007Z
UID:10000532-1847280600-1847284200@www.princevillecenter.com
SUMMARY:FREE SATURDAY HULA SHOW
DESCRIPTION:Enjoy a cultural experience like no other during our weekly Hula Show. Performers use music\, chanting\, and movement to tell the story of Kaua‘i. Aunty Bev’s Hula Halau takes the stage every Saturday from 1:30 – 2:30pm at the Food Court.
URL:https://www.princevillecenter.com/event/free-saturday-hula-shows-3-3-2/2028-07-15/
LOCATION:Princeville Shopping Center\, Food Court
CATEGORIES:Hula,Princeville Shopping Center
ATTACH;FMTTYPE=image/jpeg:https://www.princevillecenter.com/wp-content/uploads/2022/09/hula-shows-princeville-center.jpg
END:VEVENT
BEGIN:VEVENT
DTSTART;TZID=Pacific/Honolulu:20280722T133000
DTEND;TZID=Pacific/Honolulu:20280722T143000
DTSTAMP:20260425T055216
CREATED:20250916T023840Z
LAST-MODIFIED:20250916T024007Z
UID:10000533-1847885400-1847889000@www.princevillecenter.com
SUMMARY:FREE SATURDAY HULA SHOW
DESCRIPTION:Enjoy a cultural experience like no other during our weekly Hula Show. Performers use music\, chanting\, and movement to tell the story of Kaua‘i. Aunty Bev’s Hula Halau takes the stage every Saturday from 1:30 – 2:30pm at the Food Court.
URL:https://www.princevillecenter.com/event/free-saturday-hula-shows-3-3-2/2028-07-22/
LOCATION:Princeville Shopping Center\, Food Court
CATEGORIES:Hula,Princeville Shopping Center
ATTACH;FMTTYPE=image/jpeg:https://www.princevillecenter.com/wp-content/uploads/2022/09/hula-shows-princeville-center.jpg
END:VEVENT
BEGIN:VEVENT
DTSTART;TZID=Pacific/Honolulu:20280729T133000
DTEND;TZID=Pacific/Honolulu:20280729T143000
DTSTAMP:20260425T055216
CREATED:20250916T023840Z
LAST-MODIFIED:20250916T024007Z
UID:10000534-1848490200-1848493800@www.princevillecenter.com
SUMMARY:FREE SATURDAY HULA SHOW
DESCRIPTION:Enjoy a cultural experience like no other during our weekly Hula Show. Performers use music\, chanting\, and movement to tell the story of Kaua‘i. Aunty Bev’s Hula Halau takes the stage every Saturday from 1:30 – 2:30pm at the Food Court.
URL:https://www.princevillecenter.com/event/free-saturday-hula-shows-3-3-2/2028-07-29/
LOCATION:Princeville Shopping Center\, Food Court
CATEGORIES:Hula,Princeville Shopping Center
ATTACH;FMTTYPE=image/jpeg:https://www.princevillecenter.com/wp-content/uploads/2022/09/hula-shows-princeville-center.jpg
END:VEVENT
BEGIN:VEVENT
DTSTART;TZID=Pacific/Honolulu:20280805T133000
DTEND;TZID=Pacific/Honolulu:20280805T143000
DTSTAMP:20260425T055216
CREATED:20250916T023840Z
LAST-MODIFIED:20250916T024007Z
UID:10000535-1849095000-1849098600@www.princevillecenter.com
SUMMARY:FREE SATURDAY HULA SHOW
DESCRIPTION:Enjoy a cultural experience like no other during our weekly Hula Show. Performers use music\, chanting\, and movement to tell the story of Kaua‘i. Aunty Bev’s Hula Halau takes the stage every Saturday from 1:30 – 2:30pm at the Food Court.
URL:https://www.princevillecenter.com/event/free-saturday-hula-shows-3-3-2/2028-08-05/
LOCATION:Princeville Shopping Center\, Food Court
CATEGORIES:Hula,Princeville Shopping Center
ATTACH;FMTTYPE=image/jpeg:https://www.princevillecenter.com/wp-content/uploads/2022/09/hula-shows-princeville-center.jpg
END:VEVENT
BEGIN:VEVENT
DTSTART;TZID=Pacific/Honolulu:20280812T133000
DTEND;TZID=Pacific/Honolulu:20280812T143000
DTSTAMP:20260425T055216
CREATED:20250916T023840Z
LAST-MODIFIED:20250916T024007Z
UID:10000536-1849699800-1849703400@www.princevillecenter.com
SUMMARY:FREE SATURDAY HULA SHOW
DESCRIPTION:Enjoy a cultural experience like no other during our weekly Hula Show. Performers use music\, chanting\, and movement to tell the story of Kaua‘i. Aunty Bev’s Hula Halau takes the stage every Saturday from 1:30 – 2:30pm at the Food Court.
URL:https://www.princevillecenter.com/event/free-saturday-hula-shows-3-3-2/2028-08-12/
LOCATION:Princeville Shopping Center\, Food Court
CATEGORIES:Hula,Princeville Shopping Center
ATTACH;FMTTYPE=image/jpeg:https://www.princevillecenter.com/wp-content/uploads/2022/09/hula-shows-princeville-center.jpg
END:VEVENT
BEGIN:VEVENT
DTSTART;TZID=Pacific/Honolulu:20280813T160000
DTEND;TZID=Pacific/Honolulu:20280813T200000
DTSTAMP:20260425T055216
CREATED:20240514T214020Z
LAST-MODIFIED:20240514T214020Z
UID:10000304-1849795200-1849809600@www.princevillecenter.com
SUMMARY:PRINCEVILLE NIGHT MARKET
DESCRIPTION:On the second Sunday of each month\, local vendors gather their unique products and culinary delights for our Night Market. Browse handmade jewelry\, soaps\, candles\, artwork\, home décor\, clothing\, and more. After shopping\, grab a bite to eat – there is cuisine from around the world!
URL:https://www.princevillecenter.com/event/princeville-night-market-3/2028-08-13/
LOCATION:Princeville Shopping Center
CATEGORIES:Market
ATTACH;FMTTYPE=image/jpeg:https://www.princevillecenter.com/wp-content/uploads/2022/09/NightMarket.jpg
END:VEVENT
BEGIN:VEVENT
DTSTART;TZID=Pacific/Honolulu:20280819T133000
DTEND;TZID=Pacific/Honolulu:20280819T143000
DTSTAMP:20260425T055216
CREATED:20250916T023840Z
LAST-MODIFIED:20250916T024007Z
UID:10000537-1850304600-1850308200@www.princevillecenter.com
SUMMARY:FREE SATURDAY HULA SHOW
DESCRIPTION:Enjoy a cultural experience like no other during our weekly Hula Show. Performers use music\, chanting\, and movement to tell the story of Kaua‘i. Aunty Bev’s Hula Halau takes the stage every Saturday from 1:30 – 2:30pm at the Food Court.
URL:https://www.princevillecenter.com/event/free-saturday-hula-shows-3-3-2/2028-08-19/
LOCATION:Princeville Shopping Center\, Food Court
CATEGORIES:Hula,Princeville Shopping Center
ATTACH;FMTTYPE=image/jpeg:https://www.princevillecenter.com/wp-content/uploads/2022/09/hula-shows-princeville-center.jpg
END:VEVENT
BEGIN:VEVENT
DTSTART;TZID=Pacific/Honolulu:20280826T133000
DTEND;TZID=Pacific/Honolulu:20280826T143000
DTSTAMP:20260425T055216
CREATED:20250916T023840Z
LAST-MODIFIED:20250916T024007Z
UID:10000538-1850909400-1850913000@www.princevillecenter.com
SUMMARY:FREE SATURDAY HULA SHOW
DESCRIPTION:Enjoy a cultural experience like no other during our weekly Hula Show. Performers use music\, chanting\, and movement to tell the story of Kaua‘i. Aunty Bev’s Hula Halau takes the stage every Saturday from 1:30 – 2:30pm at the Food Court.
URL:https://www.princevillecenter.com/event/free-saturday-hula-shows-3-3-2/2028-08-26/
LOCATION:Princeville Shopping Center\, Food Court
CATEGORIES:Hula,Princeville Shopping Center
ATTACH;FMTTYPE=image/jpeg:https://www.princevillecenter.com/wp-content/uploads/2022/09/hula-shows-princeville-center.jpg
END:VEVENT
BEGIN:VEVENT
DTSTART;TZID=Pacific/Honolulu:20280902T133000
DTEND;TZID=Pacific/Honolulu:20280902T143000
DTSTAMP:20260425T055216
CREATED:20250916T023840Z
LAST-MODIFIED:20250916T024007Z
UID:10000539-1851514200-1851517800@www.princevillecenter.com
SUMMARY:FREE SATURDAY HULA SHOW
DESCRIPTION:Enjoy a cultural experience like no other during our weekly Hula Show. Performers use music\, chanting\, and movement to tell the story of Kaua‘i. Aunty Bev’s Hula Halau takes the stage every Saturday from 1:30 – 2:30pm at the Food Court.
URL:https://www.princevillecenter.com/event/free-saturday-hula-shows-3-3-2/2028-09-02/
LOCATION:Princeville Shopping Center\, Food Court
CATEGORIES:Hula,Princeville Shopping Center
ATTACH;FMTTYPE=image/jpeg:https://www.princevillecenter.com/wp-content/uploads/2022/09/hula-shows-princeville-center.jpg
END:VEVENT
BEGIN:VEVENT
DTSTART;TZID=Pacific/Honolulu:20280909T133000
DTEND;TZID=Pacific/Honolulu:20280909T143000
DTSTAMP:20260425T055216
CREATED:20250916T023840Z
LAST-MODIFIED:20250916T024007Z
UID:10000540-1852119000-1852122600@www.princevillecenter.com
SUMMARY:FREE SATURDAY HULA SHOW
DESCRIPTION:Enjoy a cultural experience like no other during our weekly Hula Show. Performers use music\, chanting\, and movement to tell the story of Kaua‘i. Aunty Bev’s Hula Halau takes the stage every Saturday from 1:30 – 2:30pm at the Food Court.
URL:https://www.princevillecenter.com/event/free-saturday-hula-shows-3-3-2/2028-09-09/
LOCATION:Princeville Shopping Center\, Food Court
CATEGORIES:Hula,Princeville Shopping Center
ATTACH;FMTTYPE=image/jpeg:https://www.princevillecenter.com/wp-content/uploads/2022/09/hula-shows-princeville-center.jpg
END:VEVENT
BEGIN:VEVENT
DTSTART;TZID=Pacific/Honolulu:20280910T160000
DTEND;TZID=Pacific/Honolulu:20280910T200000
DTSTAMP:20260425T055216
CREATED:20240514T214020Z
LAST-MODIFIED:20240514T214020Z
UID:10000305-1852214400-1852228800@www.princevillecenter.com
SUMMARY:PRINCEVILLE NIGHT MARKET
DESCRIPTION:On the second Sunday of each month\, local vendors gather their unique products and culinary delights for our Night Market. Browse handmade jewelry\, soaps\, candles\, artwork\, home décor\, clothing\, and more. After shopping\, grab a bite to eat – there is cuisine from around the world!
URL:https://www.princevillecenter.com/event/princeville-night-market-3/2028-09-10/
LOCATION:Princeville Shopping Center
CATEGORIES:Market
ATTACH;FMTTYPE=image/jpeg:https://www.princevillecenter.com/wp-content/uploads/2022/09/NightMarket.jpg
END:VEVENT
BEGIN:VEVENT
DTSTART;TZID=Pacific/Honolulu:20280916T133000
DTEND;TZID=Pacific/Honolulu:20280916T143000
DTSTAMP:20260425T055216
CREATED:20250916T023840Z
LAST-MODIFIED:20250916T024007Z
UID:10000541-1852723800-1852727400@www.princevillecenter.com
SUMMARY:FREE SATURDAY HULA SHOW
DESCRIPTION:Enjoy a cultural experience like no other during our weekly Hula Show. Performers use music\, chanting\, and movement to tell the story of Kaua‘i. Aunty Bev’s Hula Halau takes the stage every Saturday from 1:30 – 2:30pm at the Food Court.
URL:https://www.princevillecenter.com/event/free-saturday-hula-shows-3-3-2/2028-09-16/
LOCATION:Princeville Shopping Center\, Food Court
CATEGORIES:Hula,Princeville Shopping Center
ATTACH;FMTTYPE=image/jpeg:https://www.princevillecenter.com/wp-content/uploads/2022/09/hula-shows-princeville-center.jpg
END:VEVENT
BEGIN:VEVENT
DTSTART;TZID=Pacific/Honolulu:20280923T133000
DTEND;TZID=Pacific/Honolulu:20280923T143000
DTSTAMP:20260425T055216
CREATED:20250916T023840Z
LAST-MODIFIED:20250916T024007Z
UID:10000542-1853328600-1853332200@www.princevillecenter.com
SUMMARY:FREE SATURDAY HULA SHOW
DESCRIPTION:Enjoy a cultural experience like no other during our weekly Hula Show. Performers use music\, chanting\, and movement to tell the story of Kaua‘i. Aunty Bev’s Hula Halau takes the stage every Saturday from 1:30 – 2:30pm at the Food Court.
URL:https://www.princevillecenter.com/event/free-saturday-hula-shows-3-3-2/2028-09-23/
LOCATION:Princeville Shopping Center\, Food Court
CATEGORIES:Hula,Princeville Shopping Center
ATTACH;FMTTYPE=image/jpeg:https://www.princevillecenter.com/wp-content/uploads/2022/09/hula-shows-princeville-center.jpg
END:VEVENT
BEGIN:VEVENT
DTSTART;TZID=Pacific/Honolulu:20280930T133000
DTEND;TZID=Pacific/Honolulu:20280930T143000
DTSTAMP:20260425T055216
CREATED:20250916T023840Z
LAST-MODIFIED:20250916T024007Z
UID:10000543-1853933400-1853937000@www.princevillecenter.com
SUMMARY:FREE SATURDAY HULA SHOW
DESCRIPTION:Enjoy a cultural experience like no other during our weekly Hula Show. Performers use music\, chanting\, and movement to tell the story of Kaua‘i. Aunty Bev’s Hula Halau takes the stage every Saturday from 1:30 – 2:30pm at the Food Court.
URL:https://www.princevillecenter.com/event/free-saturday-hula-shows-3-3-2/2028-09-30/
LOCATION:Princeville Shopping Center\, Food Court
CATEGORIES:Hula,Princeville Shopping Center
ATTACH;FMTTYPE=image/jpeg:https://www.princevillecenter.com/wp-content/uploads/2022/09/hula-shows-princeville-center.jpg
END:VEVENT
BEGIN:VEVENT
DTSTART;TZID=Pacific/Honolulu:20281007T133000
DTEND;TZID=Pacific/Honolulu:20281007T143000
DTSTAMP:20260425T055216
CREATED:20250916T023840Z
LAST-MODIFIED:20250916T024007Z
UID:10000544-1854538200-1854541800@www.princevillecenter.com
SUMMARY:FREE SATURDAY HULA SHOW
DESCRIPTION:Enjoy a cultural experience like no other during our weekly Hula Show. Performers use music\, chanting\, and movement to tell the story of Kaua‘i. Aunty Bev’s Hula Halau takes the stage every Saturday from 1:30 – 2:30pm at the Food Court.
URL:https://www.princevillecenter.com/event/free-saturday-hula-shows-3-3-2/2028-10-07/
LOCATION:Princeville Shopping Center\, Food Court
CATEGORIES:Hula,Princeville Shopping Center
ATTACH;FMTTYPE=image/jpeg:https://www.princevillecenter.com/wp-content/uploads/2022/09/hula-shows-princeville-center.jpg
END:VEVENT
BEGIN:VEVENT
DTSTART;TZID=Pacific/Honolulu:20281008T160000
DTEND;TZID=Pacific/Honolulu:20281008T200000
DTSTAMP:20260425T055216
CREATED:20240514T214020Z
LAST-MODIFIED:20240514T214020Z
UID:10000306-1854633600-1854648000@www.princevillecenter.com
SUMMARY:PRINCEVILLE NIGHT MARKET
DESCRIPTION:On the second Sunday of each month\, local vendors gather their unique products and culinary delights for our Night Market. Browse handmade jewelry\, soaps\, candles\, artwork\, home décor\, clothing\, and more. After shopping\, grab a bite to eat – there is cuisine from around the world!
URL:https://www.princevillecenter.com/event/princeville-night-market-3/2028-10-08/
LOCATION:Princeville Shopping Center
CATEGORIES:Market
ATTACH;FMTTYPE=image/jpeg:https://www.princevillecenter.com/wp-content/uploads/2022/09/NightMarket.jpg
END:VEVENT
BEGIN:VEVENT
DTSTART;TZID=Pacific/Honolulu:20281014T133000
DTEND;TZID=Pacific/Honolulu:20281014T143000
DTSTAMP:20260425T055216
CREATED:20250916T023840Z
LAST-MODIFIED:20250916T024007Z
UID:10000545-1855143000-1855146600@www.princevillecenter.com
SUMMARY:FREE SATURDAY HULA SHOW
DESCRIPTION:Enjoy a cultural experience like no other during our weekly Hula Show. Performers use music\, chanting\, and movement to tell the story of Kaua‘i. Aunty Bev’s Hula Halau takes the stage every Saturday from 1:30 – 2:30pm at the Food Court.
URL:https://www.princevillecenter.com/event/free-saturday-hula-shows-3-3-2/2028-10-14/
LOCATION:Princeville Shopping Center\, Food Court
CATEGORIES:Hula,Princeville Shopping Center
ATTACH;FMTTYPE=image/jpeg:https://www.princevillecenter.com/wp-content/uploads/2022/09/hula-shows-princeville-center.jpg
END:VEVENT
BEGIN:VEVENT
DTSTART;TZID=Pacific/Honolulu:20281021T133000
DTEND;TZID=Pacific/Honolulu:20281021T143000
DTSTAMP:20260425T055216
CREATED:20250916T023840Z
LAST-MODIFIED:20250916T024007Z
UID:10000546-1855747800-1855751400@www.princevillecenter.com
SUMMARY:FREE SATURDAY HULA SHOW
DESCRIPTION:Enjoy a cultural experience like no other during our weekly Hula Show. Performers use music\, chanting\, and movement to tell the story of Kaua‘i. Aunty Bev’s Hula Halau takes the stage every Saturday from 1:30 – 2:30pm at the Food Court.
URL:https://www.princevillecenter.com/event/free-saturday-hula-shows-3-3-2/2028-10-21/
LOCATION:Princeville Shopping Center\, Food Court
CATEGORIES:Hula,Princeville Shopping Center
ATTACH;FMTTYPE=image/jpeg:https://www.princevillecenter.com/wp-content/uploads/2022/09/hula-shows-princeville-center.jpg
END:VEVENT
BEGIN:VEVENT
DTSTART;TZID=Pacific/Honolulu:20281028T133000
DTEND;TZID=Pacific/Honolulu:20281028T143000
DTSTAMP:20260425T055216
CREATED:20250916T023840Z
LAST-MODIFIED:20250916T024007Z
UID:10000547-1856352600-1856356200@www.princevillecenter.com
SUMMARY:FREE SATURDAY HULA SHOW
DESCRIPTION:Enjoy a cultural experience like no other during our weekly Hula Show. Performers use music\, chanting\, and movement to tell the story of Kaua‘i. Aunty Bev’s Hula Halau takes the stage every Saturday from 1:30 – 2:30pm at the Food Court.
URL:https://www.princevillecenter.com/event/free-saturday-hula-shows-3-3-2/2028-10-28/
LOCATION:Princeville Shopping Center\, Food Court
CATEGORIES:Hula,Princeville Shopping Center
ATTACH;FMTTYPE=image/jpeg:https://www.princevillecenter.com/wp-content/uploads/2022/09/hula-shows-princeville-center.jpg
END:VEVENT
BEGIN:VEVENT
DTSTART;TZID=Pacific/Honolulu:20281104T133000
DTEND;TZID=Pacific/Honolulu:20281104T143000
DTSTAMP:20260425T055216
CREATED:20250916T023840Z
LAST-MODIFIED:20250916T024007Z
UID:10000548-1856957400-1856961000@www.princevillecenter.com
SUMMARY:FREE SATURDAY HULA SHOW
DESCRIPTION:Enjoy a cultural experience like no other during our weekly Hula Show. Performers use music\, chanting\, and movement to tell the story of Kaua‘i. Aunty Bev’s Hula Halau takes the stage every Saturday from 1:30 – 2:30pm at the Food Court.
URL:https://www.princevillecenter.com/event/free-saturday-hula-shows-3-3-2/2028-11-04/
LOCATION:Princeville Shopping Center\, Food Court
CATEGORIES:Hula,Princeville Shopping Center
ATTACH;FMTTYPE=image/jpeg:https://www.princevillecenter.com/wp-content/uploads/2022/09/hula-shows-princeville-center.jpg
END:VEVENT
BEGIN:VEVENT
DTSTART;TZID=Pacific/Honolulu:20281111T133000
DTEND;TZID=Pacific/Honolulu:20281111T143000
DTSTAMP:20260425T055216
CREATED:20250916T023840Z
LAST-MODIFIED:20250916T024007Z
UID:10000549-1857562200-1857565800@www.princevillecenter.com
SUMMARY:FREE SATURDAY HULA SHOW
DESCRIPTION:Enjoy a cultural experience like no other during our weekly Hula Show. Performers use music\, chanting\, and movement to tell the story of Kaua‘i. Aunty Bev’s Hula Halau takes the stage every Saturday from 1:30 – 2:30pm at the Food Court.
URL:https://www.princevillecenter.com/event/free-saturday-hula-shows-3-3-2/2028-11-11/
LOCATION:Princeville Shopping Center\, Food Court
CATEGORIES:Hula,Princeville Shopping Center
ATTACH;FMTTYPE=image/jpeg:https://www.princevillecenter.com/wp-content/uploads/2022/09/hula-shows-princeville-center.jpg
END:VEVENT
BEGIN:VEVENT
DTSTART;TZID=Pacific/Honolulu:20281112T160000
DTEND;TZID=Pacific/Honolulu:20281112T200000
DTSTAMP:20260425T055216
CREATED:20240514T214020Z
LAST-MODIFIED:20240514T214020Z
UID:10000307-1857657600-1857672000@www.princevillecenter.com
SUMMARY:PRINCEVILLE NIGHT MARKET
DESCRIPTION:On the second Sunday of each month\, local vendors gather their unique products and culinary delights for our Night Market. Browse handmade jewelry\, soaps\, candles\, artwork\, home décor\, clothing\, and more. After shopping\, grab a bite to eat – there is cuisine from around the world!
URL:https://www.princevillecenter.com/event/princeville-night-market-3/2028-11-12/
LOCATION:Princeville Shopping Center
CATEGORIES:Market
ATTACH;FMTTYPE=image/jpeg:https://www.princevillecenter.com/wp-content/uploads/2022/09/NightMarket.jpg
END:VEVENT
END:VCALENDAR