BEGIN:VCALENDAR
VERSION:2.0
PRODID:-//Princeville Center - ECPv6.15.20//NONSGML v1.0//EN
CALSCALE:GREGORIAN
METHOD:PUBLISH
X-WR-CALNAME:Princeville Center
X-ORIGINAL-URL:https://www.princevillecenter.com
X-WR-CALDESC:Events for Princeville Center
REFRESH-INTERVAL;VALUE=DURATION:PT1H
X-Robots-Tag:noindex
X-PUBLISHED-TTL:PT1H
BEGIN:VTIMEZONE
TZID:Pacific/Honolulu
BEGIN:STANDARD
TZOFFSETFROM:-1000
TZOFFSETTO:-1000
TZNAME:HST
DTSTART:20210101T000000
END:STANDARD
END:VTIMEZONE
BEGIN:VEVENT
DTSTART;TZID=Pacific/Honolulu:20230514T160000
DTEND;TZID=Pacific/Honolulu:20230514T200000
DTSTAMP:20260425T041402
CREATED:20230512T010810Z
LAST-MODIFIED:20230529T022458Z
UID:10000240-1684080000-1684094400@www.princevillecenter.com
SUMMARY:PRINCEVILLE NIGHT MARKET
DESCRIPTION:On the second Sunday of each month\, local vendors gather their unique products and culinary delights for our Night Market. Browse handmade jewelry\, soaps\, candles\, artwork\, home décor\, clothing\, and more. After shopping\, grab a bite to eat – there is cuisine from around the world!
URL:https://www.princevillecenter.com/event/princeville-night-market-2/
LOCATION:Princeville Shopping Center
CATEGORIES:Market,Princeville Shopping Center
ATTACH;FMTTYPE=image/jpeg:https://www.princevillecenter.com/wp-content/uploads/2022/09/NightMarket.jpg
END:VEVENT
BEGIN:VEVENT
DTSTART;TZID=Pacific/Honolulu:20230513T133000
DTEND;TZID=Pacific/Honolulu:20230513T143000
DTSTAMP:20260425T041402
CREATED:20230512T010230Z
LAST-MODIFIED:20230529T015338Z
UID:10000205-1683984600-1683988200@www.princevillecenter.com
SUMMARY:FREE SATURDAY HULA SHOWS
DESCRIPTION:Enjoy a cultural experience like no other during our weekly Hula Show. Performers use music\, chanting\, and movement to tell the story of Kaua‘i. Aunty Bev’s Hula Halau takes the stage every Saturday from 1:30 – 2:30pm at the Food Court.
URL:https://www.princevillecenter.com/event/free-saturday-hula-shows-3/2023-05-13/
LOCATION:Princeville Shopping Center\, Food Court
CATEGORIES:Hula,Princeville Shopping Center
ATTACH;FMTTYPE=image/jpeg:https://www.princevillecenter.com/wp-content/uploads/2022/09/hula-shows-princeville-center.jpg
END:VEVENT
BEGIN:VEVENT
DTSTART;TZID=Pacific/Honolulu:20230506T033000
DTEND;TZID=Pacific/Honolulu:20230506T043000
DTSTAMP:20260425T041402
CREATED:20230512T014653Z
LAST-MODIFIED:20230512T014653Z
UID:10000033-1683343800-1683347400@www.princevillecenter.com
SUMMARY:FREE SATURDAY HULA SHOWS
DESCRIPTION:Enjoy a cultural experience like no other during our weekly Hula Show. Performers use music\, chanting\, and movement to tell the story of Kaua‘i. Aunty Bev’s Hula Halau takes the stage every Saturday from 1:30 – 2:30pm at the Food Court.
URL:https://www.princevillecenter.com/event/free-saturday-hula-shows-4/
LOCATION:Princeville Shopping Center\, Food Court
CATEGORIES:Hula,Princeville Shopping Center
ATTACH;FMTTYPE=image/jpeg:https://www.princevillecenter.com/wp-content/uploads/2022/09/hula-shows-princeville-center.jpg
END:VEVENT
BEGIN:VEVENT
DTSTART;TZID=Pacific/Honolulu:20230429T033000
DTEND;TZID=Pacific/Honolulu:20230429T043000
DTSTAMP:20260425T041402
CREATED:20230512T014734Z
LAST-MODIFIED:20230512T014735Z
UID:10000124-1682739000-1682742600@www.princevillecenter.com
SUMMARY:FREE SATURDAY HULA SHOWS
DESCRIPTION:Enjoy a cultural experience like no other during our weekly Hula Show. Performers use music\, chanting\, and movement to tell the story of Kaua‘i. Aunty Bev’s Hula Halau takes the stage every Saturday from 1:30 – 2:30pm at the Food Court.
URL:https://www.princevillecenter.com/event/free-saturday-hula-shows-5/2023-04-29/
LOCATION:Princeville Shopping Center\, Food Court
CATEGORIES:Hula,Princeville Shopping Center
ATTACH;FMTTYPE=image/jpeg:https://www.princevillecenter.com/wp-content/uploads/2022/09/hula-shows-princeville-center.jpg
END:VEVENT
BEGIN:VEVENT
DTSTART;TZID=Pacific/Honolulu:20230422T033000
DTEND;TZID=Pacific/Honolulu:20230422T043000
DTSTAMP:20260425T041403
CREATED:20230512T014734Z
LAST-MODIFIED:20230512T014735Z
UID:10000123-1682134200-1682137800@www.princevillecenter.com
SUMMARY:FREE SATURDAY HULA SHOWS
DESCRIPTION:Enjoy a cultural experience like no other during our weekly Hula Show. Performers use music\, chanting\, and movement to tell the story of Kaua‘i. Aunty Bev’s Hula Halau takes the stage every Saturday from 1:30 – 2:30pm at the Food Court.
URL:https://www.princevillecenter.com/event/free-saturday-hula-shows-5/2023-04-22/
LOCATION:Princeville Shopping Center\, Food Court
CATEGORIES:Hula,Princeville Shopping Center
ATTACH;FMTTYPE=image/jpeg:https://www.princevillecenter.com/wp-content/uploads/2022/09/hula-shows-princeville-center.jpg
END:VEVENT
BEGIN:VEVENT
DTSTART;TZID=Pacific/Honolulu:20230415T033000
DTEND;TZID=Pacific/Honolulu:20230415T043000
DTSTAMP:20260425T041403
CREATED:20230512T014734Z
LAST-MODIFIED:20230512T014735Z
UID:10000122-1681529400-1681533000@www.princevillecenter.com
SUMMARY:FREE SATURDAY HULA SHOWS
DESCRIPTION:Enjoy a cultural experience like no other during our weekly Hula Show. Performers use music\, chanting\, and movement to tell the story of Kaua‘i. Aunty Bev’s Hula Halau takes the stage every Saturday from 1:30 – 2:30pm at the Food Court.
URL:https://www.princevillecenter.com/event/free-saturday-hula-shows-5/2023-04-15/
LOCATION:Princeville Shopping Center\, Food Court
CATEGORIES:Hula,Princeville Shopping Center
ATTACH;FMTTYPE=image/jpeg:https://www.princevillecenter.com/wp-content/uploads/2022/09/hula-shows-princeville-center.jpg
END:VEVENT
BEGIN:VEVENT
DTSTART;TZID=Pacific/Honolulu:20230409T060000
DTEND;TZID=Pacific/Honolulu:20230409T100000
DTSTAMP:20260425T041403
CREATED:20220922T102550Z
LAST-MODIFIED:20230510T020147Z
UID:10000084-1681020000-1681034400@www.princevillecenter.com
SUMMARY:PRINCEVILLE NIGHT MARKET
DESCRIPTION:On the second Sunday of each month\, local vendors gather their unique products and culinary delights for our Night Market. Browse handmade jewelry\, soaps\, candles\, artwork\, home décor\, clothing\, and more. After shopping\, grab a bite to eat – there is cuisine from around the world!
URL:https://www.princevillecenter.com/event/princeville-night-market/2023-04-09/
LOCATION:Princeville Shopping Center
CATEGORIES:Market,Princeville Shopping Center
ATTACH;FMTTYPE=image/jpeg:https://www.princevillecenter.com/wp-content/uploads/2022/09/sunday_night_market-photo.jpg
END:VEVENT
BEGIN:VEVENT
DTSTART;TZID=Pacific/Honolulu:20230408T033000
DTEND;TZID=Pacific/Honolulu:20230408T043000
DTSTAMP:20260425T041403
CREATED:20230512T014734Z
LAST-MODIFIED:20230512T014735Z
UID:10000121-1680924600-1680928200@www.princevillecenter.com
SUMMARY:FREE SATURDAY HULA SHOWS
DESCRIPTION:Enjoy a cultural experience like no other during our weekly Hula Show. Performers use music\, chanting\, and movement to tell the story of Kaua‘i. Aunty Bev’s Hula Halau takes the stage every Saturday from 1:30 – 2:30pm at the Food Court.
URL:https://www.princevillecenter.com/event/free-saturday-hula-shows-5/2023-04-08/
LOCATION:Princeville Shopping Center\, Food Court
CATEGORIES:Hula,Princeville Shopping Center
ATTACH;FMTTYPE=image/jpeg:https://www.princevillecenter.com/wp-content/uploads/2022/09/hula-shows-princeville-center.jpg
END:VEVENT
BEGIN:VEVENT
DTSTART;TZID=Pacific/Honolulu:20230401T033000
DTEND;TZID=Pacific/Honolulu:20230401T043000
DTSTAMP:20260425T041403
CREATED:20230512T014734Z
LAST-MODIFIED:20230512T014735Z
UID:10000028-1680319800-1680323400@www.princevillecenter.com
SUMMARY:FREE SATURDAY HULA SHOWS
DESCRIPTION:Enjoy a cultural experience like no other during our weekly Hula Show. Performers use music\, chanting\, and movement to tell the story of Kaua‘i. Aunty Bev’s Hula Halau takes the stage every Saturday from 1:30 – 2:30pm at the Food Court.
URL:https://www.princevillecenter.com/event/free-saturday-hula-shows-5/2023-04-01/
LOCATION:Princeville Shopping Center\, Food Court
CATEGORIES:Hula,Princeville Shopping Center
ATTACH;FMTTYPE=image/jpeg:https://www.princevillecenter.com/wp-content/uploads/2022/09/hula-shows-princeville-center.jpg
END:VEVENT
BEGIN:VEVENT
DTSTART;TZID=Pacific/Honolulu:20230325T033000
DTEND;TZID=Pacific/Honolulu:20230325T043000
DTSTAMP:20260425T041403
CREATED:20230512T014826Z
LAST-MODIFIED:20230512T014827Z
UID:10000125-1679715000-1679718600@www.princevillecenter.com
SUMMARY:FREE SATURDAY HULA SHOWS
DESCRIPTION:Enjoy a cultural experience like no other during our weekly Hula Show. Performers use music\, chanting\, and movement to tell the story of Kaua‘i. Aunty Bev’s Hula Halau takes the stage every Saturday from 1:30 – 2:30pm at the Food Court.
URL:https://www.princevillecenter.com/event/free-saturday-hula-shows-6/2023-03-25/
LOCATION:Princeville Shopping Center\, Food Court
CATEGORIES:Hula,Princeville Shopping Center
ATTACH;FMTTYPE=image/jpeg:https://www.princevillecenter.com/wp-content/uploads/2022/09/hula-shows-princeville-center.jpg
END:VEVENT
BEGIN:VEVENT
DTSTART;TZID=Pacific/Honolulu:20230318T033000
DTEND;TZID=Pacific/Honolulu:20230318T043000
DTSTAMP:20260425T041403
CREATED:20230512T014826Z
LAST-MODIFIED:20230512T014827Z
UID:10000026-1679110200-1679113800@www.princevillecenter.com
SUMMARY:FREE SATURDAY HULA SHOWS
DESCRIPTION:Enjoy a cultural experience like no other during our weekly Hula Show. Performers use music\, chanting\, and movement to tell the story of Kaua‘i. Aunty Bev’s Hula Halau takes the stage every Saturday from 1:30 – 2:30pm at the Food Court.
URL:https://www.princevillecenter.com/event/free-saturday-hula-shows-6/2023-03-18/
LOCATION:Princeville Shopping Center\, Food Court
CATEGORIES:Hula,Princeville Shopping Center
ATTACH;FMTTYPE=image/jpeg:https://www.princevillecenter.com/wp-content/uploads/2022/09/hula-shows-princeville-center.jpg
END:VEVENT
BEGIN:VEVENT
DTSTART;TZID=Pacific/Honolulu:20230312T060000
DTEND;TZID=Pacific/Honolulu:20230312T100000
DTSTAMP:20260425T041403
CREATED:20220922T102550Z
LAST-MODIFIED:20230510T020147Z
UID:10000083-1678600800-1678615200@www.princevillecenter.com
SUMMARY:PRINCEVILLE NIGHT MARKET
DESCRIPTION:On the second Sunday of each month\, local vendors gather their unique products and culinary delights for our Night Market. Browse handmade jewelry\, soaps\, candles\, artwork\, home décor\, clothing\, and more. After shopping\, grab a bite to eat – there is cuisine from around the world!
URL:https://www.princevillecenter.com/event/princeville-night-market/2023-03-12/
LOCATION:Princeville Shopping Center
CATEGORIES:Market,Princeville Shopping Center
ATTACH;FMTTYPE=image/jpeg:https://www.princevillecenter.com/wp-content/uploads/2022/09/sunday_night_market-photo.jpg
END:VEVENT
BEGIN:VEVENT
DTSTART;TZID=Pacific/Honolulu:20230311T033000
DTEND;TZID=Pacific/Honolulu:20230311T033000
DTSTAMP:20260425T041403
CREATED:20220920T142530Z
LAST-MODIFIED:20230512T014935Z
UID:10000150-1678505400-1678505400@www.princevillecenter.com
SUMMARY:FREE SATURDAY HULA SHOWS
DESCRIPTION:Enjoy a cultural experience like no other during our weekly Hula Show. Performers use music\, chanting\, and movement to tell the story of Kaua‘i. Aunty Bev’s Hula Halau takes the stage every Saturday from 1:30 – 2:30pm at the Food Court.
URL:https://www.princevillecenter.com/event/free-saturday-hula-shows/2023-03-11/
LOCATION:Princeville Shopping Center\, Food Court
CATEGORIES:Hula,Princeville Shopping Center
ATTACH;FMTTYPE=image/jpeg:https://www.princevillecenter.com/wp-content/uploads/2022/09/hula-shows-princeville-center.jpg
END:VEVENT
BEGIN:VEVENT
DTSTART;TZID=Pacific/Honolulu:20230304T033000
DTEND;TZID=Pacific/Honolulu:20230304T033000
DTSTAMP:20260425T041403
CREATED:20220920T142530Z
LAST-MODIFIED:20230512T014935Z
UID:10000149-1677900600-1677900600@www.princevillecenter.com
SUMMARY:FREE SATURDAY HULA SHOWS
DESCRIPTION:Enjoy a cultural experience like no other during our weekly Hula Show. Performers use music\, chanting\, and movement to tell the story of Kaua‘i. Aunty Bev’s Hula Halau takes the stage every Saturday from 1:30 – 2:30pm at the Food Court.
URL:https://www.princevillecenter.com/event/free-saturday-hula-shows/2023-03-04/
LOCATION:Princeville Shopping Center\, Food Court
CATEGORIES:Hula,Princeville Shopping Center
ATTACH;FMTTYPE=image/jpeg:https://www.princevillecenter.com/wp-content/uploads/2022/09/hula-shows-princeville-center.jpg
END:VEVENT
BEGIN:VEVENT
DTSTART;TZID=Pacific/Honolulu:20230225T033000
DTEND;TZID=Pacific/Honolulu:20230225T033000
DTSTAMP:20260425T041403
CREATED:20220920T142530Z
LAST-MODIFIED:20230512T014935Z
UID:10000148-1677295800-1677295800@www.princevillecenter.com
SUMMARY:FREE SATURDAY HULA SHOWS
DESCRIPTION:Enjoy a cultural experience like no other during our weekly Hula Show. Performers use music\, chanting\, and movement to tell the story of Kaua‘i. Aunty Bev’s Hula Halau takes the stage every Saturday from 1:30 – 2:30pm at the Food Court.
URL:https://www.princevillecenter.com/event/free-saturday-hula-shows/2023-02-25/
LOCATION:Princeville Shopping Center\, Food Court
CATEGORIES:Hula,Princeville Shopping Center
ATTACH;FMTTYPE=image/jpeg:https://www.princevillecenter.com/wp-content/uploads/2022/09/hula-shows-princeville-center.jpg
END:VEVENT
BEGIN:VEVENT
DTSTART;TZID=Pacific/Honolulu:20230218T033000
DTEND;TZID=Pacific/Honolulu:20230218T033000
DTSTAMP:20260425T041403
CREATED:20220920T142530Z
LAST-MODIFIED:20230512T014935Z
UID:10000147-1676691000-1676691000@www.princevillecenter.com
SUMMARY:FREE SATURDAY HULA SHOWS
DESCRIPTION:Enjoy a cultural experience like no other during our weekly Hula Show. Performers use music\, chanting\, and movement to tell the story of Kaua‘i. Aunty Bev’s Hula Halau takes the stage every Saturday from 1:30 – 2:30pm at the Food Court.
URL:https://www.princevillecenter.com/event/free-saturday-hula-shows/2023-02-18/
LOCATION:Princeville Shopping Center\, Food Court
CATEGORIES:Hula,Princeville Shopping Center
ATTACH;FMTTYPE=image/jpeg:https://www.princevillecenter.com/wp-content/uploads/2022/09/hula-shows-princeville-center.jpg
END:VEVENT
BEGIN:VEVENT
DTSTART;TZID=Pacific/Honolulu:20230212T060000
DTEND;TZID=Pacific/Honolulu:20230212T100000
DTSTAMP:20260425T041403
CREATED:20220922T102550Z
LAST-MODIFIED:20230510T020147Z
UID:10000082-1676181600-1676196000@www.princevillecenter.com
SUMMARY:PRINCEVILLE NIGHT MARKET
DESCRIPTION:On the second Sunday of each month\, local vendors gather their unique products and culinary delights for our Night Market. Browse handmade jewelry\, soaps\, candles\, artwork\, home décor\, clothing\, and more. After shopping\, grab a bite to eat – there is cuisine from around the world!
URL:https://www.princevillecenter.com/event/princeville-night-market/2023-02-12/
LOCATION:Princeville Shopping Center
CATEGORIES:Market,Princeville Shopping Center
ATTACH;FMTTYPE=image/jpeg:https://www.princevillecenter.com/wp-content/uploads/2022/09/sunday_night_market-photo.jpg
END:VEVENT
BEGIN:VEVENT
DTSTART;TZID=Pacific/Honolulu:20230211T033000
DTEND;TZID=Pacific/Honolulu:20230211T033000
DTSTAMP:20260425T041403
CREATED:20220920T142530Z
LAST-MODIFIED:20230512T014935Z
UID:10000146-1676086200-1676086200@www.princevillecenter.com
SUMMARY:FREE SATURDAY HULA SHOWS
DESCRIPTION:Enjoy a cultural experience like no other during our weekly Hula Show. Performers use music\, chanting\, and movement to tell the story of Kaua‘i. Aunty Bev’s Hula Halau takes the stage every Saturday from 1:30 – 2:30pm at the Food Court.
URL:https://www.princevillecenter.com/event/free-saturday-hula-shows/2023-02-11/
LOCATION:Princeville Shopping Center\, Food Court
CATEGORIES:Hula,Princeville Shopping Center
ATTACH;FMTTYPE=image/jpeg:https://www.princevillecenter.com/wp-content/uploads/2022/09/hula-shows-princeville-center.jpg
END:VEVENT
BEGIN:VEVENT
DTSTART;TZID=Pacific/Honolulu:20230204T033000
DTEND;TZID=Pacific/Honolulu:20230204T033000
DTSTAMP:20260425T041403
CREATED:20220920T142530Z
LAST-MODIFIED:20230512T014935Z
UID:10000145-1675481400-1675481400@www.princevillecenter.com
SUMMARY:FREE SATURDAY HULA SHOWS
DESCRIPTION:Enjoy a cultural experience like no other during our weekly Hula Show. Performers use music\, chanting\, and movement to tell the story of Kaua‘i. Aunty Bev’s Hula Halau takes the stage every Saturday from 1:30 – 2:30pm at the Food Court.
URL:https://www.princevillecenter.com/event/free-saturday-hula-shows/2023-02-04/
LOCATION:Princeville Shopping Center\, Food Court
CATEGORIES:Hula,Princeville Shopping Center
ATTACH;FMTTYPE=image/jpeg:https://www.princevillecenter.com/wp-content/uploads/2022/09/hula-shows-princeville-center.jpg
END:VEVENT
BEGIN:VEVENT
DTSTART;TZID=Pacific/Honolulu:20230128T033000
DTEND;TZID=Pacific/Honolulu:20230128T033000
DTSTAMP:20260425T041403
CREATED:20220920T142530Z
LAST-MODIFIED:20230512T014935Z
UID:10000144-1674876600-1674876600@www.princevillecenter.com
SUMMARY:FREE SATURDAY HULA SHOWS
DESCRIPTION:Enjoy a cultural experience like no other during our weekly Hula Show. Performers use music\, chanting\, and movement to tell the story of Kaua‘i. Aunty Bev’s Hula Halau takes the stage every Saturday from 1:30 – 2:30pm at the Food Court.
URL:https://www.princevillecenter.com/event/free-saturday-hula-shows/2023-01-28/
LOCATION:Princeville Shopping Center\, Food Court
CATEGORIES:Hula,Princeville Shopping Center
ATTACH;FMTTYPE=image/jpeg:https://www.princevillecenter.com/wp-content/uploads/2022/09/hula-shows-princeville-center.jpg
END:VEVENT
BEGIN:VEVENT
DTSTART;TZID=Pacific/Honolulu:20230121T033000
DTEND;TZID=Pacific/Honolulu:20230121T033000
DTSTAMP:20260425T041403
CREATED:20220920T142530Z
LAST-MODIFIED:20230512T014935Z
UID:10000143-1674271800-1674271800@www.princevillecenter.com
SUMMARY:FREE SATURDAY HULA SHOWS
DESCRIPTION:Enjoy a cultural experience like no other during our weekly Hula Show. Performers use music\, chanting\, and movement to tell the story of Kaua‘i. Aunty Bev’s Hula Halau takes the stage every Saturday from 1:30 – 2:30pm at the Food Court.
URL:https://www.princevillecenter.com/event/free-saturday-hula-shows/2023-01-21/
LOCATION:Princeville Shopping Center\, Food Court
CATEGORIES:Hula,Princeville Shopping Center
ATTACH;FMTTYPE=image/jpeg:https://www.princevillecenter.com/wp-content/uploads/2022/09/hula-shows-princeville-center.jpg
END:VEVENT
BEGIN:VEVENT
DTSTART;TZID=Pacific/Honolulu:20230114T033000
DTEND;TZID=Pacific/Honolulu:20230114T033000
DTSTAMP:20260425T041403
CREATED:20220920T142530Z
LAST-MODIFIED:20230512T014935Z
UID:10000142-1673667000-1673667000@www.princevillecenter.com
SUMMARY:FREE SATURDAY HULA SHOWS
DESCRIPTION:Enjoy a cultural experience like no other during our weekly Hula Show. Performers use music\, chanting\, and movement to tell the story of Kaua‘i. Aunty Bev’s Hula Halau takes the stage every Saturday from 1:30 – 2:30pm at the Food Court.
URL:https://www.princevillecenter.com/event/free-saturday-hula-shows/2023-01-14/
LOCATION:Princeville Shopping Center\, Food Court
CATEGORIES:Hula,Princeville Shopping Center
ATTACH;FMTTYPE=image/jpeg:https://www.princevillecenter.com/wp-content/uploads/2022/09/hula-shows-princeville-center.jpg
END:VEVENT
BEGIN:VEVENT
DTSTART;TZID=Pacific/Honolulu:20230108T060000
DTEND;TZID=Pacific/Honolulu:20230108T100000
DTSTAMP:20260425T041403
CREATED:20220922T102550Z
LAST-MODIFIED:20230510T020147Z
UID:10000081-1673157600-1673172000@www.princevillecenter.com
SUMMARY:PRINCEVILLE NIGHT MARKET
DESCRIPTION:On the second Sunday of each month\, local vendors gather their unique products and culinary delights for our Night Market. Browse handmade jewelry\, soaps\, candles\, artwork\, home décor\, clothing\, and more. After shopping\, grab a bite to eat – there is cuisine from around the world!
URL:https://www.princevillecenter.com/event/princeville-night-market/2023-01-08/
LOCATION:Princeville Shopping Center
CATEGORIES:Market,Princeville Shopping Center
ATTACH;FMTTYPE=image/jpeg:https://www.princevillecenter.com/wp-content/uploads/2022/09/sunday_night_market-photo.jpg
END:VEVENT
BEGIN:VEVENT
DTSTART;TZID=Pacific/Honolulu:20230107T033000
DTEND;TZID=Pacific/Honolulu:20230107T033000
DTSTAMP:20260425T041403
CREATED:20220920T142530Z
LAST-MODIFIED:20230512T014935Z
UID:10000141-1673062200-1673062200@www.princevillecenter.com
SUMMARY:FREE SATURDAY HULA SHOWS
DESCRIPTION:Enjoy a cultural experience like no other during our weekly Hula Show. Performers use music\, chanting\, and movement to tell the story of Kaua‘i. Aunty Bev’s Hula Halau takes the stage every Saturday from 1:30 – 2:30pm at the Food Court.
URL:https://www.princevillecenter.com/event/free-saturday-hula-shows/2023-01-07/
LOCATION:Princeville Shopping Center\, Food Court
CATEGORIES:Hula,Princeville Shopping Center
ATTACH;FMTTYPE=image/jpeg:https://www.princevillecenter.com/wp-content/uploads/2022/09/hula-shows-princeville-center.jpg
END:VEVENT
BEGIN:VEVENT
DTSTART;TZID=Pacific/Honolulu:20221231T033000
DTEND;TZID=Pacific/Honolulu:20221231T033000
DTSTAMP:20260425T041403
CREATED:20220920T142530Z
LAST-MODIFIED:20230512T014935Z
UID:10000140-1672457400-1672457400@www.princevillecenter.com
SUMMARY:FREE SATURDAY HULA SHOWS
DESCRIPTION:Enjoy a cultural experience like no other during our weekly Hula Show. Performers use music\, chanting\, and movement to tell the story of Kaua‘i. Aunty Bev’s Hula Halau takes the stage every Saturday from 1:30 – 2:30pm at the Food Court.
URL:https://www.princevillecenter.com/event/free-saturday-hula-shows/2022-12-31/
LOCATION:Princeville Shopping Center\, Food Court
CATEGORIES:Hula,Princeville Shopping Center
ATTACH;FMTTYPE=image/jpeg:https://www.princevillecenter.com/wp-content/uploads/2022/09/hula-shows-princeville-center.jpg
END:VEVENT
BEGIN:VEVENT
DTSTART;TZID=Pacific/Honolulu:20221224T033000
DTEND;TZID=Pacific/Honolulu:20221224T033000
DTSTAMP:20260425T041403
CREATED:20220920T142530Z
LAST-MODIFIED:20230512T014935Z
UID:10000139-1671852600-1671852600@www.princevillecenter.com
SUMMARY:FREE SATURDAY HULA SHOWS
DESCRIPTION:Enjoy a cultural experience like no other during our weekly Hula Show. Performers use music\, chanting\, and movement to tell the story of Kaua‘i. Aunty Bev’s Hula Halau takes the stage every Saturday from 1:30 – 2:30pm at the Food Court.
URL:https://www.princevillecenter.com/event/free-saturday-hula-shows/2022-12-24/
LOCATION:Princeville Shopping Center\, Food Court
CATEGORIES:Hula,Princeville Shopping Center
ATTACH;FMTTYPE=image/jpeg:https://www.princevillecenter.com/wp-content/uploads/2022/09/hula-shows-princeville-center.jpg
END:VEVENT
BEGIN:VEVENT
DTSTART;TZID=Pacific/Honolulu:20221217T033000
DTEND;TZID=Pacific/Honolulu:20221217T033000
DTSTAMP:20260425T041403
CREATED:20220920T142530Z
LAST-MODIFIED:20230512T014935Z
UID:10000138-1671247800-1671247800@www.princevillecenter.com
SUMMARY:FREE SATURDAY HULA SHOWS
DESCRIPTION:Enjoy a cultural experience like no other during our weekly Hula Show. Performers use music\, chanting\, and movement to tell the story of Kaua‘i. Aunty Bev’s Hula Halau takes the stage every Saturday from 1:30 – 2:30pm at the Food Court.
URL:https://www.princevillecenter.com/event/free-saturday-hula-shows/2022-12-17/
LOCATION:Princeville Shopping Center\, Food Court
CATEGORIES:Hula,Princeville Shopping Center
ATTACH;FMTTYPE=image/jpeg:https://www.princevillecenter.com/wp-content/uploads/2022/09/hula-shows-princeville-center.jpg
END:VEVENT
BEGIN:VEVENT
DTSTART;TZID=Pacific/Honolulu:20221211T060000
DTEND;TZID=Pacific/Honolulu:20221211T100000
DTSTAMP:20260425T041403
CREATED:20220922T102550Z
LAST-MODIFIED:20230510T020147Z
UID:10000080-1670738400-1670752800@www.princevillecenter.com
SUMMARY:PRINCEVILLE NIGHT MARKET
DESCRIPTION:On the second Sunday of each month\, local vendors gather their unique products and culinary delights for our Night Market. Browse handmade jewelry\, soaps\, candles\, artwork\, home décor\, clothing\, and more. After shopping\, grab a bite to eat – there is cuisine from around the world!
URL:https://www.princevillecenter.com/event/princeville-night-market/2022-12-11/
LOCATION:Princeville Shopping Center
CATEGORIES:Market,Princeville Shopping Center
ATTACH;FMTTYPE=image/jpeg:https://www.princevillecenter.com/wp-content/uploads/2022/09/sunday_night_market-photo.jpg
END:VEVENT
BEGIN:VEVENT
DTSTART;TZID=Pacific/Honolulu:20221210T033000
DTEND;TZID=Pacific/Honolulu:20221210T033000
DTSTAMP:20260425T041403
CREATED:20220920T142530Z
LAST-MODIFIED:20230512T014935Z
UID:10000137-1670643000-1670643000@www.princevillecenter.com
SUMMARY:FREE SATURDAY HULA SHOWS
DESCRIPTION:Enjoy a cultural experience like no other during our weekly Hula Show. Performers use music\, chanting\, and movement to tell the story of Kaua‘i. Aunty Bev’s Hula Halau takes the stage every Saturday from 1:30 – 2:30pm at the Food Court.
URL:https://www.princevillecenter.com/event/free-saturday-hula-shows/2022-12-10/
LOCATION:Princeville Shopping Center\, Food Court
CATEGORIES:Hula,Princeville Shopping Center
ATTACH;FMTTYPE=image/jpeg:https://www.princevillecenter.com/wp-content/uploads/2022/09/hula-shows-princeville-center.jpg
END:VEVENT
BEGIN:VEVENT
DTSTART;TZID=Pacific/Honolulu:20221203T033000
DTEND;TZID=Pacific/Honolulu:20221203T033000
DTSTAMP:20260425T041403
CREATED:20220920T142530Z
LAST-MODIFIED:20230512T014935Z
UID:10000136-1670038200-1670038200@www.princevillecenter.com
SUMMARY:FREE SATURDAY HULA SHOWS
DESCRIPTION:Enjoy a cultural experience like no other during our weekly Hula Show. Performers use music\, chanting\, and movement to tell the story of Kaua‘i. Aunty Bev’s Hula Halau takes the stage every Saturday from 1:30 – 2:30pm at the Food Court.
URL:https://www.princevillecenter.com/event/free-saturday-hula-shows/2022-12-03/
LOCATION:Princeville Shopping Center\, Food Court
CATEGORIES:Hula,Princeville Shopping Center
ATTACH;FMTTYPE=image/jpeg:https://www.princevillecenter.com/wp-content/uploads/2022/09/hula-shows-princeville-center.jpg
END:VEVENT
END:VCALENDAR