BEGIN:VCALENDAR
VERSION:2.0
PRODID:-//Princeville Center - ECPv6.15.20//NONSGML v1.0//EN
CALSCALE:GREGORIAN
METHOD:PUBLISH
X-WR-CALNAME:Princeville Center
X-ORIGINAL-URL:https://www.princevillecenter.com
X-WR-CALDESC:Events for Princeville Center
REFRESH-INTERVAL;VALUE=DURATION:PT1H
X-Robots-Tag:noindex
X-PUBLISHED-TTL:PT1H
BEGIN:VTIMEZONE
TZID:Pacific/Honolulu
BEGIN:STANDARD
TZOFFSETFROM:-1000
TZOFFSETTO:-1000
TZNAME:HST
DTSTART:20290101T000000
END:STANDARD
END:VTIMEZONE
BEGIN:VEVENT
DTSTART;TZID=Pacific/Honolulu:20300202T133000
DTEND;TZID=Pacific/Honolulu:20300202T143000
DTSTAMP:20260425T155936
CREATED:20250916T023840Z
LAST-MODIFIED:20250916T024007Z
UID:10000613-1896269400-1896273000@www.princevillecenter.com
SUMMARY:FREE SATURDAY HULA SHOW
DESCRIPTION:Enjoy a cultural experience like no other during our weekly Hula Show. Performers use music\, chanting\, and movement to tell the story of Kaua‘i. Aunty Bev’s Hula Halau takes the stage every Saturday from 1:30 – 2:30pm at the Food Court.
URL:https://www.princevillecenter.com/event/free-saturday-hula-shows-3-3-2/2030-02-02/
LOCATION:Princeville Shopping Center\, Food Court
CATEGORIES:Hula,Princeville Shopping Center
ATTACH;FMTTYPE=image/jpeg:https://www.princevillecenter.com/wp-content/uploads/2022/09/hula-shows-princeville-center.jpg
END:VEVENT
BEGIN:VEVENT
DTSTART;TZID=Pacific/Honolulu:20300209T133000
DTEND;TZID=Pacific/Honolulu:20300209T143000
DTSTAMP:20260425T155936
CREATED:20250916T023840Z
LAST-MODIFIED:20250916T024007Z
UID:10000614-1896874200-1896877800@www.princevillecenter.com
SUMMARY:FREE SATURDAY HULA SHOW
DESCRIPTION:Enjoy a cultural experience like no other during our weekly Hula Show. Performers use music\, chanting\, and movement to tell the story of Kaua‘i. Aunty Bev’s Hula Halau takes the stage every Saturday from 1:30 – 2:30pm at the Food Court.
URL:https://www.princevillecenter.com/event/free-saturday-hula-shows-3-3-2/2030-02-09/
LOCATION:Princeville Shopping Center\, Food Court
CATEGORIES:Hula,Princeville Shopping Center
ATTACH;FMTTYPE=image/jpeg:https://www.princevillecenter.com/wp-content/uploads/2022/09/hula-shows-princeville-center.jpg
END:VEVENT
BEGIN:VEVENT
DTSTART;TZID=Pacific/Honolulu:20300216T133000
DTEND;TZID=Pacific/Honolulu:20300216T143000
DTSTAMP:20260425T155936
CREATED:20250916T023840Z
LAST-MODIFIED:20250916T024007Z
UID:10000615-1897479000-1897482600@www.princevillecenter.com
SUMMARY:FREE SATURDAY HULA SHOW
DESCRIPTION:Enjoy a cultural experience like no other during our weekly Hula Show. Performers use music\, chanting\, and movement to tell the story of Kaua‘i. Aunty Bev’s Hula Halau takes the stage every Saturday from 1:30 – 2:30pm at the Food Court.
URL:https://www.princevillecenter.com/event/free-saturday-hula-shows-3-3-2/2030-02-16/
LOCATION:Princeville Shopping Center\, Food Court
CATEGORIES:Hula,Princeville Shopping Center
ATTACH;FMTTYPE=image/jpeg:https://www.princevillecenter.com/wp-content/uploads/2022/09/hula-shows-princeville-center.jpg
END:VEVENT
BEGIN:VEVENT
DTSTART;TZID=Pacific/Honolulu:20300223T133000
DTEND;TZID=Pacific/Honolulu:20300223T143000
DTSTAMP:20260425T155936
CREATED:20250916T023840Z
LAST-MODIFIED:20250916T024007Z
UID:10000616-1898083800-1898087400@www.princevillecenter.com
SUMMARY:FREE SATURDAY HULA SHOW
DESCRIPTION:Enjoy a cultural experience like no other during our weekly Hula Show. Performers use music\, chanting\, and movement to tell the story of Kaua‘i. Aunty Bev’s Hula Halau takes the stage every Saturday from 1:30 – 2:30pm at the Food Court.
URL:https://www.princevillecenter.com/event/free-saturday-hula-shows-3-3-2/2030-02-23/
LOCATION:Princeville Shopping Center\, Food Court
CATEGORIES:Hula,Princeville Shopping Center
ATTACH;FMTTYPE=image/jpeg:https://www.princevillecenter.com/wp-content/uploads/2022/09/hula-shows-princeville-center.jpg
END:VEVENT
BEGIN:VEVENT
DTSTART;TZID=Pacific/Honolulu:20300302T133000
DTEND;TZID=Pacific/Honolulu:20300302T143000
DTSTAMP:20260425T155936
CREATED:20250916T023840Z
LAST-MODIFIED:20250916T024007Z
UID:10000617-1898688600-1898692200@www.princevillecenter.com
SUMMARY:FREE SATURDAY HULA SHOW
DESCRIPTION:Enjoy a cultural experience like no other during our weekly Hula Show. Performers use music\, chanting\, and movement to tell the story of Kaua‘i. Aunty Bev’s Hula Halau takes the stage every Saturday from 1:30 – 2:30pm at the Food Court.
URL:https://www.princevillecenter.com/event/free-saturday-hula-shows-3-3-2/2030-03-02/
LOCATION:Princeville Shopping Center\, Food Court
CATEGORIES:Hula,Princeville Shopping Center
ATTACH;FMTTYPE=image/jpeg:https://www.princevillecenter.com/wp-content/uploads/2022/09/hula-shows-princeville-center.jpg
END:VEVENT
BEGIN:VEVENT
DTSTART;TZID=Pacific/Honolulu:20300309T133000
DTEND;TZID=Pacific/Honolulu:20300309T143000
DTSTAMP:20260425T155936
CREATED:20250916T023840Z
LAST-MODIFIED:20250916T024007Z
UID:10000618-1899293400-1899297000@www.princevillecenter.com
SUMMARY:FREE SATURDAY HULA SHOW
DESCRIPTION:Enjoy a cultural experience like no other during our weekly Hula Show. Performers use music\, chanting\, and movement to tell the story of Kaua‘i. Aunty Bev’s Hula Halau takes the stage every Saturday from 1:30 – 2:30pm at the Food Court.
URL:https://www.princevillecenter.com/event/free-saturday-hula-shows-3-3-2/2030-03-09/
LOCATION:Princeville Shopping Center\, Food Court
CATEGORIES:Hula,Princeville Shopping Center
ATTACH;FMTTYPE=image/jpeg:https://www.princevillecenter.com/wp-content/uploads/2022/09/hula-shows-princeville-center.jpg
END:VEVENT
BEGIN:VEVENT
DTSTART;TZID=Pacific/Honolulu:20300316T133000
DTEND;TZID=Pacific/Honolulu:20300316T143000
DTSTAMP:20260425T155936
CREATED:20250916T023840Z
LAST-MODIFIED:20250916T024007Z
UID:10000619-1899898200-1899901800@www.princevillecenter.com
SUMMARY:FREE SATURDAY HULA SHOW
DESCRIPTION:Enjoy a cultural experience like no other during our weekly Hula Show. Performers use music\, chanting\, and movement to tell the story of Kaua‘i. Aunty Bev’s Hula Halau takes the stage every Saturday from 1:30 – 2:30pm at the Food Court.
URL:https://www.princevillecenter.com/event/free-saturday-hula-shows-3-3-2/2030-03-16/
LOCATION:Princeville Shopping Center\, Food Court
CATEGORIES:Hula,Princeville Shopping Center
ATTACH;FMTTYPE=image/jpeg:https://www.princevillecenter.com/wp-content/uploads/2022/09/hula-shows-princeville-center.jpg
END:VEVENT
BEGIN:VEVENT
DTSTART;TZID=Pacific/Honolulu:20300323T133000
DTEND;TZID=Pacific/Honolulu:20300323T143000
DTSTAMP:20260425T155936
CREATED:20250916T023840Z
LAST-MODIFIED:20250916T024007Z
UID:10000620-1900503000-1900506600@www.princevillecenter.com
SUMMARY:FREE SATURDAY HULA SHOW
DESCRIPTION:Enjoy a cultural experience like no other during our weekly Hula Show. Performers use music\, chanting\, and movement to tell the story of Kaua‘i. Aunty Bev’s Hula Halau takes the stage every Saturday from 1:30 – 2:30pm at the Food Court.
URL:https://www.princevillecenter.com/event/free-saturday-hula-shows-3-3-2/2030-03-23/
LOCATION:Princeville Shopping Center\, Food Court
CATEGORIES:Hula,Princeville Shopping Center
ATTACH;FMTTYPE=image/jpeg:https://www.princevillecenter.com/wp-content/uploads/2022/09/hula-shows-princeville-center.jpg
END:VEVENT
BEGIN:VEVENT
DTSTART;TZID=Pacific/Honolulu:20300330T133000
DTEND;TZID=Pacific/Honolulu:20300330T143000
DTSTAMP:20260425T155936
CREATED:20250916T023840Z
LAST-MODIFIED:20250916T024007Z
UID:10000621-1901107800-1901111400@www.princevillecenter.com
SUMMARY:FREE SATURDAY HULA SHOW
DESCRIPTION:Enjoy a cultural experience like no other during our weekly Hula Show. Performers use music\, chanting\, and movement to tell the story of Kaua‘i. Aunty Bev’s Hula Halau takes the stage every Saturday from 1:30 – 2:30pm at the Food Court.
URL:https://www.princevillecenter.com/event/free-saturday-hula-shows-3-3-2/2030-03-30/
LOCATION:Princeville Shopping Center\, Food Court
CATEGORIES:Hula,Princeville Shopping Center
ATTACH;FMTTYPE=image/jpeg:https://www.princevillecenter.com/wp-content/uploads/2022/09/hula-shows-princeville-center.jpg
END:VEVENT
BEGIN:VEVENT
DTSTART;TZID=Pacific/Honolulu:20300406T133000
DTEND;TZID=Pacific/Honolulu:20300406T143000
DTSTAMP:20260425T155936
CREATED:20250916T023840Z
LAST-MODIFIED:20250916T024007Z
UID:10000622-1901712600-1901716200@www.princevillecenter.com
SUMMARY:FREE SATURDAY HULA SHOW
DESCRIPTION:Enjoy a cultural experience like no other during our weekly Hula Show. Performers use music\, chanting\, and movement to tell the story of Kaua‘i. Aunty Bev’s Hula Halau takes the stage every Saturday from 1:30 – 2:30pm at the Food Court.
URL:https://www.princevillecenter.com/event/free-saturday-hula-shows-3-3-2/2030-04-06/
LOCATION:Princeville Shopping Center\, Food Court
CATEGORIES:Hula,Princeville Shopping Center
ATTACH;FMTTYPE=image/jpeg:https://www.princevillecenter.com/wp-content/uploads/2022/09/hula-shows-princeville-center.jpg
END:VEVENT
BEGIN:VEVENT
DTSTART;TZID=Pacific/Honolulu:20300413T133000
DTEND;TZID=Pacific/Honolulu:20300413T143000
DTSTAMP:20260425T155936
CREATED:20250916T023840Z
LAST-MODIFIED:20250916T024007Z
UID:10000623-1902317400-1902321000@www.princevillecenter.com
SUMMARY:FREE SATURDAY HULA SHOW
DESCRIPTION:Enjoy a cultural experience like no other during our weekly Hula Show. Performers use music\, chanting\, and movement to tell the story of Kaua‘i. Aunty Bev’s Hula Halau takes the stage every Saturday from 1:30 – 2:30pm at the Food Court.
URL:https://www.princevillecenter.com/event/free-saturday-hula-shows-3-3-2/2030-04-13/
LOCATION:Princeville Shopping Center\, Food Court
CATEGORIES:Hula,Princeville Shopping Center
ATTACH;FMTTYPE=image/jpeg:https://www.princevillecenter.com/wp-content/uploads/2022/09/hula-shows-princeville-center.jpg
END:VEVENT
BEGIN:VEVENT
DTSTART;TZID=Pacific/Honolulu:20300420T133000
DTEND;TZID=Pacific/Honolulu:20300420T143000
DTSTAMP:20260425T155936
CREATED:20250916T023840Z
LAST-MODIFIED:20250916T024007Z
UID:10000624-1902922200-1902925800@www.princevillecenter.com
SUMMARY:FREE SATURDAY HULA SHOW
DESCRIPTION:Enjoy a cultural experience like no other during our weekly Hula Show. Performers use music\, chanting\, and movement to tell the story of Kaua‘i. Aunty Bev’s Hula Halau takes the stage every Saturday from 1:30 – 2:30pm at the Food Court.
URL:https://www.princevillecenter.com/event/free-saturday-hula-shows-3-3-2/2030-04-20/
LOCATION:Princeville Shopping Center\, Food Court
CATEGORIES:Hula,Princeville Shopping Center
ATTACH;FMTTYPE=image/jpeg:https://www.princevillecenter.com/wp-content/uploads/2022/09/hula-shows-princeville-center.jpg
END:VEVENT
BEGIN:VEVENT
DTSTART;TZID=Pacific/Honolulu:20300427T133000
DTEND;TZID=Pacific/Honolulu:20300427T143000
DTSTAMP:20260425T155936
CREATED:20250916T023840Z
LAST-MODIFIED:20250916T024007Z
UID:10000625-1903527000-1903530600@www.princevillecenter.com
SUMMARY:FREE SATURDAY HULA SHOW
DESCRIPTION:Enjoy a cultural experience like no other during our weekly Hula Show. Performers use music\, chanting\, and movement to tell the story of Kaua‘i. Aunty Bev’s Hula Halau takes the stage every Saturday from 1:30 – 2:30pm at the Food Court.
URL:https://www.princevillecenter.com/event/free-saturday-hula-shows-3-3-2/2030-04-27/
LOCATION:Princeville Shopping Center\, Food Court
CATEGORIES:Hula,Princeville Shopping Center
ATTACH;FMTTYPE=image/jpeg:https://www.princevillecenter.com/wp-content/uploads/2022/09/hula-shows-princeville-center.jpg
END:VEVENT
BEGIN:VEVENT
DTSTART;TZID=Pacific/Honolulu:20300504T133000
DTEND;TZID=Pacific/Honolulu:20300504T143000
DTSTAMP:20260425T155936
CREATED:20250916T023840Z
LAST-MODIFIED:20250916T024007Z
UID:10000626-1904131800-1904135400@www.princevillecenter.com
SUMMARY:FREE SATURDAY HULA SHOW
DESCRIPTION:Enjoy a cultural experience like no other during our weekly Hula Show. Performers use music\, chanting\, and movement to tell the story of Kaua‘i. Aunty Bev’s Hula Halau takes the stage every Saturday from 1:30 – 2:30pm at the Food Court.
URL:https://www.princevillecenter.com/event/free-saturday-hula-shows-3-3-2/2030-05-04/
LOCATION:Princeville Shopping Center\, Food Court
CATEGORIES:Hula,Princeville Shopping Center
ATTACH;FMTTYPE=image/jpeg:https://www.princevillecenter.com/wp-content/uploads/2022/09/hula-shows-princeville-center.jpg
END:VEVENT
BEGIN:VEVENT
DTSTART;TZID=Pacific/Honolulu:20300511T133000
DTEND;TZID=Pacific/Honolulu:20300511T143000
DTSTAMP:20260425T155936
CREATED:20250916T023840Z
LAST-MODIFIED:20250916T024007Z
UID:10000627-1904736600-1904740200@www.princevillecenter.com
SUMMARY:FREE SATURDAY HULA SHOW
DESCRIPTION:Enjoy a cultural experience like no other during our weekly Hula Show. Performers use music\, chanting\, and movement to tell the story of Kaua‘i. Aunty Bev’s Hula Halau takes the stage every Saturday from 1:30 – 2:30pm at the Food Court.
URL:https://www.princevillecenter.com/event/free-saturday-hula-shows-3-3-2/2030-05-11/
LOCATION:Princeville Shopping Center\, Food Court
CATEGORIES:Hula,Princeville Shopping Center
ATTACH;FMTTYPE=image/jpeg:https://www.princevillecenter.com/wp-content/uploads/2022/09/hula-shows-princeville-center.jpg
END:VEVENT
BEGIN:VEVENT
DTSTART;TZID=Pacific/Honolulu:20300518T133000
DTEND;TZID=Pacific/Honolulu:20300518T143000
DTSTAMP:20260425T155936
CREATED:20250916T023840Z
LAST-MODIFIED:20250916T024007Z
UID:10000628-1905341400-1905345000@www.princevillecenter.com
SUMMARY:FREE SATURDAY HULA SHOW
DESCRIPTION:Enjoy a cultural experience like no other during our weekly Hula Show. Performers use music\, chanting\, and movement to tell the story of Kaua‘i. Aunty Bev’s Hula Halau takes the stage every Saturday from 1:30 – 2:30pm at the Food Court.
URL:https://www.princevillecenter.com/event/free-saturday-hula-shows-3-3-2/2030-05-18/
LOCATION:Princeville Shopping Center\, Food Court
CATEGORIES:Hula,Princeville Shopping Center
ATTACH;FMTTYPE=image/jpeg:https://www.princevillecenter.com/wp-content/uploads/2022/09/hula-shows-princeville-center.jpg
END:VEVENT
BEGIN:VEVENT
DTSTART;TZID=Pacific/Honolulu:20300525T133000
DTEND;TZID=Pacific/Honolulu:20300525T143000
DTSTAMP:20260425T155936
CREATED:20250916T023840Z
LAST-MODIFIED:20250916T024007Z
UID:10000629-1905946200-1905949800@www.princevillecenter.com
SUMMARY:FREE SATURDAY HULA SHOW
DESCRIPTION:Enjoy a cultural experience like no other during our weekly Hula Show. Performers use music\, chanting\, and movement to tell the story of Kaua‘i. Aunty Bev’s Hula Halau takes the stage every Saturday from 1:30 – 2:30pm at the Food Court.
URL:https://www.princevillecenter.com/event/free-saturday-hula-shows-3-3-2/2030-05-25/
LOCATION:Princeville Shopping Center\, Food Court
CATEGORIES:Hula,Princeville Shopping Center
ATTACH;FMTTYPE=image/jpeg:https://www.princevillecenter.com/wp-content/uploads/2022/09/hula-shows-princeville-center.jpg
END:VEVENT
BEGIN:VEVENT
DTSTART;TZID=Pacific/Honolulu:20300601T133000
DTEND;TZID=Pacific/Honolulu:20300601T143000
DTSTAMP:20260425T155936
CREATED:20250916T023840Z
LAST-MODIFIED:20250916T024007Z
UID:10000630-1906551000-1906554600@www.princevillecenter.com
SUMMARY:FREE SATURDAY HULA SHOW
DESCRIPTION:Enjoy a cultural experience like no other during our weekly Hula Show. Performers use music\, chanting\, and movement to tell the story of Kaua‘i. Aunty Bev’s Hula Halau takes the stage every Saturday from 1:30 – 2:30pm at the Food Court.
URL:https://www.princevillecenter.com/event/free-saturday-hula-shows-3-3-2/2030-06-01/
LOCATION:Princeville Shopping Center\, Food Court
CATEGORIES:Hula,Princeville Shopping Center
ATTACH;FMTTYPE=image/jpeg:https://www.princevillecenter.com/wp-content/uploads/2022/09/hula-shows-princeville-center.jpg
END:VEVENT
BEGIN:VEVENT
DTSTART;TZID=Pacific/Honolulu:20300608T133000
DTEND;TZID=Pacific/Honolulu:20300608T143000
DTSTAMP:20260425T155936
CREATED:20250916T023840Z
LAST-MODIFIED:20250916T024007Z
UID:10000631-1907155800-1907159400@www.princevillecenter.com
SUMMARY:FREE SATURDAY HULA SHOW
DESCRIPTION:Enjoy a cultural experience like no other during our weekly Hula Show. Performers use music\, chanting\, and movement to tell the story of Kaua‘i. Aunty Bev’s Hula Halau takes the stage every Saturday from 1:30 – 2:30pm at the Food Court.
URL:https://www.princevillecenter.com/event/free-saturday-hula-shows-3-3-2/2030-06-08/
LOCATION:Princeville Shopping Center\, Food Court
CATEGORIES:Hula,Princeville Shopping Center
ATTACH;FMTTYPE=image/jpeg:https://www.princevillecenter.com/wp-content/uploads/2022/09/hula-shows-princeville-center.jpg
END:VEVENT
BEGIN:VEVENT
DTSTART;TZID=Pacific/Honolulu:20300615T133000
DTEND;TZID=Pacific/Honolulu:20300615T143000
DTSTAMP:20260425T155936
CREATED:20250916T023840Z
LAST-MODIFIED:20250916T024007Z
UID:10000632-1907760600-1907764200@www.princevillecenter.com
SUMMARY:FREE SATURDAY HULA SHOW
DESCRIPTION:Enjoy a cultural experience like no other during our weekly Hula Show. Performers use music\, chanting\, and movement to tell the story of Kaua‘i. Aunty Bev’s Hula Halau takes the stage every Saturday from 1:30 – 2:30pm at the Food Court.
URL:https://www.princevillecenter.com/event/free-saturday-hula-shows-3-3-2/2030-06-15/
LOCATION:Princeville Shopping Center\, Food Court
CATEGORIES:Hula,Princeville Shopping Center
ATTACH;FMTTYPE=image/jpeg:https://www.princevillecenter.com/wp-content/uploads/2022/09/hula-shows-princeville-center.jpg
END:VEVENT
BEGIN:VEVENT
DTSTART;TZID=Pacific/Honolulu:20300622T133000
DTEND;TZID=Pacific/Honolulu:20300622T143000
DTSTAMP:20260425T155936
CREATED:20250916T023840Z
LAST-MODIFIED:20250916T024007Z
UID:10000633-1908365400-1908369000@www.princevillecenter.com
SUMMARY:FREE SATURDAY HULA SHOW
DESCRIPTION:Enjoy a cultural experience like no other during our weekly Hula Show. Performers use music\, chanting\, and movement to tell the story of Kaua‘i. Aunty Bev’s Hula Halau takes the stage every Saturday from 1:30 – 2:30pm at the Food Court.
URL:https://www.princevillecenter.com/event/free-saturday-hula-shows-3-3-2/2030-06-22/
LOCATION:Princeville Shopping Center\, Food Court
CATEGORIES:Hula,Princeville Shopping Center
ATTACH;FMTTYPE=image/jpeg:https://www.princevillecenter.com/wp-content/uploads/2022/09/hula-shows-princeville-center.jpg
END:VEVENT
BEGIN:VEVENT
DTSTART;TZID=Pacific/Honolulu:20300629T133000
DTEND;TZID=Pacific/Honolulu:20300629T143000
DTSTAMP:20260425T155936
CREATED:20250916T023840Z
LAST-MODIFIED:20250916T024007Z
UID:10000634-1908970200-1908973800@www.princevillecenter.com
SUMMARY:FREE SATURDAY HULA SHOW
DESCRIPTION:Enjoy a cultural experience like no other during our weekly Hula Show. Performers use music\, chanting\, and movement to tell the story of Kaua‘i. Aunty Bev’s Hula Halau takes the stage every Saturday from 1:30 – 2:30pm at the Food Court.
URL:https://www.princevillecenter.com/event/free-saturday-hula-shows-3-3-2/2030-06-29/
LOCATION:Princeville Shopping Center\, Food Court
CATEGORIES:Hula,Princeville Shopping Center
ATTACH;FMTTYPE=image/jpeg:https://www.princevillecenter.com/wp-content/uploads/2022/09/hula-shows-princeville-center.jpg
END:VEVENT
BEGIN:VEVENT
DTSTART;TZID=Pacific/Honolulu:20300706T133000
DTEND;TZID=Pacific/Honolulu:20300706T143000
DTSTAMP:20260425T155936
CREATED:20250916T023840Z
LAST-MODIFIED:20250916T024007Z
UID:10000635-1909575000-1909578600@www.princevillecenter.com
SUMMARY:FREE SATURDAY HULA SHOW
DESCRIPTION:Enjoy a cultural experience like no other during our weekly Hula Show. Performers use music\, chanting\, and movement to tell the story of Kaua‘i. Aunty Bev’s Hula Halau takes the stage every Saturday from 1:30 – 2:30pm at the Food Court.
URL:https://www.princevillecenter.com/event/free-saturday-hula-shows-3-3-2/2030-07-06/
LOCATION:Princeville Shopping Center\, Food Court
CATEGORIES:Hula,Princeville Shopping Center
ATTACH;FMTTYPE=image/jpeg:https://www.princevillecenter.com/wp-content/uploads/2022/09/hula-shows-princeville-center.jpg
END:VEVENT
BEGIN:VEVENT
DTSTART;TZID=Pacific/Honolulu:20300713T133000
DTEND;TZID=Pacific/Honolulu:20300713T143000
DTSTAMP:20260425T155936
CREATED:20250916T023840Z
LAST-MODIFIED:20250916T024007Z
UID:10000636-1910179800-1910183400@www.princevillecenter.com
SUMMARY:FREE SATURDAY HULA SHOW
DESCRIPTION:Enjoy a cultural experience like no other during our weekly Hula Show. Performers use music\, chanting\, and movement to tell the story of Kaua‘i. Aunty Bev’s Hula Halau takes the stage every Saturday from 1:30 – 2:30pm at the Food Court.
URL:https://www.princevillecenter.com/event/free-saturday-hula-shows-3-3-2/2030-07-13/
LOCATION:Princeville Shopping Center\, Food Court
CATEGORIES:Hula,Princeville Shopping Center
ATTACH;FMTTYPE=image/jpeg:https://www.princevillecenter.com/wp-content/uploads/2022/09/hula-shows-princeville-center.jpg
END:VEVENT
BEGIN:VEVENT
DTSTART;TZID=Pacific/Honolulu:20300720T133000
DTEND;TZID=Pacific/Honolulu:20300720T143000
DTSTAMP:20260425T155936
CREATED:20250916T023840Z
LAST-MODIFIED:20250916T024007Z
UID:10000637-1910784600-1910788200@www.princevillecenter.com
SUMMARY:FREE SATURDAY HULA SHOW
DESCRIPTION:Enjoy a cultural experience like no other during our weekly Hula Show. Performers use music\, chanting\, and movement to tell the story of Kaua‘i. Aunty Bev’s Hula Halau takes the stage every Saturday from 1:30 – 2:30pm at the Food Court.
URL:https://www.princevillecenter.com/event/free-saturday-hula-shows-3-3-2/2030-07-20/
LOCATION:Princeville Shopping Center\, Food Court
CATEGORIES:Hula,Princeville Shopping Center
ATTACH;FMTTYPE=image/jpeg:https://www.princevillecenter.com/wp-content/uploads/2022/09/hula-shows-princeville-center.jpg
END:VEVENT
BEGIN:VEVENT
DTSTART;TZID=Pacific/Honolulu:20300727T133000
DTEND;TZID=Pacific/Honolulu:20300727T143000
DTSTAMP:20260425T155936
CREATED:20250916T023840Z
LAST-MODIFIED:20250916T024007Z
UID:10000638-1911389400-1911393000@www.princevillecenter.com
SUMMARY:FREE SATURDAY HULA SHOW
DESCRIPTION:Enjoy a cultural experience like no other during our weekly Hula Show. Performers use music\, chanting\, and movement to tell the story of Kaua‘i. Aunty Bev’s Hula Halau takes the stage every Saturday from 1:30 – 2:30pm at the Food Court.
URL:https://www.princevillecenter.com/event/free-saturday-hula-shows-3-3-2/2030-07-27/
LOCATION:Princeville Shopping Center\, Food Court
CATEGORIES:Hula,Princeville Shopping Center
ATTACH;FMTTYPE=image/jpeg:https://www.princevillecenter.com/wp-content/uploads/2022/09/hula-shows-princeville-center.jpg
END:VEVENT
BEGIN:VEVENT
DTSTART;TZID=Pacific/Honolulu:20300803T133000
DTEND;TZID=Pacific/Honolulu:20300803T143000
DTSTAMP:20260425T155936
CREATED:20250916T023840Z
LAST-MODIFIED:20250916T024007Z
UID:10000639-1911994200-1911997800@www.princevillecenter.com
SUMMARY:FREE SATURDAY HULA SHOW
DESCRIPTION:Enjoy a cultural experience like no other during our weekly Hula Show. Performers use music\, chanting\, and movement to tell the story of Kaua‘i. Aunty Bev’s Hula Halau takes the stage every Saturday from 1:30 – 2:30pm at the Food Court.
URL:https://www.princevillecenter.com/event/free-saturday-hula-shows-3-3-2/2030-08-03/
LOCATION:Princeville Shopping Center\, Food Court
CATEGORIES:Hula,Princeville Shopping Center
ATTACH;FMTTYPE=image/jpeg:https://www.princevillecenter.com/wp-content/uploads/2022/09/hula-shows-princeville-center.jpg
END:VEVENT
BEGIN:VEVENT
DTSTART;TZID=Pacific/Honolulu:20300810T133000
DTEND;TZID=Pacific/Honolulu:20300810T143000
DTSTAMP:20260425T155936
CREATED:20250916T023840Z
LAST-MODIFIED:20250916T024007Z
UID:10000640-1912599000-1912602600@www.princevillecenter.com
SUMMARY:FREE SATURDAY HULA SHOW
DESCRIPTION:Enjoy a cultural experience like no other during our weekly Hula Show. Performers use music\, chanting\, and movement to tell the story of Kaua‘i. Aunty Bev’s Hula Halau takes the stage every Saturday from 1:30 – 2:30pm at the Food Court.
URL:https://www.princevillecenter.com/event/free-saturday-hula-shows-3-3-2/2030-08-10/
LOCATION:Princeville Shopping Center\, Food Court
CATEGORIES:Hula,Princeville Shopping Center
ATTACH;FMTTYPE=image/jpeg:https://www.princevillecenter.com/wp-content/uploads/2022/09/hula-shows-princeville-center.jpg
END:VEVENT
BEGIN:VEVENT
DTSTART;TZID=Pacific/Honolulu:20300817T133000
DTEND;TZID=Pacific/Honolulu:20300817T143000
DTSTAMP:20260425T155936
CREATED:20250916T023840Z
LAST-MODIFIED:20250916T024007Z
UID:10000641-1913203800-1913207400@www.princevillecenter.com
SUMMARY:FREE SATURDAY HULA SHOW
DESCRIPTION:Enjoy a cultural experience like no other during our weekly Hula Show. Performers use music\, chanting\, and movement to tell the story of Kaua‘i. Aunty Bev’s Hula Halau takes the stage every Saturday from 1:30 – 2:30pm at the Food Court.
URL:https://www.princevillecenter.com/event/free-saturday-hula-shows-3-3-2/2030-08-17/
LOCATION:Princeville Shopping Center\, Food Court
CATEGORIES:Hula,Princeville Shopping Center
ATTACH;FMTTYPE=image/jpeg:https://www.princevillecenter.com/wp-content/uploads/2022/09/hula-shows-princeville-center.jpg
END:VEVENT
BEGIN:VEVENT
DTSTART;TZID=Pacific/Honolulu:20300824T133000
DTEND;TZID=Pacific/Honolulu:20300824T143000
DTSTAMP:20260425T155936
CREATED:20250916T023840Z
LAST-MODIFIED:20250916T024007Z
UID:10000642-1913808600-1913812200@www.princevillecenter.com
SUMMARY:FREE SATURDAY HULA SHOW
DESCRIPTION:Enjoy a cultural experience like no other during our weekly Hula Show. Performers use music\, chanting\, and movement to tell the story of Kaua‘i. Aunty Bev’s Hula Halau takes the stage every Saturday from 1:30 – 2:30pm at the Food Court.
URL:https://www.princevillecenter.com/event/free-saturday-hula-shows-3-3-2/2030-08-24/
LOCATION:Princeville Shopping Center\, Food Court
CATEGORIES:Hula,Princeville Shopping Center
ATTACH;FMTTYPE=image/jpeg:https://www.princevillecenter.com/wp-content/uploads/2022/09/hula-shows-princeville-center.jpg
END:VEVENT
END:VCALENDAR