BEGIN:VCALENDAR
VERSION:2.0
PRODID:-//Princeville Center - ECPv6.15.20//NONSGML v1.0//EN
CALSCALE:GREGORIAN
METHOD:PUBLISH
X-WR-CALNAME:Princeville Center
X-ORIGINAL-URL:https://www.princevillecenter.com
X-WR-CALDESC:Events for Princeville Center
REFRESH-INTERVAL;VALUE=DURATION:PT1H
X-Robots-Tag:noindex
X-PUBLISHED-TTL:PT1H
BEGIN:VTIMEZONE
TZID:Pacific/Honolulu
BEGIN:STANDARD
TZOFFSETFROM:-1000
TZOFFSETTO:-1000
TZNAME:HST
DTSTART:20210101T000000
END:STANDARD
END:VTIMEZONE
BEGIN:VEVENT
DTSTART;TZID=Pacific/Honolulu:20231112T160000
DTEND;TZID=Pacific/Honolulu:20231112T200000
DTSTAMP:20260424T053619
CREATED:20230529T022607Z
LAST-MODIFIED:20230529T022608Z
UID:10000252-1699804800-1699819200@www.princevillecenter.com
SUMMARY:PRINCEVILLE NIGHT MARKET
DESCRIPTION:On the second Sunday of each month\, local vendors gather their unique products and culinary delights for our Night Market. Browse handmade jewelry\, soaps\, candles\, artwork\, home décor\, clothing\, and more. After shopping\, grab a bite to eat – there is cuisine from around the world!
URL:https://www.princevillecenter.com/event/princeville-night-market-2-2/2023-11-12/
LOCATION:Princeville Shopping Center
CATEGORIES:Market,Princeville Shopping Center
ATTACH;FMTTYPE=image/jpeg:https://www.princevillecenter.com/wp-content/uploads/2022/09/NightMarket.jpg
END:VEVENT
BEGIN:VEVENT
DTSTART;TZID=Pacific/Honolulu:20231008T160000
DTEND;TZID=Pacific/Honolulu:20231008T200000
DTSTAMP:20260424T053619
CREATED:20230529T022607Z
LAST-MODIFIED:20230529T022608Z
UID:10000251-1696780800-1696795200@www.princevillecenter.com
SUMMARY:PRINCEVILLE NIGHT MARKET
DESCRIPTION:On the second Sunday of each month\, local vendors gather their unique products and culinary delights for our Night Market. Browse handmade jewelry\, soaps\, candles\, artwork\, home décor\, clothing\, and more. After shopping\, grab a bite to eat – there is cuisine from around the world!
URL:https://www.princevillecenter.com/event/princeville-night-market-2-2/2023-10-08/
LOCATION:Princeville Shopping Center
CATEGORIES:Market,Princeville Shopping Center
ATTACH;FMTTYPE=image/jpeg:https://www.princevillecenter.com/wp-content/uploads/2022/09/NightMarket.jpg
END:VEVENT
BEGIN:VEVENT
DTSTART;TZID=Pacific/Honolulu:20230910T160000
DTEND;TZID=Pacific/Honolulu:20230910T200000
DTSTAMP:20260424T053619
CREATED:20230529T022607Z
LAST-MODIFIED:20230529T022608Z
UID:10000250-1694361600-1694376000@www.princevillecenter.com
SUMMARY:PRINCEVILLE NIGHT MARKET
DESCRIPTION:On the second Sunday of each month\, local vendors gather their unique products and culinary delights for our Night Market. Browse handmade jewelry\, soaps\, candles\, artwork\, home décor\, clothing\, and more. After shopping\, grab a bite to eat – there is cuisine from around the world!
URL:https://www.princevillecenter.com/event/princeville-night-market-2-2/2023-09-10/
LOCATION:Princeville Shopping Center
CATEGORIES:Market,Princeville Shopping Center
ATTACH;FMTTYPE=image/jpeg:https://www.princevillecenter.com/wp-content/uploads/2022/09/NightMarket.jpg
END:VEVENT
BEGIN:VEVENT
DTSTART;TZID=Pacific/Honolulu:20230813T160000
DTEND;TZID=Pacific/Honolulu:20230813T200000
DTSTAMP:20260424T053619
CREATED:20230529T022607Z
LAST-MODIFIED:20230529T022608Z
UID:10000249-1691942400-1691956800@www.princevillecenter.com
SUMMARY:PRINCEVILLE NIGHT MARKET
DESCRIPTION:On the second Sunday of each month\, local vendors gather their unique products and culinary delights for our Night Market. Browse handmade jewelry\, soaps\, candles\, artwork\, home décor\, clothing\, and more. After shopping\, grab a bite to eat – there is cuisine from around the world!
URL:https://www.princevillecenter.com/event/princeville-night-market-2-2/2023-08-13/
LOCATION:Princeville Shopping Center
CATEGORIES:Market,Princeville Shopping Center
ATTACH;FMTTYPE=image/jpeg:https://www.princevillecenter.com/wp-content/uploads/2022/09/NightMarket.jpg
END:VEVENT
BEGIN:VEVENT
DTSTART;TZID=Pacific/Honolulu:20230709T160000
DTEND;TZID=Pacific/Honolulu:20230709T200000
DTSTAMP:20260424T053619
CREATED:20230529T022607Z
LAST-MODIFIED:20230529T022608Z
UID:10000248-1688918400-1688932800@www.princevillecenter.com
SUMMARY:PRINCEVILLE NIGHT MARKET
DESCRIPTION:On the second Sunday of each month\, local vendors gather their unique products and culinary delights for our Night Market. Browse handmade jewelry\, soaps\, candles\, artwork\, home décor\, clothing\, and more. After shopping\, grab a bite to eat – there is cuisine from around the world!
URL:https://www.princevillecenter.com/event/princeville-night-market-2-2/2023-07-09/
LOCATION:Princeville Shopping Center
CATEGORIES:Market,Princeville Shopping Center
ATTACH;FMTTYPE=image/jpeg:https://www.princevillecenter.com/wp-content/uploads/2022/09/NightMarket.jpg
END:VEVENT
BEGIN:VEVENT
DTSTART;TZID=Pacific/Honolulu:20230611T160000
DTEND;TZID=Pacific/Honolulu:20230611T200000
DTSTAMP:20260424T053619
CREATED:20230529T022607Z
LAST-MODIFIED:20230529T022608Z
UID:10000241-1686499200-1686513600@www.princevillecenter.com
SUMMARY:PRINCEVILLE NIGHT MARKET
DESCRIPTION:On the second Sunday of each month\, local vendors gather their unique products and culinary delights for our Night Market. Browse handmade jewelry\, soaps\, candles\, artwork\, home décor\, clothing\, and more. After shopping\, grab a bite to eat – there is cuisine from around the world!
URL:https://www.princevillecenter.com/event/princeville-night-market-2-2/2023-06-11/
LOCATION:Princeville Shopping Center
CATEGORIES:Market,Princeville Shopping Center
ATTACH;FMTTYPE=image/jpeg:https://www.princevillecenter.com/wp-content/uploads/2022/09/NightMarket.jpg
END:VEVENT
BEGIN:VEVENT
DTSTART;TZID=Pacific/Honolulu:20230514T160000
DTEND;TZID=Pacific/Honolulu:20230514T200000
DTSTAMP:20260424T053619
CREATED:20230512T010810Z
LAST-MODIFIED:20230529T022458Z
UID:10000240-1684080000-1684094400@www.princevillecenter.com
SUMMARY:PRINCEVILLE NIGHT MARKET
DESCRIPTION:On the second Sunday of each month\, local vendors gather their unique products and culinary delights for our Night Market. Browse handmade jewelry\, soaps\, candles\, artwork\, home décor\, clothing\, and more. After shopping\, grab a bite to eat – there is cuisine from around the world!
URL:https://www.princevillecenter.com/event/princeville-night-market-2/
LOCATION:Princeville Shopping Center
CATEGORIES:Market,Princeville Shopping Center
ATTACH;FMTTYPE=image/jpeg:https://www.princevillecenter.com/wp-content/uploads/2022/09/NightMarket.jpg
END:VEVENT
BEGIN:VEVENT
DTSTART;TZID=Pacific/Honolulu:20230409T060000
DTEND;TZID=Pacific/Honolulu:20230409T100000
DTSTAMP:20260424T053619
CREATED:20220922T102550Z
LAST-MODIFIED:20230510T020147Z
UID:10000084-1681020000-1681034400@www.princevillecenter.com
SUMMARY:PRINCEVILLE NIGHT MARKET
DESCRIPTION:On the second Sunday of each month\, local vendors gather their unique products and culinary delights for our Night Market. Browse handmade jewelry\, soaps\, candles\, artwork\, home décor\, clothing\, and more. After shopping\, grab a bite to eat – there is cuisine from around the world!
URL:https://www.princevillecenter.com/event/princeville-night-market/2023-04-09/
LOCATION:Princeville Shopping Center
CATEGORIES:Market,Princeville Shopping Center
ATTACH;FMTTYPE=image/jpeg:https://www.princevillecenter.com/wp-content/uploads/2022/09/sunday_night_market-photo.jpg
END:VEVENT
BEGIN:VEVENT
DTSTART;TZID=Pacific/Honolulu:20230312T060000
DTEND;TZID=Pacific/Honolulu:20230312T100000
DTSTAMP:20260424T053619
CREATED:20220922T102550Z
LAST-MODIFIED:20230510T020147Z
UID:10000083-1678600800-1678615200@www.princevillecenter.com
SUMMARY:PRINCEVILLE NIGHT MARKET
DESCRIPTION:On the second Sunday of each month\, local vendors gather their unique products and culinary delights for our Night Market. Browse handmade jewelry\, soaps\, candles\, artwork\, home décor\, clothing\, and more. After shopping\, grab a bite to eat – there is cuisine from around the world!
URL:https://www.princevillecenter.com/event/princeville-night-market/2023-03-12/
LOCATION:Princeville Shopping Center
CATEGORIES:Market,Princeville Shopping Center
ATTACH;FMTTYPE=image/jpeg:https://www.princevillecenter.com/wp-content/uploads/2022/09/sunday_night_market-photo.jpg
END:VEVENT
BEGIN:VEVENT
DTSTART;TZID=Pacific/Honolulu:20230212T060000
DTEND;TZID=Pacific/Honolulu:20230212T100000
DTSTAMP:20260424T053619
CREATED:20220922T102550Z
LAST-MODIFIED:20230510T020147Z
UID:10000082-1676181600-1676196000@www.princevillecenter.com
SUMMARY:PRINCEVILLE NIGHT MARKET
DESCRIPTION:On the second Sunday of each month\, local vendors gather their unique products and culinary delights for our Night Market. Browse handmade jewelry\, soaps\, candles\, artwork\, home décor\, clothing\, and more. After shopping\, grab a bite to eat – there is cuisine from around the world!
URL:https://www.princevillecenter.com/event/princeville-night-market/2023-02-12/
LOCATION:Princeville Shopping Center
CATEGORIES:Market,Princeville Shopping Center
ATTACH;FMTTYPE=image/jpeg:https://www.princevillecenter.com/wp-content/uploads/2022/09/sunday_night_market-photo.jpg
END:VEVENT
BEGIN:VEVENT
DTSTART;TZID=Pacific/Honolulu:20230108T060000
DTEND;TZID=Pacific/Honolulu:20230108T100000
DTSTAMP:20260424T053619
CREATED:20220922T102550Z
LAST-MODIFIED:20230510T020147Z
UID:10000081-1673157600-1673172000@www.princevillecenter.com
SUMMARY:PRINCEVILLE NIGHT MARKET
DESCRIPTION:On the second Sunday of each month\, local vendors gather their unique products and culinary delights for our Night Market. Browse handmade jewelry\, soaps\, candles\, artwork\, home décor\, clothing\, and more. After shopping\, grab a bite to eat – there is cuisine from around the world!
URL:https://www.princevillecenter.com/event/princeville-night-market/2023-01-08/
LOCATION:Princeville Shopping Center
CATEGORIES:Market,Princeville Shopping Center
ATTACH;FMTTYPE=image/jpeg:https://www.princevillecenter.com/wp-content/uploads/2022/09/sunday_night_market-photo.jpg
END:VEVENT
BEGIN:VEVENT
DTSTART;TZID=Pacific/Honolulu:20221211T060000
DTEND;TZID=Pacific/Honolulu:20221211T100000
DTSTAMP:20260424T053619
CREATED:20220922T102550Z
LAST-MODIFIED:20230510T020147Z
UID:10000080-1670738400-1670752800@www.princevillecenter.com
SUMMARY:PRINCEVILLE NIGHT MARKET
DESCRIPTION:On the second Sunday of each month\, local vendors gather their unique products and culinary delights for our Night Market. Browse handmade jewelry\, soaps\, candles\, artwork\, home décor\, clothing\, and more. After shopping\, grab a bite to eat – there is cuisine from around the world!
URL:https://www.princevillecenter.com/event/princeville-night-market/2022-12-11/
LOCATION:Princeville Shopping Center
CATEGORIES:Market,Princeville Shopping Center
ATTACH;FMTTYPE=image/jpeg:https://www.princevillecenter.com/wp-content/uploads/2022/09/sunday_night_market-photo.jpg
END:VEVENT
BEGIN:VEVENT
DTSTART;TZID=Pacific/Honolulu:20221113T060000
DTEND;TZID=Pacific/Honolulu:20221113T100000
DTSTAMP:20260424T053619
CREATED:20220922T102550Z
LAST-MODIFIED:20230510T020147Z
UID:10000079-1668319200-1668333600@www.princevillecenter.com
SUMMARY:PRINCEVILLE NIGHT MARKET
DESCRIPTION:On the second Sunday of each month\, local vendors gather their unique products and culinary delights for our Night Market. Browse handmade jewelry\, soaps\, candles\, artwork\, home décor\, clothing\, and more. After shopping\, grab a bite to eat – there is cuisine from around the world!
URL:https://www.princevillecenter.com/event/princeville-night-market/2022-11-13/
LOCATION:Princeville Shopping Center
CATEGORIES:Market,Princeville Shopping Center
ATTACH;FMTTYPE=image/jpeg:https://www.princevillecenter.com/wp-content/uploads/2022/09/sunday_night_market-photo.jpg
END:VEVENT
BEGIN:VEVENT
DTSTART;TZID=Pacific/Honolulu:20221009T060000
DTEND;TZID=Pacific/Honolulu:20221009T100000
DTSTAMP:20260424T053619
CREATED:20220922T102550Z
LAST-MODIFIED:20230510T020147Z
UID:10000078-1665295200-1665309600@www.princevillecenter.com
SUMMARY:PRINCEVILLE NIGHT MARKET
DESCRIPTION:On the second Sunday of each month\, local vendors gather their unique products and culinary delights for our Night Market. Browse handmade jewelry\, soaps\, candles\, artwork\, home décor\, clothing\, and more. After shopping\, grab a bite to eat – there is cuisine from around the world!
URL:https://www.princevillecenter.com/event/princeville-night-market/2022-10-09/
LOCATION:Princeville Shopping Center
CATEGORIES:Market,Princeville Shopping Center
ATTACH;FMTTYPE=image/jpeg:https://www.princevillecenter.com/wp-content/uploads/2022/09/sunday_night_market-photo.jpg
END:VEVENT
END:VCALENDAR