BEGIN:VCALENDAR
VERSION:2.0
PRODID:-//Princeville Center - ECPv6.15.20//NONSGML v1.0//EN
CALSCALE:GREGORIAN
METHOD:PUBLISH
X-WR-CALNAME:Princeville Center
X-ORIGINAL-URL:https://www.princevillecenter.com
X-WR-CALDESC:Events for Princeville Center
REFRESH-INTERVAL;VALUE=DURATION:PT1H
X-Robots-Tag:noindex
X-PUBLISHED-TTL:PT1H
BEGIN:VTIMEZONE
TZID:Pacific/Honolulu
BEGIN:STANDARD
TZOFFSETFROM:-1000
TZOFFSETTO:-1000
TZNAME:HST
DTSTART:20230101T000000
END:STANDARD
END:VTIMEZONE
BEGIN:VEVENT
DTSTART;TZID=Pacific/Honolulu:20250607T133000
DTEND;TZID=Pacific/Honolulu:20250607T143000
DTSTAMP:20260425T052713
CREATED:20250916T023840Z
LAST-MODIFIED:20250916T024007Z
UID:10000370-1749303000-1749306600@www.princevillecenter.com
SUMMARY:FREE SATURDAY HULA SHOW
DESCRIPTION:Enjoy a cultural experience like no other during our weekly Hula Show. Performers use music\, chanting\, and movement to tell the story of Kaua‘i. Aunty Bev’s Hula Halau takes the stage every Saturday from 1:30 – 2:30pm at the Food Court.
URL:https://www.princevillecenter.com/event/free-saturday-hula-shows-3-3-2/2025-06-07/
LOCATION:Princeville Shopping Center\, Food Court
CATEGORIES:Hula,Princeville Shopping Center
ATTACH;FMTTYPE=image/jpeg:https://www.princevillecenter.com/wp-content/uploads/2022/09/hula-shows-princeville-center.jpg
END:VEVENT
BEGIN:VEVENT
DTSTART;TZID=Pacific/Honolulu:20250531T133000
DTEND;TZID=Pacific/Honolulu:20250531T143000
DTSTAMP:20260425T052713
CREATED:20250916T023840Z
LAST-MODIFIED:20250916T024007Z
UID:10000369-1748698200-1748701800@www.princevillecenter.com
SUMMARY:FREE SATURDAY HULA SHOW
DESCRIPTION:Enjoy a cultural experience like no other during our weekly Hula Show. Performers use music\, chanting\, and movement to tell the story of Kaua‘i. Aunty Bev’s Hula Halau takes the stage every Saturday from 1:30 – 2:30pm at the Food Court.
URL:https://www.princevillecenter.com/event/free-saturday-hula-shows-3-3-2/2025-05-31/
LOCATION:Princeville Shopping Center\, Food Court
CATEGORIES:Hula,Princeville Shopping Center
ATTACH;FMTTYPE=image/jpeg:https://www.princevillecenter.com/wp-content/uploads/2022/09/hula-shows-princeville-center.jpg
END:VEVENT
BEGIN:VEVENT
DTSTART;TZID=Pacific/Honolulu:20250524T133000
DTEND;TZID=Pacific/Honolulu:20250524T143000
DTSTAMP:20260425T052713
CREATED:20250916T023840Z
LAST-MODIFIED:20250916T024007Z
UID:10000368-1748093400-1748097000@www.princevillecenter.com
SUMMARY:FREE SATURDAY HULA SHOW
DESCRIPTION:Enjoy a cultural experience like no other during our weekly Hula Show. Performers use music\, chanting\, and movement to tell the story of Kaua‘i. Aunty Bev’s Hula Halau takes the stage every Saturday from 1:30 – 2:30pm at the Food Court.
URL:https://www.princevillecenter.com/event/free-saturday-hula-shows-3-3-2/2025-05-24/
LOCATION:Princeville Shopping Center\, Food Court
CATEGORIES:Hula,Princeville Shopping Center
ATTACH;FMTTYPE=image/jpeg:https://www.princevillecenter.com/wp-content/uploads/2022/09/hula-shows-princeville-center.jpg
END:VEVENT
BEGIN:VEVENT
DTSTART;TZID=Pacific/Honolulu:20250517T133000
DTEND;TZID=Pacific/Honolulu:20250517T143000
DTSTAMP:20260425T052713
CREATED:20250916T023840Z
LAST-MODIFIED:20250916T024007Z
UID:10000367-1747488600-1747492200@www.princevillecenter.com
SUMMARY:FREE SATURDAY HULA SHOW
DESCRIPTION:Enjoy a cultural experience like no other during our weekly Hula Show. Performers use music\, chanting\, and movement to tell the story of Kaua‘i. Aunty Bev’s Hula Halau takes the stage every Saturday from 1:30 – 2:30pm at the Food Court.
URL:https://www.princevillecenter.com/event/free-saturday-hula-shows-3-3-2/2025-05-17/
LOCATION:Princeville Shopping Center\, Food Court
CATEGORIES:Hula,Princeville Shopping Center
ATTACH;FMTTYPE=image/jpeg:https://www.princevillecenter.com/wp-content/uploads/2022/09/hula-shows-princeville-center.jpg
END:VEVENT
BEGIN:VEVENT
DTSTART;TZID=Pacific/Honolulu:20250511T160000
DTEND;TZID=Pacific/Honolulu:20250511T200000
DTSTAMP:20260425T052713
CREATED:20240514T214020Z
LAST-MODIFIED:20240514T214020Z
UID:10000265-1746979200-1746993600@www.princevillecenter.com
SUMMARY:PRINCEVILLE NIGHT MARKET
DESCRIPTION:On the second Sunday of each month\, local vendors gather their unique products and culinary delights for our Night Market. Browse handmade jewelry\, soaps\, candles\, artwork\, home décor\, clothing\, and more. After shopping\, grab a bite to eat – there is cuisine from around the world!
URL:https://www.princevillecenter.com/event/princeville-night-market-3/2025-05-11/
LOCATION:Princeville Shopping Center
CATEGORIES:Market
ATTACH;FMTTYPE=image/jpeg:https://www.princevillecenter.com/wp-content/uploads/2022/09/NightMarket.jpg
END:VEVENT
BEGIN:VEVENT
DTSTART;TZID=Pacific/Honolulu:20250510T133000
DTEND;TZID=Pacific/Honolulu:20250510T143000
DTSTAMP:20260425T052713
CREATED:20250916T023840Z
LAST-MODIFIED:20250916T024007Z
UID:10000366-1746883800-1746887400@www.princevillecenter.com
SUMMARY:FREE SATURDAY HULA SHOW
DESCRIPTION:Enjoy a cultural experience like no other during our weekly Hula Show. Performers use music\, chanting\, and movement to tell the story of Kaua‘i. Aunty Bev’s Hula Halau takes the stage every Saturday from 1:30 – 2:30pm at the Food Court.
URL:https://www.princevillecenter.com/event/free-saturday-hula-shows-3-3-2/2025-05-10/
LOCATION:Princeville Shopping Center\, Food Court
CATEGORIES:Hula,Princeville Shopping Center
ATTACH;FMTTYPE=image/jpeg:https://www.princevillecenter.com/wp-content/uploads/2022/09/hula-shows-princeville-center.jpg
END:VEVENT
BEGIN:VEVENT
DTSTART;TZID=Pacific/Honolulu:20250503T133000
DTEND;TZID=Pacific/Honolulu:20250503T143000
DTSTAMP:20260425T052713
CREATED:20250916T023840Z
LAST-MODIFIED:20250916T024007Z
UID:10000365-1746279000-1746282600@www.princevillecenter.com
SUMMARY:FREE SATURDAY HULA SHOW
DESCRIPTION:Enjoy a cultural experience like no other during our weekly Hula Show. Performers use music\, chanting\, and movement to tell the story of Kaua‘i. Aunty Bev’s Hula Halau takes the stage every Saturday from 1:30 – 2:30pm at the Food Court.
URL:https://www.princevillecenter.com/event/free-saturday-hula-shows-3-3-2/2025-05-03/
LOCATION:Princeville Shopping Center\, Food Court
CATEGORIES:Hula,Princeville Shopping Center
ATTACH;FMTTYPE=image/jpeg:https://www.princevillecenter.com/wp-content/uploads/2022/09/hula-shows-princeville-center.jpg
END:VEVENT
BEGIN:VEVENT
DTSTART;TZID=Pacific/Honolulu:20250426T133000
DTEND;TZID=Pacific/Honolulu:20250426T143000
DTSTAMP:20260425T052713
CREATED:20250916T023840Z
LAST-MODIFIED:20250916T024007Z
UID:10000363-1745674200-1745677800@www.princevillecenter.com
SUMMARY:FREE SATURDAY HULA SHOW
DESCRIPTION:Enjoy a cultural experience like no other during our weekly Hula Show. Performers use music\, chanting\, and movement to tell the story of Kaua‘i. Aunty Bev’s Hula Halau takes the stage every Saturday from 1:30 – 2:30pm at the Food Court.
URL:https://www.princevillecenter.com/event/free-saturday-hula-shows-3-3-2/2025-04-26/
LOCATION:Princeville Shopping Center\, Food Court
CATEGORIES:Hula,Princeville Shopping Center
ATTACH;FMTTYPE=image/jpeg:https://www.princevillecenter.com/wp-content/uploads/2022/09/hula-shows-princeville-center.jpg
END:VEVENT
BEGIN:VEVENT
DTSTART;TZID=Pacific/Honolulu:20250419T133000
DTEND;TZID=Pacific/Honolulu:20250419T143000
DTSTAMP:20260425T052713
CREATED:20230528T055431Z
LAST-MODIFIED:20240514T214358Z
UID:10000362-1745069400-1745073000@www.princevillecenter.com
SUMMARY:FREE SATURDAY HULA SHOW
DESCRIPTION:Enjoy a cultural experience like no other during our weekly Hula Show. Performers use music\, chanting\, and movement to tell the story of Kaua‘i. Aunty Bev’s Hula Halau takes the stage every Saturday from 1:30 – 2:30pm at the Food Court.
URL:https://www.princevillecenter.com/event/free-saturday-hula-shows-3-3/2025-04-19/
LOCATION:Princeville Shopping Center\, Food Court
CATEGORIES:Hula,Princeville Shopping Center
ATTACH;FMTTYPE=image/jpeg:https://www.princevillecenter.com/wp-content/uploads/2022/09/hula-shows-princeville-center.jpg
END:VEVENT
BEGIN:VEVENT
DTSTART;TZID=Pacific/Honolulu:20250413T160000
DTEND;TZID=Pacific/Honolulu:20250413T200000
DTSTAMP:20260425T052713
CREATED:20240514T214020Z
LAST-MODIFIED:20240514T214020Z
UID:10000264-1744560000-1744574400@www.princevillecenter.com
SUMMARY:PRINCEVILLE NIGHT MARKET
DESCRIPTION:On the second Sunday of each month\, local vendors gather their unique products and culinary delights for our Night Market. Browse handmade jewelry\, soaps\, candles\, artwork\, home décor\, clothing\, and more. After shopping\, grab a bite to eat – there is cuisine from around the world!
URL:https://www.princevillecenter.com/event/princeville-night-market-3/2025-04-13/
LOCATION:Princeville Shopping Center
CATEGORIES:Market
ATTACH;FMTTYPE=image/jpeg:https://www.princevillecenter.com/wp-content/uploads/2022/09/NightMarket.jpg
END:VEVENT
BEGIN:VEVENT
DTSTART;TZID=Pacific/Honolulu:20250412T133000
DTEND;TZID=Pacific/Honolulu:20250412T143000
DTSTAMP:20260425T052713
CREATED:20230528T055431Z
LAST-MODIFIED:20240514T214358Z
UID:10000361-1744464600-1744468200@www.princevillecenter.com
SUMMARY:FREE SATURDAY HULA SHOW
DESCRIPTION:Enjoy a cultural experience like no other during our weekly Hula Show. Performers use music\, chanting\, and movement to tell the story of Kaua‘i. Aunty Bev’s Hula Halau takes the stage every Saturday from 1:30 – 2:30pm at the Food Court.
URL:https://www.princevillecenter.com/event/free-saturday-hula-shows-3-3/2025-04-12/
LOCATION:Princeville Shopping Center\, Food Court
CATEGORIES:Hula,Princeville Shopping Center
ATTACH;FMTTYPE=image/jpeg:https://www.princevillecenter.com/wp-content/uploads/2022/09/hula-shows-princeville-center.jpg
END:VEVENT
BEGIN:VEVENT
DTSTART;TZID=Pacific/Honolulu:20250405T133000
DTEND;TZID=Pacific/Honolulu:20250405T143000
DTSTAMP:20260425T052713
CREATED:20230528T055431Z
LAST-MODIFIED:20240514T214358Z
UID:10000360-1743859800-1743863400@www.princevillecenter.com
SUMMARY:FREE SATURDAY HULA SHOW
DESCRIPTION:Enjoy a cultural experience like no other during our weekly Hula Show. Performers use music\, chanting\, and movement to tell the story of Kaua‘i. Aunty Bev’s Hula Halau takes the stage every Saturday from 1:30 – 2:30pm at the Food Court.
URL:https://www.princevillecenter.com/event/free-saturday-hula-shows-3-3/2025-04-05/
LOCATION:Princeville Shopping Center\, Food Court
CATEGORIES:Hula,Princeville Shopping Center
ATTACH;FMTTYPE=image/jpeg:https://www.princevillecenter.com/wp-content/uploads/2022/09/hula-shows-princeville-center.jpg
END:VEVENT
BEGIN:VEVENT
DTSTART;TZID=Pacific/Honolulu:20250329T133000
DTEND;TZID=Pacific/Honolulu:20250329T143000
DTSTAMP:20260425T052713
CREATED:20230528T055431Z
LAST-MODIFIED:20240514T214358Z
UID:10000359-1743255000-1743258600@www.princevillecenter.com
SUMMARY:FREE SATURDAY HULA SHOW
DESCRIPTION:Enjoy a cultural experience like no other during our weekly Hula Show. Performers use music\, chanting\, and movement to tell the story of Kaua‘i. Aunty Bev’s Hula Halau takes the stage every Saturday from 1:30 – 2:30pm at the Food Court.
URL:https://www.princevillecenter.com/event/free-saturday-hula-shows-3-3/2025-03-29/
LOCATION:Princeville Shopping Center\, Food Court
CATEGORIES:Hula,Princeville Shopping Center
ATTACH;FMTTYPE=image/jpeg:https://www.princevillecenter.com/wp-content/uploads/2022/09/hula-shows-princeville-center.jpg
END:VEVENT
BEGIN:VEVENT
DTSTART;TZID=Pacific/Honolulu:20250322T133000
DTEND;TZID=Pacific/Honolulu:20250322T143000
DTSTAMP:20260425T052713
CREATED:20230528T055431Z
LAST-MODIFIED:20240514T214358Z
UID:10000358-1742650200-1742653800@www.princevillecenter.com
SUMMARY:FREE SATURDAY HULA SHOW
DESCRIPTION:Enjoy a cultural experience like no other during our weekly Hula Show. Performers use music\, chanting\, and movement to tell the story of Kaua‘i. Aunty Bev’s Hula Halau takes the stage every Saturday from 1:30 – 2:30pm at the Food Court.
URL:https://www.princevillecenter.com/event/free-saturday-hula-shows-3-3/2025-03-22/
LOCATION:Princeville Shopping Center\, Food Court
CATEGORIES:Hula,Princeville Shopping Center
ATTACH;FMTTYPE=image/jpeg:https://www.princevillecenter.com/wp-content/uploads/2022/09/hula-shows-princeville-center.jpg
END:VEVENT
BEGIN:VEVENT
DTSTART;TZID=Pacific/Honolulu:20250315T133000
DTEND;TZID=Pacific/Honolulu:20250315T143000
DTSTAMP:20260425T052713
CREATED:20230528T055431Z
LAST-MODIFIED:20240514T214358Z
UID:10000357-1742045400-1742049000@www.princevillecenter.com
SUMMARY:FREE SATURDAY HULA SHOW
DESCRIPTION:Enjoy a cultural experience like no other during our weekly Hula Show. Performers use music\, chanting\, and movement to tell the story of Kaua‘i. Aunty Bev’s Hula Halau takes the stage every Saturday from 1:30 – 2:30pm at the Food Court.
URL:https://www.princevillecenter.com/event/free-saturday-hula-shows-3-3/2025-03-15/
LOCATION:Princeville Shopping Center\, Food Court
CATEGORIES:Hula,Princeville Shopping Center
ATTACH;FMTTYPE=image/jpeg:https://www.princevillecenter.com/wp-content/uploads/2022/09/hula-shows-princeville-center.jpg
END:VEVENT
BEGIN:VEVENT
DTSTART;TZID=Pacific/Honolulu:20250309T160000
DTEND;TZID=Pacific/Honolulu:20250309T200000
DTSTAMP:20260425T052713
CREATED:20240514T214020Z
LAST-MODIFIED:20240514T214020Z
UID:10000263-1741536000-1741550400@www.princevillecenter.com
SUMMARY:PRINCEVILLE NIGHT MARKET
DESCRIPTION:On the second Sunday of each month\, local vendors gather their unique products and culinary delights for our Night Market. Browse handmade jewelry\, soaps\, candles\, artwork\, home décor\, clothing\, and more. After shopping\, grab a bite to eat – there is cuisine from around the world!
URL:https://www.princevillecenter.com/event/princeville-night-market-3/2025-03-09/
LOCATION:Princeville Shopping Center
CATEGORIES:Market
ATTACH;FMTTYPE=image/jpeg:https://www.princevillecenter.com/wp-content/uploads/2022/09/NightMarket.jpg
END:VEVENT
BEGIN:VEVENT
DTSTART;TZID=Pacific/Honolulu:20250308T133000
DTEND;TZID=Pacific/Honolulu:20250308T143000
DTSTAMP:20260425T052713
CREATED:20230528T055431Z
LAST-MODIFIED:20240514T214358Z
UID:10000356-1741440600-1741444200@www.princevillecenter.com
SUMMARY:FREE SATURDAY HULA SHOW
DESCRIPTION:Enjoy a cultural experience like no other during our weekly Hula Show. Performers use music\, chanting\, and movement to tell the story of Kaua‘i. Aunty Bev’s Hula Halau takes the stage every Saturday from 1:30 – 2:30pm at the Food Court.
URL:https://www.princevillecenter.com/event/free-saturday-hula-shows-3-3/2025-03-08/
LOCATION:Princeville Shopping Center\, Food Court
CATEGORIES:Hula,Princeville Shopping Center
ATTACH;FMTTYPE=image/jpeg:https://www.princevillecenter.com/wp-content/uploads/2022/09/hula-shows-princeville-center.jpg
END:VEVENT
BEGIN:VEVENT
DTSTART;TZID=Pacific/Honolulu:20250301T133000
DTEND;TZID=Pacific/Honolulu:20250301T143000
DTSTAMP:20260425T052713
CREATED:20230528T055431Z
LAST-MODIFIED:20240514T214358Z
UID:10000355-1740835800-1740839400@www.princevillecenter.com
SUMMARY:FREE SATURDAY HULA SHOW
DESCRIPTION:Enjoy a cultural experience like no other during our weekly Hula Show. Performers use music\, chanting\, and movement to tell the story of Kaua‘i. Aunty Bev’s Hula Halau takes the stage every Saturday from 1:30 – 2:30pm at the Food Court.
URL:https://www.princevillecenter.com/event/free-saturday-hula-shows-3-3/2025-03-01/
LOCATION:Princeville Shopping Center\, Food Court
CATEGORIES:Hula,Princeville Shopping Center
ATTACH;FMTTYPE=image/jpeg:https://www.princevillecenter.com/wp-content/uploads/2022/09/hula-shows-princeville-center.jpg
END:VEVENT
BEGIN:VEVENT
DTSTART;TZID=Pacific/Honolulu:20250222T133000
DTEND;TZID=Pacific/Honolulu:20250222T143000
DTSTAMP:20260425T052713
CREATED:20230528T055431Z
LAST-MODIFIED:20240514T214358Z
UID:10000354-1740231000-1740234600@www.princevillecenter.com
SUMMARY:FREE SATURDAY HULA SHOW
DESCRIPTION:Enjoy a cultural experience like no other during our weekly Hula Show. Performers use music\, chanting\, and movement to tell the story of Kaua‘i. Aunty Bev’s Hula Halau takes the stage every Saturday from 1:30 – 2:30pm at the Food Court.
URL:https://www.princevillecenter.com/event/free-saturday-hula-shows-3-3/2025-02-22/
LOCATION:Princeville Shopping Center\, Food Court
CATEGORIES:Hula,Princeville Shopping Center
ATTACH;FMTTYPE=image/jpeg:https://www.princevillecenter.com/wp-content/uploads/2022/09/hula-shows-princeville-center.jpg
END:VEVENT
BEGIN:VEVENT
DTSTART;TZID=Pacific/Honolulu:20250215T133000
DTEND;TZID=Pacific/Honolulu:20250215T143000
DTSTAMP:20260425T052713
CREATED:20230528T055431Z
LAST-MODIFIED:20240514T214358Z
UID:10000353-1739626200-1739629800@www.princevillecenter.com
SUMMARY:FREE SATURDAY HULA SHOW
DESCRIPTION:Enjoy a cultural experience like no other during our weekly Hula Show. Performers use music\, chanting\, and movement to tell the story of Kaua‘i. Aunty Bev’s Hula Halau takes the stage every Saturday from 1:30 – 2:30pm at the Food Court.
URL:https://www.princevillecenter.com/event/free-saturday-hula-shows-3-3/2025-02-15/
LOCATION:Princeville Shopping Center\, Food Court
CATEGORIES:Hula,Princeville Shopping Center
ATTACH;FMTTYPE=image/jpeg:https://www.princevillecenter.com/wp-content/uploads/2022/09/hula-shows-princeville-center.jpg
END:VEVENT
BEGIN:VEVENT
DTSTART;TZID=Pacific/Honolulu:20250209T160000
DTEND;TZID=Pacific/Honolulu:20250209T200000
DTSTAMP:20260425T052713
CREATED:20240514T214020Z
LAST-MODIFIED:20240514T214020Z
UID:10000262-1739116800-1739131200@www.princevillecenter.com
SUMMARY:PRINCEVILLE NIGHT MARKET
DESCRIPTION:On the second Sunday of each month\, local vendors gather their unique products and culinary delights for our Night Market. Browse handmade jewelry\, soaps\, candles\, artwork\, home décor\, clothing\, and more. After shopping\, grab a bite to eat – there is cuisine from around the world!
URL:https://www.princevillecenter.com/event/princeville-night-market-3/2025-02-09/
LOCATION:Princeville Shopping Center
CATEGORIES:Market
ATTACH;FMTTYPE=image/jpeg:https://www.princevillecenter.com/wp-content/uploads/2022/09/NightMarket.jpg
END:VEVENT
BEGIN:VEVENT
DTSTART;TZID=Pacific/Honolulu:20250208T133000
DTEND;TZID=Pacific/Honolulu:20250208T143000
DTSTAMP:20260425T052713
CREATED:20230528T055431Z
LAST-MODIFIED:20240514T214358Z
UID:10000352-1739021400-1739025000@www.princevillecenter.com
SUMMARY:FREE SATURDAY HULA SHOW
DESCRIPTION:Enjoy a cultural experience like no other during our weekly Hula Show. Performers use music\, chanting\, and movement to tell the story of Kaua‘i. Aunty Bev’s Hula Halau takes the stage every Saturday from 1:30 – 2:30pm at the Food Court.
URL:https://www.princevillecenter.com/event/free-saturday-hula-shows-3-3/2025-02-08/
LOCATION:Princeville Shopping Center\, Food Court
CATEGORIES:Hula,Princeville Shopping Center
ATTACH;FMTTYPE=image/jpeg:https://www.princevillecenter.com/wp-content/uploads/2022/09/hula-shows-princeville-center.jpg
END:VEVENT
BEGIN:VEVENT
DTSTART;TZID=Pacific/Honolulu:20250207T110000
DTEND;TZID=Pacific/Honolulu:20250207T120000
DTSTAMP:20260425T052713
CREATED:20250127T214237Z
LAST-MODIFIED:20250127T220250Z
UID:10000364-1738926000-1738929600@www.princevillecenter.com
SUMMARY:Chinese New Year Celebration 2025
DESCRIPTION:Chinese New Year Celebration \nFriday\, February 7th | 11:00 AM | Princeville Center\nKung Hei Fat Choy! \nFeeding the Lion \n2025 marks the Year of the Snake! Join us at Princeville Center with Saam Fu Chinese Cultural Arts to ring in the new lunar year. It’s a one-of-a-kind event that’s sure to bring a smile to your face! \nExperience the Chinese Lion Dance as they parade around the Center starting at the Food Court. “Feed the Lions” donations for good fortune in 2025. Lion dancing is one of the great traditions that people love during Chinese New Year. We are honored to host this culture & art as Hawaii celebrates. We hope to see you out there! \nThis energetic cultural event will delight children and adults alike as the Lions roam the Center. This event is the perfect way to immerse yourself in Chinese culture and start off the new year with good luck and purpose. 2025 is the Year of the Wood Snake\, the sixth animal on the 12-year cycle. The snake is meant to symbolize wisdom\, growth and renewal. \nSaam Fu wishes you good luck\, health and prosperity for the coming year. \nMark your calendar and bring your family and friends! See you there! \nSaam Fu Chinese Cultural Arts \nChinese New Year Lion interacts with kids. \nLions parade for good fortune.
URL:https://www.princevillecenter.com/event/chinesenewyear2025/
LOCATION:Princeville Shopping Center
CATEGORIES:Princeville Shopping Center
ATTACH;FMTTYPE=image/jpeg:https://www.princevillecenter.com/wp-content/uploads/2025/01/CNY_CulturalPlaza_02_01_2014_Opening-27.jpg
END:VEVENT
BEGIN:VEVENT
DTSTART;TZID=Pacific/Honolulu:20250201T133000
DTEND;TZID=Pacific/Honolulu:20250201T143000
DTSTAMP:20260425T052713
CREATED:20230528T055431Z
LAST-MODIFIED:20240514T214358Z
UID:10000351-1738416600-1738420200@www.princevillecenter.com
SUMMARY:FREE SATURDAY HULA SHOW
DESCRIPTION:Enjoy a cultural experience like no other during our weekly Hula Show. Performers use music\, chanting\, and movement to tell the story of Kaua‘i. Aunty Bev’s Hula Halau takes the stage every Saturday from 1:30 – 2:30pm at the Food Court.
URL:https://www.princevillecenter.com/event/free-saturday-hula-shows-3-3/2025-02-01/
LOCATION:Princeville Shopping Center\, Food Court
CATEGORIES:Hula,Princeville Shopping Center
ATTACH;FMTTYPE=image/jpeg:https://www.princevillecenter.com/wp-content/uploads/2022/09/hula-shows-princeville-center.jpg
END:VEVENT
BEGIN:VEVENT
DTSTART;TZID=Pacific/Honolulu:20250125T133000
DTEND;TZID=Pacific/Honolulu:20250125T143000
DTSTAMP:20260425T052713
CREATED:20230528T055431Z
LAST-MODIFIED:20240514T214358Z
UID:10000350-1737811800-1737815400@www.princevillecenter.com
SUMMARY:FREE SATURDAY HULA SHOW
DESCRIPTION:Enjoy a cultural experience like no other during our weekly Hula Show. Performers use music\, chanting\, and movement to tell the story of Kaua‘i. Aunty Bev’s Hula Halau takes the stage every Saturday from 1:30 – 2:30pm at the Food Court.
URL:https://www.princevillecenter.com/event/free-saturday-hula-shows-3-3/2025-01-25/
LOCATION:Princeville Shopping Center\, Food Court
CATEGORIES:Hula,Princeville Shopping Center
ATTACH;FMTTYPE=image/jpeg:https://www.princevillecenter.com/wp-content/uploads/2022/09/hula-shows-princeville-center.jpg
END:VEVENT
BEGIN:VEVENT
DTSTART;TZID=Pacific/Honolulu:20250118T133000
DTEND;TZID=Pacific/Honolulu:20250118T143000
DTSTAMP:20260425T052713
CREATED:20230528T055431Z
LAST-MODIFIED:20240514T214358Z
UID:10000349-1737207000-1737210600@www.princevillecenter.com
SUMMARY:FREE SATURDAY HULA SHOW
DESCRIPTION:Enjoy a cultural experience like no other during our weekly Hula Show. Performers use music\, chanting\, and movement to tell the story of Kaua‘i. Aunty Bev’s Hula Halau takes the stage every Saturday from 1:30 – 2:30pm at the Food Court.
URL:https://www.princevillecenter.com/event/free-saturday-hula-shows-3-3/2025-01-18/
LOCATION:Princeville Shopping Center\, Food Court
CATEGORIES:Hula,Princeville Shopping Center
ATTACH;FMTTYPE=image/jpeg:https://www.princevillecenter.com/wp-content/uploads/2022/09/hula-shows-princeville-center.jpg
END:VEVENT
BEGIN:VEVENT
DTSTART;TZID=Pacific/Honolulu:20250112T160000
DTEND;TZID=Pacific/Honolulu:20250112T200000
DTSTAMP:20260425T052713
CREATED:20240514T214020Z
LAST-MODIFIED:20240514T214020Z
UID:10000261-1736697600-1736712000@www.princevillecenter.com
SUMMARY:PRINCEVILLE NIGHT MARKET
DESCRIPTION:On the second Sunday of each month\, local vendors gather their unique products and culinary delights for our Night Market. Browse handmade jewelry\, soaps\, candles\, artwork\, home décor\, clothing\, and more. After shopping\, grab a bite to eat – there is cuisine from around the world!
URL:https://www.princevillecenter.com/event/princeville-night-market-3/2025-01-12/
LOCATION:Princeville Shopping Center
CATEGORIES:Market
ATTACH;FMTTYPE=image/jpeg:https://www.princevillecenter.com/wp-content/uploads/2022/09/NightMarket.jpg
END:VEVENT
BEGIN:VEVENT
DTSTART;TZID=Pacific/Honolulu:20250111T133000
DTEND;TZID=Pacific/Honolulu:20250111T143000
DTSTAMP:20260425T052713
CREATED:20230528T055431Z
LAST-MODIFIED:20240514T214358Z
UID:10000348-1736602200-1736605800@www.princevillecenter.com
SUMMARY:FREE SATURDAY HULA SHOW
DESCRIPTION:Enjoy a cultural experience like no other during our weekly Hula Show. Performers use music\, chanting\, and movement to tell the story of Kaua‘i. Aunty Bev’s Hula Halau takes the stage every Saturday from 1:30 – 2:30pm at the Food Court.
URL:https://www.princevillecenter.com/event/free-saturday-hula-shows-3-3/2025-01-11/
LOCATION:Princeville Shopping Center\, Food Court
CATEGORIES:Hula,Princeville Shopping Center
ATTACH;FMTTYPE=image/jpeg:https://www.princevillecenter.com/wp-content/uploads/2022/09/hula-shows-princeville-center.jpg
END:VEVENT
BEGIN:VEVENT
DTSTART;TZID=Pacific/Honolulu:20250104T133000
DTEND;TZID=Pacific/Honolulu:20250104T143000
DTSTAMP:20260425T052713
CREATED:20230528T055431Z
LAST-MODIFIED:20240514T214358Z
UID:10000347-1735997400-1736001000@www.princevillecenter.com
SUMMARY:FREE SATURDAY HULA SHOW
DESCRIPTION:Enjoy a cultural experience like no other during our weekly Hula Show. Performers use music\, chanting\, and movement to tell the story of Kaua‘i. Aunty Bev’s Hula Halau takes the stage every Saturday from 1:30 – 2:30pm at the Food Court.
URL:https://www.princevillecenter.com/event/free-saturday-hula-shows-3-3/2025-01-04/
LOCATION:Princeville Shopping Center\, Food Court
CATEGORIES:Hula,Princeville Shopping Center
ATTACH;FMTTYPE=image/jpeg:https://www.princevillecenter.com/wp-content/uploads/2022/09/hula-shows-princeville-center.jpg
END:VEVENT
BEGIN:VEVENT
DTSTART;TZID=Pacific/Honolulu:20241228T133000
DTEND;TZID=Pacific/Honolulu:20241228T143000
DTSTAMP:20260425T052713
CREATED:20230528T055431Z
LAST-MODIFIED:20240514T214358Z
UID:10000346-1735392600-1735396200@www.princevillecenter.com
SUMMARY:FREE SATURDAY HULA SHOW
DESCRIPTION:Enjoy a cultural experience like no other during our weekly Hula Show. Performers use music\, chanting\, and movement to tell the story of Kaua‘i. Aunty Bev’s Hula Halau takes the stage every Saturday from 1:30 – 2:30pm at the Food Court.
URL:https://www.princevillecenter.com/event/free-saturday-hula-shows-3-3/2024-12-28/
LOCATION:Princeville Shopping Center\, Food Court
CATEGORIES:Hula,Princeville Shopping Center
ATTACH;FMTTYPE=image/jpeg:https://www.princevillecenter.com/wp-content/uploads/2022/09/hula-shows-princeville-center.jpg
END:VEVENT
END:VCALENDAR