BEGIN:VCALENDAR
VERSION:2.0
PRODID:-//Princeville Center - ECPv6.15.20//NONSGML v1.0//EN
CALSCALE:GREGORIAN
METHOD:PUBLISH
X-ORIGINAL-URL:https://www.princevillecenter.com
X-WR-CALDESC:Events for Princeville Center
REFRESH-INTERVAL;VALUE=DURATION:PT1H
X-Robots-Tag:noindex
X-PUBLISHED-TTL:PT1H
BEGIN:VTIMEZONE
TZID:Pacific/Honolulu
BEGIN:STANDARD
TZOFFSETFROM:-1000
TZOFFSETTO:-1000
TZNAME:HST
DTSTART:20260101T000000
END:STANDARD
END:VTIMEZONE
BEGIN:VEVENT
DTSTART;TZID=Pacific/Honolulu:20270220T133000
DTEND;TZID=Pacific/Honolulu:20270220T143000
DTSTAMP:20260425T022552
CREATED:20250916T023840Z
LAST-MODIFIED:20250916T024007Z
UID:10000459-1803130200-1803133800@www.princevillecenter.com
SUMMARY:FREE SATURDAY HULA SHOW
DESCRIPTION:Enjoy a cultural experience like no other during our weekly Hula Show. Performers use music\, chanting\, and movement to tell the story of Kaua‘i. Aunty Bev’s Hula Halau takes the stage every Saturday from 1:30 – 2:30pm at the Food Court.
URL:https://www.princevillecenter.com/event/free-saturday-hula-shows-3-3-2/2027-02-20/
LOCATION:Princeville Shopping Center\, Food Court
CATEGORIES:Hula,Princeville Shopping Center
ATTACH;FMTTYPE=image/jpeg:https://www.princevillecenter.com/wp-content/uploads/2022/09/hula-shows-princeville-center.jpg
END:VEVENT
BEGIN:VEVENT
DTSTART;TZID=Pacific/Honolulu:20270227T133000
DTEND;TZID=Pacific/Honolulu:20270227T143000
DTSTAMP:20260425T022553
CREATED:20250916T023840Z
LAST-MODIFIED:20250916T024007Z
UID:10000460-1803735000-1803738600@www.princevillecenter.com
SUMMARY:FREE SATURDAY HULA SHOW
DESCRIPTION:Enjoy a cultural experience like no other during our weekly Hula Show. Performers use music\, chanting\, and movement to tell the story of Kaua‘i. Aunty Bev’s Hula Halau takes the stage every Saturday from 1:30 – 2:30pm at the Food Court.
URL:https://www.princevillecenter.com/event/free-saturday-hula-shows-3-3-2/2027-02-27/
LOCATION:Princeville Shopping Center\, Food Court
CATEGORIES:Hula,Princeville Shopping Center
ATTACH;FMTTYPE=image/jpeg:https://www.princevillecenter.com/wp-content/uploads/2022/09/hula-shows-princeville-center.jpg
END:VEVENT
BEGIN:VEVENT
DTSTART;TZID=Pacific/Honolulu:20270306T133000
DTEND;TZID=Pacific/Honolulu:20270306T143000
DTSTAMP:20260425T022553
CREATED:20250916T023840Z
LAST-MODIFIED:20250916T024007Z
UID:10000461-1804339800-1804343400@www.princevillecenter.com
SUMMARY:FREE SATURDAY HULA SHOW
DESCRIPTION:Enjoy a cultural experience like no other during our weekly Hula Show. Performers use music\, chanting\, and movement to tell the story of Kaua‘i. Aunty Bev’s Hula Halau takes the stage every Saturday from 1:30 – 2:30pm at the Food Court.
URL:https://www.princevillecenter.com/event/free-saturday-hula-shows-3-3-2/2027-03-06/
LOCATION:Princeville Shopping Center\, Food Court
CATEGORIES:Hula,Princeville Shopping Center
ATTACH;FMTTYPE=image/jpeg:https://www.princevillecenter.com/wp-content/uploads/2022/09/hula-shows-princeville-center.jpg
END:VEVENT
BEGIN:VEVENT
DTSTART;TZID=Pacific/Honolulu:20270313T133000
DTEND;TZID=Pacific/Honolulu:20270313T143000
DTSTAMP:20260425T022553
CREATED:20250916T023840Z
LAST-MODIFIED:20250916T024007Z
UID:10000462-1804944600-1804948200@www.princevillecenter.com
SUMMARY:FREE SATURDAY HULA SHOW
DESCRIPTION:Enjoy a cultural experience like no other during our weekly Hula Show. Performers use music\, chanting\, and movement to tell the story of Kaua‘i. Aunty Bev’s Hula Halau takes the stage every Saturday from 1:30 – 2:30pm at the Food Court.
URL:https://www.princevillecenter.com/event/free-saturday-hula-shows-3-3-2/2027-03-13/
LOCATION:Princeville Shopping Center\, Food Court
CATEGORIES:Hula,Princeville Shopping Center
ATTACH;FMTTYPE=image/jpeg:https://www.princevillecenter.com/wp-content/uploads/2022/09/hula-shows-princeville-center.jpg
END:VEVENT
BEGIN:VEVENT
DTSTART;TZID=Pacific/Honolulu:20270314T160000
DTEND;TZID=Pacific/Honolulu:20270314T200000
DTSTAMP:20260425T022553
CREATED:20240514T214020Z
LAST-MODIFIED:20240514T214020Z
UID:10000287-1805040000-1805054400@www.princevillecenter.com
SUMMARY:PRINCEVILLE NIGHT MARKET
DESCRIPTION:On the second Sunday of each month\, local vendors gather their unique products and culinary delights for our Night Market. Browse handmade jewelry\, soaps\, candles\, artwork\, home décor\, clothing\, and more. After shopping\, grab a bite to eat – there is cuisine from around the world!
URL:https://www.princevillecenter.com/event/princeville-night-market-3/2027-03-14/
LOCATION:Princeville Shopping Center
CATEGORIES:Market
ATTACH;FMTTYPE=image/jpeg:https://www.princevillecenter.com/wp-content/uploads/2022/09/NightMarket.jpg
END:VEVENT
BEGIN:VEVENT
DTSTART;TZID=Pacific/Honolulu:20270320T133000
DTEND;TZID=Pacific/Honolulu:20270320T143000
DTSTAMP:20260425T022553
CREATED:20250916T023840Z
LAST-MODIFIED:20250916T024007Z
UID:10000463-1805549400-1805553000@www.princevillecenter.com
SUMMARY:FREE SATURDAY HULA SHOW
DESCRIPTION:Enjoy a cultural experience like no other during our weekly Hula Show. Performers use music\, chanting\, and movement to tell the story of Kaua‘i. Aunty Bev’s Hula Halau takes the stage every Saturday from 1:30 – 2:30pm at the Food Court.
URL:https://www.princevillecenter.com/event/free-saturday-hula-shows-3-3-2/2027-03-20/
LOCATION:Princeville Shopping Center\, Food Court
CATEGORIES:Hula,Princeville Shopping Center
ATTACH;FMTTYPE=image/jpeg:https://www.princevillecenter.com/wp-content/uploads/2022/09/hula-shows-princeville-center.jpg
END:VEVENT
BEGIN:VEVENT
DTSTART;TZID=Pacific/Honolulu:20270327T133000
DTEND;TZID=Pacific/Honolulu:20270327T143000
DTSTAMP:20260425T022553
CREATED:20250916T023840Z
LAST-MODIFIED:20250916T024007Z
UID:10000464-1806154200-1806157800@www.princevillecenter.com
SUMMARY:FREE SATURDAY HULA SHOW
DESCRIPTION:Enjoy a cultural experience like no other during our weekly Hula Show. Performers use music\, chanting\, and movement to tell the story of Kaua‘i. Aunty Bev’s Hula Halau takes the stage every Saturday from 1:30 – 2:30pm at the Food Court.
URL:https://www.princevillecenter.com/event/free-saturday-hula-shows-3-3-2/2027-03-27/
LOCATION:Princeville Shopping Center\, Food Court
CATEGORIES:Hula,Princeville Shopping Center
ATTACH;FMTTYPE=image/jpeg:https://www.princevillecenter.com/wp-content/uploads/2022/09/hula-shows-princeville-center.jpg
END:VEVENT
BEGIN:VEVENT
DTSTART;TZID=Pacific/Honolulu:20270403T133000
DTEND;TZID=Pacific/Honolulu:20270403T143000
DTSTAMP:20260425T022553
CREATED:20250916T023840Z
LAST-MODIFIED:20250916T024007Z
UID:10000465-1806759000-1806762600@www.princevillecenter.com
SUMMARY:FREE SATURDAY HULA SHOW
DESCRIPTION:Enjoy a cultural experience like no other during our weekly Hula Show. Performers use music\, chanting\, and movement to tell the story of Kaua‘i. Aunty Bev’s Hula Halau takes the stage every Saturday from 1:30 – 2:30pm at the Food Court.
URL:https://www.princevillecenter.com/event/free-saturday-hula-shows-3-3-2/2027-04-03/
LOCATION:Princeville Shopping Center\, Food Court
CATEGORIES:Hula,Princeville Shopping Center
ATTACH;FMTTYPE=image/jpeg:https://www.princevillecenter.com/wp-content/uploads/2022/09/hula-shows-princeville-center.jpg
END:VEVENT
BEGIN:VEVENT
DTSTART;TZID=Pacific/Honolulu:20270410T133000
DTEND;TZID=Pacific/Honolulu:20270410T143000
DTSTAMP:20260425T022553
CREATED:20250916T023840Z
LAST-MODIFIED:20250916T024007Z
UID:10000466-1807363800-1807367400@www.princevillecenter.com
SUMMARY:FREE SATURDAY HULA SHOW
DESCRIPTION:Enjoy a cultural experience like no other during our weekly Hula Show. Performers use music\, chanting\, and movement to tell the story of Kaua‘i. Aunty Bev’s Hula Halau takes the stage every Saturday from 1:30 – 2:30pm at the Food Court.
URL:https://www.princevillecenter.com/event/free-saturday-hula-shows-3-3-2/2027-04-10/
LOCATION:Princeville Shopping Center\, Food Court
CATEGORIES:Hula,Princeville Shopping Center
ATTACH;FMTTYPE=image/jpeg:https://www.princevillecenter.com/wp-content/uploads/2022/09/hula-shows-princeville-center.jpg
END:VEVENT
BEGIN:VEVENT
DTSTART;TZID=Pacific/Honolulu:20270411T160000
DTEND;TZID=Pacific/Honolulu:20270411T200000
DTSTAMP:20260425T022553
CREATED:20240514T214020Z
LAST-MODIFIED:20240514T214020Z
UID:10000288-1807459200-1807473600@www.princevillecenter.com
SUMMARY:PRINCEVILLE NIGHT MARKET
DESCRIPTION:On the second Sunday of each month\, local vendors gather their unique products and culinary delights for our Night Market. Browse handmade jewelry\, soaps\, candles\, artwork\, home décor\, clothing\, and more. After shopping\, grab a bite to eat – there is cuisine from around the world!
URL:https://www.princevillecenter.com/event/princeville-night-market-3/2027-04-11/
LOCATION:Princeville Shopping Center
CATEGORIES:Market
ATTACH;FMTTYPE=image/jpeg:https://www.princevillecenter.com/wp-content/uploads/2022/09/NightMarket.jpg
END:VEVENT
BEGIN:VEVENT
DTSTART;TZID=Pacific/Honolulu:20270417T133000
DTEND;TZID=Pacific/Honolulu:20270417T143000
DTSTAMP:20260425T022553
CREATED:20250916T023840Z
LAST-MODIFIED:20250916T024007Z
UID:10000467-1807968600-1807972200@www.princevillecenter.com
SUMMARY:FREE SATURDAY HULA SHOW
DESCRIPTION:Enjoy a cultural experience like no other during our weekly Hula Show. Performers use music\, chanting\, and movement to tell the story of Kaua‘i. Aunty Bev’s Hula Halau takes the stage every Saturday from 1:30 – 2:30pm at the Food Court.
URL:https://www.princevillecenter.com/event/free-saturday-hula-shows-3-3-2/2027-04-17/
LOCATION:Princeville Shopping Center\, Food Court
CATEGORIES:Hula,Princeville Shopping Center
ATTACH;FMTTYPE=image/jpeg:https://www.princevillecenter.com/wp-content/uploads/2022/09/hula-shows-princeville-center.jpg
END:VEVENT
BEGIN:VEVENT
DTSTART;TZID=Pacific/Honolulu:20270424T133000
DTEND;TZID=Pacific/Honolulu:20270424T143000
DTSTAMP:20260425T022553
CREATED:20250916T023840Z
LAST-MODIFIED:20250916T024007Z
UID:10000468-1808573400-1808577000@www.princevillecenter.com
SUMMARY:FREE SATURDAY HULA SHOW
DESCRIPTION:Enjoy a cultural experience like no other during our weekly Hula Show. Performers use music\, chanting\, and movement to tell the story of Kaua‘i. Aunty Bev’s Hula Halau takes the stage every Saturday from 1:30 – 2:30pm at the Food Court.
URL:https://www.princevillecenter.com/event/free-saturday-hula-shows-3-3-2/2027-04-24/
LOCATION:Princeville Shopping Center\, Food Court
CATEGORIES:Hula,Princeville Shopping Center
ATTACH;FMTTYPE=image/jpeg:https://www.princevillecenter.com/wp-content/uploads/2022/09/hula-shows-princeville-center.jpg
END:VEVENT
BEGIN:VEVENT
DTSTART;TZID=Pacific/Honolulu:20270501T133000
DTEND;TZID=Pacific/Honolulu:20270501T143000
DTSTAMP:20260425T022553
CREATED:20250916T023840Z
LAST-MODIFIED:20250916T024007Z
UID:10000469-1809178200-1809181800@www.princevillecenter.com
SUMMARY:FREE SATURDAY HULA SHOW
DESCRIPTION:Enjoy a cultural experience like no other during our weekly Hula Show. Performers use music\, chanting\, and movement to tell the story of Kaua‘i. Aunty Bev’s Hula Halau takes the stage every Saturday from 1:30 – 2:30pm at the Food Court.
URL:https://www.princevillecenter.com/event/free-saturday-hula-shows-3-3-2/2027-05-01/
LOCATION:Princeville Shopping Center\, Food Court
CATEGORIES:Hula,Princeville Shopping Center
ATTACH;FMTTYPE=image/jpeg:https://www.princevillecenter.com/wp-content/uploads/2022/09/hula-shows-princeville-center.jpg
END:VEVENT
BEGIN:VEVENT
DTSTART;TZID=Pacific/Honolulu:20270508T133000
DTEND;TZID=Pacific/Honolulu:20270508T143000
DTSTAMP:20260425T022553
CREATED:20250916T023840Z
LAST-MODIFIED:20250916T024007Z
UID:10000470-1809783000-1809786600@www.princevillecenter.com
SUMMARY:FREE SATURDAY HULA SHOW
DESCRIPTION:Enjoy a cultural experience like no other during our weekly Hula Show. Performers use music\, chanting\, and movement to tell the story of Kaua‘i. Aunty Bev’s Hula Halau takes the stage every Saturday from 1:30 – 2:30pm at the Food Court.
URL:https://www.princevillecenter.com/event/free-saturday-hula-shows-3-3-2/2027-05-08/
LOCATION:Princeville Shopping Center\, Food Court
CATEGORIES:Hula,Princeville Shopping Center
ATTACH;FMTTYPE=image/jpeg:https://www.princevillecenter.com/wp-content/uploads/2022/09/hula-shows-princeville-center.jpg
END:VEVENT
BEGIN:VEVENT
DTSTART;TZID=Pacific/Honolulu:20270509T160000
DTEND;TZID=Pacific/Honolulu:20270509T200000
DTSTAMP:20260425T022553
CREATED:20240514T214020Z
LAST-MODIFIED:20240514T214020Z
UID:10000289-1809878400-1809892800@www.princevillecenter.com
SUMMARY:PRINCEVILLE NIGHT MARKET
DESCRIPTION:On the second Sunday of each month\, local vendors gather their unique products and culinary delights for our Night Market. Browse handmade jewelry\, soaps\, candles\, artwork\, home décor\, clothing\, and more. After shopping\, grab a bite to eat – there is cuisine from around the world!
URL:https://www.princevillecenter.com/event/princeville-night-market-3/2027-05-09/
LOCATION:Princeville Shopping Center
CATEGORIES:Market
ATTACH;FMTTYPE=image/jpeg:https://www.princevillecenter.com/wp-content/uploads/2022/09/NightMarket.jpg
END:VEVENT
BEGIN:VEVENT
DTSTART;TZID=Pacific/Honolulu:20270515T133000
DTEND;TZID=Pacific/Honolulu:20270515T143000
DTSTAMP:20260425T022553
CREATED:20250916T023840Z
LAST-MODIFIED:20250916T024007Z
UID:10000471-1810387800-1810391400@www.princevillecenter.com
SUMMARY:FREE SATURDAY HULA SHOW
DESCRIPTION:Enjoy a cultural experience like no other during our weekly Hula Show. Performers use music\, chanting\, and movement to tell the story of Kaua‘i. Aunty Bev’s Hula Halau takes the stage every Saturday from 1:30 – 2:30pm at the Food Court.
URL:https://www.princevillecenter.com/event/free-saturday-hula-shows-3-3-2/2027-05-15/
LOCATION:Princeville Shopping Center\, Food Court
CATEGORIES:Hula,Princeville Shopping Center
ATTACH;FMTTYPE=image/jpeg:https://www.princevillecenter.com/wp-content/uploads/2022/09/hula-shows-princeville-center.jpg
END:VEVENT
BEGIN:VEVENT
DTSTART;TZID=Pacific/Honolulu:20270522T133000
DTEND;TZID=Pacific/Honolulu:20270522T143000
DTSTAMP:20260425T022553
CREATED:20250916T023840Z
LAST-MODIFIED:20250916T024007Z
UID:10000472-1810992600-1810996200@www.princevillecenter.com
SUMMARY:FREE SATURDAY HULA SHOW
DESCRIPTION:Enjoy a cultural experience like no other during our weekly Hula Show. Performers use music\, chanting\, and movement to tell the story of Kaua‘i. Aunty Bev’s Hula Halau takes the stage every Saturday from 1:30 – 2:30pm at the Food Court.
URL:https://www.princevillecenter.com/event/free-saturday-hula-shows-3-3-2/2027-05-22/
LOCATION:Princeville Shopping Center\, Food Court
CATEGORIES:Hula,Princeville Shopping Center
ATTACH;FMTTYPE=image/jpeg:https://www.princevillecenter.com/wp-content/uploads/2022/09/hula-shows-princeville-center.jpg
END:VEVENT
BEGIN:VEVENT
DTSTART;TZID=Pacific/Honolulu:20270529T133000
DTEND;TZID=Pacific/Honolulu:20270529T143000
DTSTAMP:20260425T022553
CREATED:20250916T023840Z
LAST-MODIFIED:20250916T024007Z
UID:10000473-1811597400-1811601000@www.princevillecenter.com
SUMMARY:FREE SATURDAY HULA SHOW
DESCRIPTION:Enjoy a cultural experience like no other during our weekly Hula Show. Performers use music\, chanting\, and movement to tell the story of Kaua‘i. Aunty Bev’s Hula Halau takes the stage every Saturday from 1:30 – 2:30pm at the Food Court.
URL:https://www.princevillecenter.com/event/free-saturday-hula-shows-3-3-2/2027-05-29/
LOCATION:Princeville Shopping Center\, Food Court
CATEGORIES:Hula,Princeville Shopping Center
ATTACH;FMTTYPE=image/jpeg:https://www.princevillecenter.com/wp-content/uploads/2022/09/hula-shows-princeville-center.jpg
END:VEVENT
BEGIN:VEVENT
DTSTART;TZID=Pacific/Honolulu:20270605T133000
DTEND;TZID=Pacific/Honolulu:20270605T143000
DTSTAMP:20260425T022553
CREATED:20250916T023840Z
LAST-MODIFIED:20250916T024007Z
UID:10000474-1812202200-1812205800@www.princevillecenter.com
SUMMARY:FREE SATURDAY HULA SHOW
DESCRIPTION:Enjoy a cultural experience like no other during our weekly Hula Show. Performers use music\, chanting\, and movement to tell the story of Kaua‘i. Aunty Bev’s Hula Halau takes the stage every Saturday from 1:30 – 2:30pm at the Food Court.
URL:https://www.princevillecenter.com/event/free-saturday-hula-shows-3-3-2/2027-06-05/
LOCATION:Princeville Shopping Center\, Food Court
CATEGORIES:Hula,Princeville Shopping Center
ATTACH;FMTTYPE=image/jpeg:https://www.princevillecenter.com/wp-content/uploads/2022/09/hula-shows-princeville-center.jpg
END:VEVENT
BEGIN:VEVENT
DTSTART;TZID=Pacific/Honolulu:20270612T133000
DTEND;TZID=Pacific/Honolulu:20270612T143000
DTSTAMP:20260425T022553
CREATED:20250916T023840Z
LAST-MODIFIED:20250916T024007Z
UID:10000475-1812807000-1812810600@www.princevillecenter.com
SUMMARY:FREE SATURDAY HULA SHOW
DESCRIPTION:Enjoy a cultural experience like no other during our weekly Hula Show. Performers use music\, chanting\, and movement to tell the story of Kaua‘i. Aunty Bev’s Hula Halau takes the stage every Saturday from 1:30 – 2:30pm at the Food Court.
URL:https://www.princevillecenter.com/event/free-saturday-hula-shows-3-3-2/2027-06-12/
LOCATION:Princeville Shopping Center\, Food Court
CATEGORIES:Hula,Princeville Shopping Center
ATTACH;FMTTYPE=image/jpeg:https://www.princevillecenter.com/wp-content/uploads/2022/09/hula-shows-princeville-center.jpg
END:VEVENT
BEGIN:VEVENT
DTSTART;TZID=Pacific/Honolulu:20270613T160000
DTEND;TZID=Pacific/Honolulu:20270613T200000
DTSTAMP:20260425T022553
CREATED:20240514T214020Z
LAST-MODIFIED:20240514T214020Z
UID:10000290-1812902400-1812916800@www.princevillecenter.com
SUMMARY:PRINCEVILLE NIGHT MARKET
DESCRIPTION:On the second Sunday of each month\, local vendors gather their unique products and culinary delights for our Night Market. Browse handmade jewelry\, soaps\, candles\, artwork\, home décor\, clothing\, and more. After shopping\, grab a bite to eat – there is cuisine from around the world!
URL:https://www.princevillecenter.com/event/princeville-night-market-3/2027-06-13/
LOCATION:Princeville Shopping Center
CATEGORIES:Market
ATTACH;FMTTYPE=image/jpeg:https://www.princevillecenter.com/wp-content/uploads/2022/09/NightMarket.jpg
END:VEVENT
BEGIN:VEVENT
DTSTART;TZID=Pacific/Honolulu:20270619T133000
DTEND;TZID=Pacific/Honolulu:20270619T143000
DTSTAMP:20260425T022553
CREATED:20250916T023840Z
LAST-MODIFIED:20250916T024007Z
UID:10000476-1813411800-1813415400@www.princevillecenter.com
SUMMARY:FREE SATURDAY HULA SHOW
DESCRIPTION:Enjoy a cultural experience like no other during our weekly Hula Show. Performers use music\, chanting\, and movement to tell the story of Kaua‘i. Aunty Bev’s Hula Halau takes the stage every Saturday from 1:30 – 2:30pm at the Food Court.
URL:https://www.princevillecenter.com/event/free-saturday-hula-shows-3-3-2/2027-06-19/
LOCATION:Princeville Shopping Center\, Food Court
CATEGORIES:Hula,Princeville Shopping Center
ATTACH;FMTTYPE=image/jpeg:https://www.princevillecenter.com/wp-content/uploads/2022/09/hula-shows-princeville-center.jpg
END:VEVENT
BEGIN:VEVENT
DTSTART;TZID=Pacific/Honolulu:20270626T133000
DTEND;TZID=Pacific/Honolulu:20270626T143000
DTSTAMP:20260425T022553
CREATED:20250916T023840Z
LAST-MODIFIED:20250916T024007Z
UID:10000477-1814016600-1814020200@www.princevillecenter.com
SUMMARY:FREE SATURDAY HULA SHOW
DESCRIPTION:Enjoy a cultural experience like no other during our weekly Hula Show. Performers use music\, chanting\, and movement to tell the story of Kaua‘i. Aunty Bev’s Hula Halau takes the stage every Saturday from 1:30 – 2:30pm at the Food Court.
URL:https://www.princevillecenter.com/event/free-saturday-hula-shows-3-3-2/2027-06-26/
LOCATION:Princeville Shopping Center\, Food Court
CATEGORIES:Hula,Princeville Shopping Center
ATTACH;FMTTYPE=image/jpeg:https://www.princevillecenter.com/wp-content/uploads/2022/09/hula-shows-princeville-center.jpg
END:VEVENT
BEGIN:VEVENT
DTSTART;TZID=Pacific/Honolulu:20270703T133000
DTEND;TZID=Pacific/Honolulu:20270703T143000
DTSTAMP:20260425T022553
CREATED:20250916T023840Z
LAST-MODIFIED:20250916T024007Z
UID:10000478-1814621400-1814625000@www.princevillecenter.com
SUMMARY:FREE SATURDAY HULA SHOW
DESCRIPTION:Enjoy a cultural experience like no other during our weekly Hula Show. Performers use music\, chanting\, and movement to tell the story of Kaua‘i. Aunty Bev’s Hula Halau takes the stage every Saturday from 1:30 – 2:30pm at the Food Court.
URL:https://www.princevillecenter.com/event/free-saturday-hula-shows-3-3-2/2027-07-03/
LOCATION:Princeville Shopping Center\, Food Court
CATEGORIES:Hula,Princeville Shopping Center
ATTACH;FMTTYPE=image/jpeg:https://www.princevillecenter.com/wp-content/uploads/2022/09/hula-shows-princeville-center.jpg
END:VEVENT
BEGIN:VEVENT
DTSTART;TZID=Pacific/Honolulu:20270710T133000
DTEND;TZID=Pacific/Honolulu:20270710T143000
DTSTAMP:20260425T022553
CREATED:20250916T023840Z
LAST-MODIFIED:20250916T024007Z
UID:10000479-1815226200-1815229800@www.princevillecenter.com
SUMMARY:FREE SATURDAY HULA SHOW
DESCRIPTION:Enjoy a cultural experience like no other during our weekly Hula Show. Performers use music\, chanting\, and movement to tell the story of Kaua‘i. Aunty Bev’s Hula Halau takes the stage every Saturday from 1:30 – 2:30pm at the Food Court.
URL:https://www.princevillecenter.com/event/free-saturday-hula-shows-3-3-2/2027-07-10/
LOCATION:Princeville Shopping Center\, Food Court
CATEGORIES:Hula,Princeville Shopping Center
ATTACH;FMTTYPE=image/jpeg:https://www.princevillecenter.com/wp-content/uploads/2022/09/hula-shows-princeville-center.jpg
END:VEVENT
BEGIN:VEVENT
DTSTART;TZID=Pacific/Honolulu:20270711T160000
DTEND;TZID=Pacific/Honolulu:20270711T200000
DTSTAMP:20260425T022553
CREATED:20240514T214020Z
LAST-MODIFIED:20240514T214020Z
UID:10000291-1815321600-1815336000@www.princevillecenter.com
SUMMARY:PRINCEVILLE NIGHT MARKET
DESCRIPTION:On the second Sunday of each month\, local vendors gather their unique products and culinary delights for our Night Market. Browse handmade jewelry\, soaps\, candles\, artwork\, home décor\, clothing\, and more. After shopping\, grab a bite to eat – there is cuisine from around the world!
URL:https://www.princevillecenter.com/event/princeville-night-market-3/2027-07-11/
LOCATION:Princeville Shopping Center
CATEGORIES:Market
ATTACH;FMTTYPE=image/jpeg:https://www.princevillecenter.com/wp-content/uploads/2022/09/NightMarket.jpg
END:VEVENT
BEGIN:VEVENT
DTSTART;TZID=Pacific/Honolulu:20270717T133000
DTEND;TZID=Pacific/Honolulu:20270717T143000
DTSTAMP:20260425T022553
CREATED:20250916T023840Z
LAST-MODIFIED:20250916T024007Z
UID:10000480-1815831000-1815834600@www.princevillecenter.com
SUMMARY:FREE SATURDAY HULA SHOW
DESCRIPTION:Enjoy a cultural experience like no other during our weekly Hula Show. Performers use music\, chanting\, and movement to tell the story of Kaua‘i. Aunty Bev’s Hula Halau takes the stage every Saturday from 1:30 – 2:30pm at the Food Court.
URL:https://www.princevillecenter.com/event/free-saturday-hula-shows-3-3-2/2027-07-17/
LOCATION:Princeville Shopping Center\, Food Court
CATEGORIES:Hula,Princeville Shopping Center
ATTACH;FMTTYPE=image/jpeg:https://www.princevillecenter.com/wp-content/uploads/2022/09/hula-shows-princeville-center.jpg
END:VEVENT
BEGIN:VEVENT
DTSTART;TZID=Pacific/Honolulu:20270724T133000
DTEND;TZID=Pacific/Honolulu:20270724T143000
DTSTAMP:20260425T022553
CREATED:20250916T023840Z
LAST-MODIFIED:20250916T024007Z
UID:10000481-1816435800-1816439400@www.princevillecenter.com
SUMMARY:FREE SATURDAY HULA SHOW
DESCRIPTION:Enjoy a cultural experience like no other during our weekly Hula Show. Performers use music\, chanting\, and movement to tell the story of Kaua‘i. Aunty Bev’s Hula Halau takes the stage every Saturday from 1:30 – 2:30pm at the Food Court.
URL:https://www.princevillecenter.com/event/free-saturday-hula-shows-3-3-2/2027-07-24/
LOCATION:Princeville Shopping Center\, Food Court
CATEGORIES:Hula,Princeville Shopping Center
ATTACH;FMTTYPE=image/jpeg:https://www.princevillecenter.com/wp-content/uploads/2022/09/hula-shows-princeville-center.jpg
END:VEVENT
BEGIN:VEVENT
DTSTART;TZID=Pacific/Honolulu:20270731T133000
DTEND;TZID=Pacific/Honolulu:20270731T143000
DTSTAMP:20260425T022553
CREATED:20250916T023840Z
LAST-MODIFIED:20250916T024007Z
UID:10000482-1817040600-1817044200@www.princevillecenter.com
SUMMARY:FREE SATURDAY HULA SHOW
DESCRIPTION:Enjoy a cultural experience like no other during our weekly Hula Show. Performers use music\, chanting\, and movement to tell the story of Kaua‘i. Aunty Bev’s Hula Halau takes the stage every Saturday from 1:30 – 2:30pm at the Food Court.
URL:https://www.princevillecenter.com/event/free-saturday-hula-shows-3-3-2/2027-07-31/
LOCATION:Princeville Shopping Center\, Food Court
CATEGORIES:Hula,Princeville Shopping Center
ATTACH;FMTTYPE=image/jpeg:https://www.princevillecenter.com/wp-content/uploads/2022/09/hula-shows-princeville-center.jpg
END:VEVENT
BEGIN:VEVENT
DTSTART;TZID=Pacific/Honolulu:20270807T133000
DTEND;TZID=Pacific/Honolulu:20270807T143000
DTSTAMP:20260425T022553
CREATED:20250916T023840Z
LAST-MODIFIED:20250916T024007Z
UID:10000483-1817645400-1817649000@www.princevillecenter.com
SUMMARY:FREE SATURDAY HULA SHOW
DESCRIPTION:Enjoy a cultural experience like no other during our weekly Hula Show. Performers use music\, chanting\, and movement to tell the story of Kaua‘i. Aunty Bev’s Hula Halau takes the stage every Saturday from 1:30 – 2:30pm at the Food Court.
URL:https://www.princevillecenter.com/event/free-saturday-hula-shows-3-3-2/2027-08-07/
LOCATION:Princeville Shopping Center\, Food Court
CATEGORIES:Hula,Princeville Shopping Center
ATTACH;FMTTYPE=image/jpeg:https://www.princevillecenter.com/wp-content/uploads/2022/09/hula-shows-princeville-center.jpg
END:VEVENT
END:VCALENDAR